BEGIN:VCALENDAR
VERSION:2.0
PRODID:-//Visit Pikeville - ECPv6.15.20//NONSGML v1.0//EN
CALSCALE:GREGORIAN
METHOD:PUBLISH
X-WR-CALNAME:Visit Pikeville
X-ORIGINAL-URL:https://visitpikeville.com
X-WR-CALDESC:Events for Visit Pikeville
REFRESH-INTERVAL;VALUE=DURATION:PT1H
X-Robots-Tag:noindex
X-PUBLISHED-TTL:PT1H
BEGIN:VTIMEZONE
TZID:America/Kentucky/Louisville
BEGIN:DAYLIGHT
TZOFFSETFROM:-0500
TZOFFSETTO:-0400
TZNAME:EDT
DTSTART:20240310T070000
END:DAYLIGHT
BEGIN:STANDARD
TZOFFSETFROM:-0400
TZOFFSETTO:-0500
TZNAME:EST
DTSTART:20241103T060000
END:STANDARD
BEGIN:DAYLIGHT
TZOFFSETFROM:-0500
TZOFFSETTO:-0400
TZNAME:EDT
DTSTART:20250309T070000
END:DAYLIGHT
BEGIN:STANDARD
TZOFFSETFROM:-0400
TZOFFSETTO:-0500
TZNAME:EST
DTSTART:20251102T060000
END:STANDARD
BEGIN:DAYLIGHT
TZOFFSETFROM:-0500
TZOFFSETTO:-0400
TZNAME:EDT
DTSTART:20260308T070000
END:DAYLIGHT
BEGIN:STANDARD
TZOFFSETFROM:-0400
TZOFFSETTO:-0500
TZNAME:EST
DTSTART:20261101T060000
END:STANDARD
END:VTIMEZONE
BEGIN:VEVENT
DTSTART;VALUE=DATE:20250616
DTEND;VALUE=DATE:20250906
DTSTAMP:20260422T074143
CREATED:20250616T123825Z
LAST-MODIFIED:20250616T123825Z
UID:65211-1750032000-1757116799@visitpikeville.com
SUMMARY:Friends of Kentucky Agriculture Specialty License Plate Contest
DESCRIPTION:WIN $500!\n\n\nThe Kentucky Department of Agriculture is excited to launch the Friends of Kentucky Agriculture Specialty License Plate Contest with Kentucky 4-H and Kentucky FFA Association. This contest is open to current 4-H and FFA members or any student interested in agriculture!\n\n\nSubmit your original photography\, digital\, or hand-drawn artwork that includes the 4-H\, FFA\, and Kentucky Proud logos.\n\n\n Deadline: September 5\, 2025\n $500 cash prize to the winning design!\n Enter at kyagr.com/agfriends\n\n\nThis brand new plate will be available to all Kentucky drivers who want to show their support for agriculture\, not just production farmers. Proceeds will benefit 4-H\, FFA\, and Kentucky Proud programs across the state.\n\n\nThe current Farm License Plate will still be available for eligible farmers\, and we encourage continued renewal of that plate! The new Friends of KY Agriculture plate is an exciting option for Kentuckians who are proud to support the future of ag. We are excited to roll out the new Friends of Ag plate in 2026!
URL:https://visitpikeville.com/event/friends-of-kentucky-agriculture-specialty-license-plate-contest/
LOCATION:Online Event\, Pikeville\, KY\, 41501\, United States
CATEGORIES:Other
ATTACH;FMTTYPE=image/jpeg:https://visitpikeville.com/wp-content/uploads/2025/06/plate.jpg
END:VEVENT
BEGIN:VEVENT
DTSTART;TZID=America/Kentucky/Louisville:20250726T080000
DTEND;TZID=America/Kentucky/Louisville:20250726T120000
DTSTAMP:20260422T074143
CREATED:20250707T143313Z
LAST-MODIFIED:20250707T143313Z
UID:65703-1753516800-1753531200@visitpikeville.com
SUMMARY:Rural King Farmers Market & Sidewalk Sale
DESCRIPTION:Support Local. Shop Fresh. Save Big.Join us at your local Rural King on Saturday\, July 26th\, from 8 AM – 12 PM for our Farmers Market\, featuring homemade\, homegrown\, and all-local goods from vendors in our community!What to Expect: Local produce\, handmade goods\, baked treats & more A chance to support your neighbors and discover new favorites Our Sidewalk Sale happening at the same time — with extreme deals on apparel\, outdoor living\, pools\, and more! Interested in becoming a vendor?Stop by the Customer Service Desk at your local Rural King to sign up. Deadline to register is Thursday\, July 18th — all local makers\, bakers\, and growers welcome!Mark your calendar\, bring the whole family\, and let’s make it a morning to remember.
URL:https://visitpikeville.com/event/rural-king-farmers-market-sidewalk-sale/
LOCATION:Rural King\, 3889 N Mayo Trail\,\, Pikeville\, KY\, 41501\, United States
CATEGORIES:Other
ATTACH;FMTTYPE=image/jpeg:https://visitpikeville.com/wp-content/uploads/2025/07/rural.jpg
END:VEVENT
BEGIN:VEVENT
DTSTART;TZID=America/Kentucky/Louisville:20250726T080000
DTEND;TZID=America/Kentucky/Louisville:20250726T170000
DTSTAMP:20260422T074143
CREATED:20250707T131727Z
LAST-MODIFIED:20250707T131727Z
UID:65669-1753516800-1753549200@visitpikeville.com
SUMMARY:Community Hike
DESCRIPTION:@ Peach Orchard and Bluechip Trails
URL:https://visitpikeville.com/event/community-hike/
LOCATION:Bob Amos Park\, 424 Bob Amos Dr\, Pikeville\, Ky\, 41501
CATEGORIES:Other
END:VEVENT
BEGIN:VEVENT
DTSTART;TZID=America/Kentucky/Louisville:20250726T150000
DTEND;TZID=America/Kentucky/Louisville:20250726T170000
DTSTAMP:20260422T074143
CREATED:20250721T114903Z
LAST-MODIFIED:20250721T114903Z
UID:66173-1753542000-1753549200@visitpikeville.com
SUMMARY:Fun Saturday
DESCRIPTION:Pick your painting and reserve. Be sure to PRIVATE MESSAGE to reserve your spots.
URL:https://visitpikeville.com/event/fun-saturday-3/
LOCATION:2 Broke Art Teachers\, 4505 Weddington Square\,\, Pikeville\, KY\, 41501\, United States
CATEGORIES:Other
ATTACH;FMTTYPE=image/jpeg:https://visitpikeville.com/wp-content/uploads/2025/07/fun-saturday.jpg
END:VEVENT
BEGIN:VEVENT
DTSTART;TZID=America/Kentucky/Louisville:20250726T170000
DTEND;TZID=America/Kentucky/Louisville:20250726T220000
DTSTAMP:20260422T074143
CREATED:20250707T132504Z
LAST-MODIFIED:20250707T132504Z
UID:65671-1753549200-1753567200@visitpikeville.com
SUMMARY:Rockin A Rodeo
DESCRIPTION: Get Ready for the Wildest Ride in Town! Event #3 – Rockin A Rodeo Returns July 26\, 2025!Mark your calendars and hold on tight — it’s time for another action-packed night of bull riding\, Mutton busting and edge-of-your-seat excitement at the rodeo!  Want to win 4 FREE admission tickets?It’s easy: LIKE this post SHARE with your friends COMMENT below and tag who you’re bringing! Winner will be drawn on July 24\, 2025 – don’t miss your chance!Whether you’re a cowboy at heart or just in it for the thrills\, Event #3 is one you won’t want to miss.#Rodeo2025 #HoldOnTight #RodeoReady #WinTickets #CowboyLife
URL:https://visitpikeville.com/event/rockin-a-rodeo-3/
LOCATION:Rockin’ A Ranch\, 3381 KY-194\,\, Pikeville\, KY\, 41501\, United States
CATEGORIES:Other
ATTACH;FMTTYPE=image/jpeg:https://visitpikeville.com/wp-content/uploads/2025/07/rodeo.jpg
END:VEVENT
BEGIN:VEVENT
DTSTART;TZID=America/Kentucky/Louisville:20250726T190000
DTEND;TZID=America/Kentucky/Louisville:20250726T210000
DTSTAMP:20260422T074143
CREATED:20250721T115147Z
LAST-MODIFIED:20250721T115147Z
UID:66176-1753556400-1753563600@visitpikeville.com
SUMMARY:Sassy Kitty
DESCRIPTION:Lots of request wanting to paint this kitty wearing a bonnet. Join us by sending a Private Message to reserve your spots.
URL:https://visitpikeville.com/event/sassy-kitty/
LOCATION:2 Broke Art Teachers\, 4505 Weddington Square\,\, Pikeville\, KY\, 41501\, United States
CATEGORIES:Other
ATTACH;FMTTYPE=image/jpeg:https://visitpikeville.com/wp-content/uploads/2025/07/sassy-kitty.jpg
END:VEVENT
BEGIN:VEVENT
DTSTART;TZID=America/Kentucky/Louisville:20250726T193000
DTEND;TZID=America/Kentucky/Louisville:20250726T220000
DTSTAMP:20260422T074143
CREATED:20250707T141257Z
LAST-MODIFIED:20250707T141257Z
UID:65684-1753558200-1753567200@visitpikeville.com
SUMMARY:Exit 23
DESCRIPTION:@ Pearse’s Place
URL:https://visitpikeville.com/event/exit-23-2/
LOCATION:Pearse’s Place\, 224 2nd St\,\, Pikeville\, KY\, 41501\, United States
CATEGORIES:Other
ATTACH;FMTTYPE=image/jpeg:https://visitpikeville.com/wp-content/uploads/2025/07/exit23.jpg
END:VEVENT
BEGIN:VEVENT
DTSTART;TZID=America/Kentucky/Louisville:20250726T193000
DTEND;TZID=America/Kentucky/Louisville:20250726T223000
DTSTAMP:20260422T074143
CREATED:20250707T130511Z
LAST-MODIFIED:20250714T141721Z
UID:65660-1753558200-1753569000@visitpikeville.com
SUMMARY:Live Music at Bank 253
DESCRIPTION:Brittany Mullins \n7:30 – 10:30 pm
URL:https://visitpikeville.com/event/live-music-at-bank-253-3-2-2-2-2-2-2-2-2-2-2-2-2-2-2-2-2-2-2-2-2-2-2-2-2-2-2-2-2-2/
LOCATION:Bank 253\, 253 2nd St\,\, Pikeville\, KY\, 41501\, United States
CATEGORIES:Other
ATTACH;FMTTYPE=image/jpeg:https://visitpikeville.com/wp-content/uploads/2025/02/bank253.jpg
END:VEVENT
END:VCALENDAR