BEGIN:VCALENDAR
VERSION:2.0
PRODID:-//Visit Pikeville - ECPv6.15.20//NONSGML v1.0//EN
CALSCALE:GREGORIAN
METHOD:PUBLISH
X-ORIGINAL-URL:https://visitpikeville.com
X-WR-CALDESC:Events for Visit Pikeville
REFRESH-INTERVAL;VALUE=DURATION:PT1H
X-Robots-Tag:noindex
X-PUBLISHED-TTL:PT1H
BEGIN:VTIMEZONE
TZID:America/Kentucky/Louisville
BEGIN:DAYLIGHT
TZOFFSETFROM:-0500
TZOFFSETTO:-0400
TZNAME:EDT
DTSTART:20240310T070000
END:DAYLIGHT
BEGIN:STANDARD
TZOFFSETFROM:-0400
TZOFFSETTO:-0500
TZNAME:EST
DTSTART:20241103T060000
END:STANDARD
BEGIN:DAYLIGHT
TZOFFSETFROM:-0500
TZOFFSETTO:-0400
TZNAME:EDT
DTSTART:20250309T070000
END:DAYLIGHT
BEGIN:STANDARD
TZOFFSETFROM:-0400
TZOFFSETTO:-0500
TZNAME:EST
DTSTART:20251102T060000
END:STANDARD
BEGIN:DAYLIGHT
TZOFFSETFROM:-0500
TZOFFSETTO:-0400
TZNAME:EDT
DTSTART:20260308T070000
END:DAYLIGHT
BEGIN:STANDARD
TZOFFSETFROM:-0400
TZOFFSETTO:-0500
TZNAME:EST
DTSTART:20261101T060000
END:STANDARD
END:VTIMEZONE
BEGIN:VEVENT
DTSTART;VALUE=DATE:20250616
DTEND;VALUE=DATE:20250906
DTSTAMP:20260422T090506
CREATED:20250616T123825Z
LAST-MODIFIED:20250616T123825Z
UID:65211-1750032000-1757116799@visitpikeville.com
SUMMARY:Friends of Kentucky Agriculture Specialty License Plate Contest
DESCRIPTION:WIN $500!\n\n\nThe Kentucky Department of Agriculture is excited to launch the Friends of Kentucky Agriculture Specialty License Plate Contest with Kentucky 4-H and Kentucky FFA Association. This contest is open to current 4-H and FFA members or any student interested in agriculture!\n\n\nSubmit your original photography\, digital\, or hand-drawn artwork that includes the 4-H\, FFA\, and Kentucky Proud logos.\n\n\n Deadline: September 5\, 2025\n $500 cash prize to the winning design!\n Enter at kyagr.com/agfriends\n\n\nThis brand new plate will be available to all Kentucky drivers who want to show their support for agriculture\, not just production farmers. Proceeds will benefit 4-H\, FFA\, and Kentucky Proud programs across the state.\n\n\nThe current Farm License Plate will still be available for eligible farmers\, and we encourage continued renewal of that plate! The new Friends of KY Agriculture plate is an exciting option for Kentuckians who are proud to support the future of ag. We are excited to roll out the new Friends of Ag plate in 2026!
URL:https://visitpikeville.com/event/friends-of-kentucky-agriculture-specialty-license-plate-contest/
LOCATION:Online Event\, Pikeville\, KY\, 41501\, United States
CATEGORIES:Other
ATTACH;FMTTYPE=image/jpeg:https://visitpikeville.com/wp-content/uploads/2025/06/plate.jpg
END:VEVENT
BEGIN:VEVENT
DTSTART;TZID=America/Kentucky/Louisville:20250712T080000
DTEND;TZID=America/Kentucky/Louisville:20250712T170000
DTSTAMP:20260422T090506
CREATED:20250707T123420Z
LAST-MODIFIED:20250707T123420Z
UID:65644-1752307200-1752339600@visitpikeville.com
SUMMARY:PHS Cheer Pickleball Tournament
DESCRIPTION:@Bob Amos
URL:https://visitpikeville.com/event/phs-cheer-pickleball-tournament/
LOCATION:Bob Amos Park\, 424 Bob Amos Dr\, Pikeville\, Ky\, 41501
CATEGORIES:Other
ATTACH;FMTTYPE=image/jpeg:https://visitpikeville.com/wp-content/uploads/2025/07/phs-cheer.jpg
END:VEVENT
BEGIN:VEVENT
DTSTART;TZID=America/Kentucky/Louisville:20250712T190000
DTEND;TZID=America/Kentucky/Louisville:20250712T220000
DTSTAMP:20260422T090506
CREATED:20250707T142316Z
LAST-MODIFIED:20250707T142316Z
UID:65696-1752346800-1752357600@visitpikeville.com
SUMMARY:Fun Saturday
DESCRIPTION:Some classics & some new designs. Private message to reserve.2 Broke Art Teachers
URL:https://visitpikeville.com/event/fun-saturday-2/
LOCATION:2 Broke Art Teachers\, 4505 Weddington Square\,\, Pikeville\, KY\, 41501\, United States
CATEGORIES:Other
ATTACH;FMTTYPE=image/jpeg:https://visitpikeville.com/wp-content/uploads/2025/07/funsaturday.jpg
END:VEVENT
BEGIN:VEVENT
DTSTART;TZID=America/Kentucky/Louisville:20250712T193000
DTEND;TZID=America/Kentucky/Louisville:20250712T223000
DTSTAMP:20260422T090506
CREATED:20250707T123020Z
LAST-MODIFIED:20250707T123020Z
UID:65641-1752348600-1752359400@visitpikeville.com
SUMMARY:Live Music at Bank 253
DESCRIPTION:7:30 – 10:30 pm
URL:https://visitpikeville.com/event/live-music-at-bank-253-3-2-2-2-2-2-2-2-2-2-2-2-2-2-2-2-2-2-2-2-2-2-2-2-2-2/
LOCATION:Bank 253\, 253 2nd St\,\, Pikeville\, KY\, 41501\, United States
CATEGORIES:Other
ATTACH;FMTTYPE=image/jpeg:https://visitpikeville.com/wp-content/uploads/2025/02/bank253.jpg
END:VEVENT
END:VCALENDAR