BEGIN:VCALENDAR
VERSION:2.0
PRODID:-//Visit Pikeville - ECPv6.15.20//NONSGML v1.0//EN
CALSCALE:GREGORIAN
METHOD:PUBLISH
X-WR-CALNAME:Visit Pikeville
X-ORIGINAL-URL:https://visitpikeville.com
X-WR-CALDESC:Events for Visit Pikeville
REFRESH-INTERVAL;VALUE=DURATION:PT1H
X-Robots-Tag:noindex
X-PUBLISHED-TTL:PT1H
BEGIN:VTIMEZONE
TZID:America/Kentucky/Louisville
BEGIN:DAYLIGHT
TZOFFSETFROM:-0500
TZOFFSETTO:-0400
TZNAME:EDT
DTSTART:20240310T070000
END:DAYLIGHT
BEGIN:STANDARD
TZOFFSETFROM:-0400
TZOFFSETTO:-0500
TZNAME:EST
DTSTART:20241103T060000
END:STANDARD
BEGIN:DAYLIGHT
TZOFFSETFROM:-0500
TZOFFSETTO:-0400
TZNAME:EDT
DTSTART:20250309T070000
END:DAYLIGHT
BEGIN:STANDARD
TZOFFSETFROM:-0400
TZOFFSETTO:-0500
TZNAME:EST
DTSTART:20251102T060000
END:STANDARD
BEGIN:DAYLIGHT
TZOFFSETFROM:-0500
TZOFFSETTO:-0400
TZNAME:EDT
DTSTART:20260308T070000
END:DAYLIGHT
BEGIN:STANDARD
TZOFFSETFROM:-0400
TZOFFSETTO:-0500
TZNAME:EST
DTSTART:20261101T060000
END:STANDARD
END:VTIMEZONE
BEGIN:VEVENT
DTSTART;TZID=America/Kentucky/Louisville:20250419T130000
DTEND;TZID=America/Kentucky/Louisville:20250419T150000
DTSTAMP:20260424T072036
CREATED:20250414T130351Z
LAST-MODIFIED:20250414T130351Z
UID:63913-1745067600-1745074800@visitpikeville.com
SUMMARY:Hug me Stitch
DESCRIPTION:This painting is for kids and adults. Unlock your creativity\, sign up now!
URL:https://visitpikeville.com/event/hug-me-stitch/
LOCATION:2 Broke Art Teachers\, 4505 Weddington Square\,\, Pikeville\, KY\, 41501\, United States
CATEGORIES:Other
ATTACH;FMTTYPE=image/jpeg:https://visitpikeville.com/wp-content/uploads/2025/04/kids-paint.jpg
END:VEVENT
BEGIN:VEVENT
DTSTART;TZID=America/Kentucky/Louisville:20250419T170000
DTEND;TZID=America/Kentucky/Louisville:20250419T190000
DTSTAMP:20260424T072036
CREATED:20250414T130147Z
LAST-MODIFIED:20250414T130147Z
UID:63910-1745082000-1745089200@visitpikeville.com
SUMMARY:Gertie
DESCRIPTION:Reflect on where you will showcase Miss Gertie following a fun and creative painting session with friends and family. Join us for a relaxing evening. Secure your spot today.
URL:https://visitpikeville.com/event/gertie/
LOCATION:2 Broke Art Teachers\, 4505 Weddington Square\,\, Pikeville\, KY\, 41501\, United States
CATEGORIES:Other
ATTACH;FMTTYPE=image/jpeg:https://visitpikeville.com/wp-content/uploads/2025/04/gertie.jpg
END:VEVENT
BEGIN:VEVENT
DTSTART;TZID=America/Kentucky/Louisville:20250419T193000
DTEND;TZID=America/Kentucky/Louisville:20250419T223000
DTSTAMP:20260424T072036
CREATED:20250407T211618Z
LAST-MODIFIED:20250407T211618Z
UID:63819-1745091000-1745101800@visitpikeville.com
SUMMARY:Live Music at Bank 253
DESCRIPTION:Julia Still Live \n7:30 – 10:30 pm
URL:https://visitpikeville.com/event/live-music-at-bank-253-3-2-2-2-2-2-2-2-2-2/
LOCATION:Bank 253\, 253 2nd St\,\, Pikeville\, KY\, 41501\, United States
CATEGORIES:Other
ATTACH;FMTTYPE=image/jpeg:https://visitpikeville.com/wp-content/uploads/2025/02/bank253.jpg
END:VEVENT
END:VCALENDAR