BEGIN:VCALENDAR
VERSION:2.0
PRODID:-//Visit Pikeville - ECPv6.15.20//NONSGML v1.0//EN
CALSCALE:GREGORIAN
METHOD:PUBLISH
X-ORIGINAL-URL:https://visitpikeville.com
X-WR-CALDESC:Events for Visit Pikeville
REFRESH-INTERVAL;VALUE=DURATION:PT1H
X-Robots-Tag:noindex
X-PUBLISHED-TTL:PT1H
BEGIN:VTIMEZONE
TZID:America/Kentucky/Louisville
BEGIN:DAYLIGHT
TZOFFSETFROM:-0500
TZOFFSETTO:-0400
TZNAME:EDT
DTSTART:20240310T070000
END:DAYLIGHT
BEGIN:STANDARD
TZOFFSETFROM:-0400
TZOFFSETTO:-0500
TZNAME:EST
DTSTART:20241103T060000
END:STANDARD
BEGIN:DAYLIGHT
TZOFFSETFROM:-0500
TZOFFSETTO:-0400
TZNAME:EDT
DTSTART:20250309T070000
END:DAYLIGHT
BEGIN:STANDARD
TZOFFSETFROM:-0400
TZOFFSETTO:-0500
TZNAME:EST
DTSTART:20251102T060000
END:STANDARD
BEGIN:DAYLIGHT
TZOFFSETFROM:-0500
TZOFFSETTO:-0400
TZNAME:EDT
DTSTART:20260308T070000
END:DAYLIGHT
BEGIN:STANDARD
TZOFFSETFROM:-0400
TZOFFSETTO:-0500
TZNAME:EST
DTSTART:20261101T060000
END:STANDARD
END:VTIMEZONE
BEGIN:VEVENT
DTSTART;TZID=America/Kentucky/Louisville:20250307T173000
DTEND;TZID=America/Kentucky/Louisville:20250307T183000
DTSTAMP:20260424T104251
CREATED:20250303T160338Z
LAST-MODIFIED:20250303T160338Z
UID:63290-1741368600-1741372200@visitpikeville.com
SUMMARY:Spring Break
DESCRIPTION:$30
URL:https://visitpikeville.com/event/spring-break/
LOCATION:2 Broke Art Teachers\, 4505 Weddington Square\,\, Pikeville\, KY\, 41501\, United States
CATEGORIES:Other
ATTACH;FMTTYPE=image/jpeg:https://visitpikeville.com/wp-content/uploads/2025/03/spring-break.jpg
END:VEVENT
BEGIN:VEVENT
DTSTART;TZID=America/Kentucky/Louisville:20250307T193000
DTEND;TZID=America/Kentucky/Louisville:20250307T220000
DTSTAMP:20260424T104251
CREATED:20250113T141937Z
LAST-MODIFIED:20250113T141937Z
UID:61992-1741375800-1741384800@visitpikeville.com
SUMMARY:A DOLL'S HOUSE
DESCRIPTION:Artists Collaborative Theatre Presents: A DOLL’S HOUSE by Henrik Ibsen\, Translated by Amy Herzog\nTickets: $12.00\nSynopsis: Ibsen’s celebrated play thrust drama firmly into the modern age when it premiered in 1879. Now\, nearly 150 years later\, acclaimed playwright Amy Herzog makes freshly relevant a story that shocked audiences and brought forth a new era of theatre. The play follows the story of Nora\, a young wife and mother\, who appears to have a perfect life with her husband Torvald. However\, Nora has been keeping a secret from her husband that threatens to unravel her entire world.\nAll performances will be held at Pikeville High School
URL:https://visitpikeville.com/event/a-dolls-house/
LOCATION:Pikeville High School\, 120 Championship Dr\,\, Pikeville\, KY\, 41501\, United States
CATEGORIES:Other
ATTACH;FMTTYPE=image/jpeg:https://visitpikeville.com/wp-content/uploads/2025/01/a-dolls-house.jpg
END:VEVENT
END:VCALENDAR