BEGIN:VCALENDAR
VERSION:2.0
PRODID:-//Visit Pikeville - ECPv6.15.20//NONSGML v1.0//EN
CALSCALE:GREGORIAN
METHOD:PUBLISH
X-ORIGINAL-URL:https://visitpikeville.com
X-WR-CALDESC:Events for Visit Pikeville
REFRESH-INTERVAL;VALUE=DURATION:PT1H
X-Robots-Tag:noindex
X-PUBLISHED-TTL:PT1H
BEGIN:VTIMEZONE
TZID:America/Kentucky/Louisville
BEGIN:DAYLIGHT
TZOFFSETFROM:-0500
TZOFFSETTO:-0400
TZNAME:EDT
DTSTART:20240310T070000
END:DAYLIGHT
BEGIN:STANDARD
TZOFFSETFROM:-0400
TZOFFSETTO:-0500
TZNAME:EST
DTSTART:20241103T060000
END:STANDARD
BEGIN:DAYLIGHT
TZOFFSETFROM:-0500
TZOFFSETTO:-0400
TZNAME:EDT
DTSTART:20250309T070000
END:DAYLIGHT
BEGIN:STANDARD
TZOFFSETFROM:-0400
TZOFFSETTO:-0500
TZNAME:EST
DTSTART:20251102T060000
END:STANDARD
BEGIN:DAYLIGHT
TZOFFSETFROM:-0500
TZOFFSETTO:-0400
TZNAME:EDT
DTSTART:20260308T070000
END:DAYLIGHT
BEGIN:STANDARD
TZOFFSETFROM:-0400
TZOFFSETTO:-0500
TZNAME:EST
DTSTART:20261101T060000
END:STANDARD
END:VTIMEZONE
BEGIN:VEVENT
DTSTART;TZID=America/Kentucky/Louisville:20250226T113000
DTEND;TZID=America/Kentucky/Louisville:20250226T163000
DTSTAMP:20260424T104224
CREATED:20250226T143937Z
LAST-MODIFIED:20250226T143937Z
UID:63052-1740569400-1740587400@visitpikeville.com
SUMMARY:Operation BBQ Relief
DESCRIPTION:FREE MEAL DISTRIBUTION TODAY! \n\n\n Date: Wednesday\, Feb. 26\, 2025\n Double-check the location and time before heading out.\n Locations change daily\, so stay updated!\n\n\nOperation BBQ Relief\, a nonprofit founded by Kansas City pitmasters in 2011\, feeds communities after disasters and enriches heroes’ lives every day. In 13 years\, we’ve provided nearly 13 million meals to communities far and wide.\n\n\nHow can you help us feed more people?\n\n\n Donate below! $25.00 provides 4 meals\n Register to volunteer or learn more at OBR.org\n Follow us on social media and share our posts\n\n\n TODAY’S FREE BBQ SITES AND TIMES \n\n\n Location 1: WE ARE SERVING INSIDE AT THIS LOCATION\nWalmart\n254 Cassady Blvd\nPikeville\, KY 41501\n 11:30 a.m. EST until supplies run out\n 4:30 p.m. EST until supplies run out\n\n\n Location 2:\nWalmart\n28402 US-119\nSouth Williamson\, KY\n Noon EST until supplies run out\n\n\nThe state of Virginia will be distributing Operation BBQ Relief meals at the following locations:\n\n\n Location 3:\nSlate Creek Fire Department\n10087 State Creek Road\nGrundy\, VA 24614\n Noon until 2 p.m.\n\n\n Location 4:\nGrundy Volunteer Fire Department\n23824 Riverside Drive\nGrundy\, VA 24614\n Noon until 2 p.m.\n\n\n Location 5:\nPrater Fire and Rescue\n1028 Kildeer Lane\nGrundy\, VA 24614\n Noon until 2 p.m.\n\n\n#OperationBBQRelief #Kentucky #WestVirginia #Virginia #FloodRelief
URL:https://visitpikeville.com/event/operation-bbq-relief/
LOCATION:Pikeville Walmart Supercenter\, 254 Cassady Blvd\,\, Pikeville\, KY\, 41501\, United States
CATEGORIES:Other
ATTACH;FMTTYPE=image/jpeg:https://visitpikeville.com/wp-content/uploads/2025/02/bbq.jpg
END:VEVENT
BEGIN:VEVENT
DTSTART;TZID=America/Kentucky/Louisville:20250226T190000
DTEND;TZID=America/Kentucky/Louisville:20250226T210000
DTSTAMP:20260424T104224
CREATED:20250210T162338Z
LAST-MODIFIED:20250210T162338Z
UID:62790-1740596400-1740603600@visitpikeville.com
SUMMARY:Open Mic
DESCRIPTION:Hosted by Johnny Pop Day
URL:https://visitpikeville.com/event/open-mic-3-2-2/
LOCATION:Pearse’s Place\, 224 2nd St\,\, Pikeville\, KY\, 41501\, United States
CATEGORIES:Other
ATTACH;FMTTYPE=image/jpeg:https://visitpikeville.com/wp-content/uploads/2025/02/open-mc.jpg
END:VEVENT
END:VCALENDAR