BEGIN:VCALENDAR
VERSION:2.0
PRODID:-//Visit Pikeville - ECPv6.15.20//NONSGML v1.0//EN
CALSCALE:GREGORIAN
METHOD:PUBLISH
X-WR-CALNAME:Visit Pikeville
X-ORIGINAL-URL:https://visitpikeville.com
X-WR-CALDESC:Events for Visit Pikeville
REFRESH-INTERVAL;VALUE=DURATION:PT1H
X-Robots-Tag:noindex
X-PUBLISHED-TTL:PT1H
BEGIN:VTIMEZONE
TZID:America/Kentucky/Louisville
BEGIN:DAYLIGHT
TZOFFSETFROM:-0500
TZOFFSETTO:-0400
TZNAME:EDT
DTSTART:20240310T070000
END:DAYLIGHT
BEGIN:STANDARD
TZOFFSETFROM:-0400
TZOFFSETTO:-0500
TZNAME:EST
DTSTART:20241103T060000
END:STANDARD
BEGIN:DAYLIGHT
TZOFFSETFROM:-0500
TZOFFSETTO:-0400
TZNAME:EDT
DTSTART:20250309T070000
END:DAYLIGHT
BEGIN:STANDARD
TZOFFSETFROM:-0400
TZOFFSETTO:-0500
TZNAME:EST
DTSTART:20251102T060000
END:STANDARD
BEGIN:DAYLIGHT
TZOFFSETFROM:-0500
TZOFFSETTO:-0400
TZNAME:EDT
DTSTART:20260308T070000
END:DAYLIGHT
BEGIN:STANDARD
TZOFFSETFROM:-0400
TZOFFSETTO:-0500
TZNAME:EST
DTSTART:20261101T060000
END:STANDARD
END:VTIMEZONE
BEGIN:VEVENT
DTSTART;TZID=America/Kentucky/Louisville:20250212T110000
DTEND;TZID=America/Kentucky/Louisville:20250212T115000
DTSTAMP:20260424T134041
CREATED:20250210T163608Z
LAST-MODIFIED:20250210T163608Z
UID:62800-1739358000-1739361000@visitpikeville.com
SUMMARY:SOAR Innovation: Inspirational Speaker Series
DESCRIPTION:Date: Wednesday\, February 12\, 2025Location: Booth Auditorium\, University of PikevilleTime: 11:00 AM – 11:50 AMCost: Free\nReserve Your Spot Today!\nDon’t miss this chance to be inspired\, get connected\, and take action. Secure your seat for this free event and be part of the movement shaping the future of entrepreneurship in Eastern Kentucky.
URL:https://visitpikeville.com/event/soar-innovation-inspirational-speaker-series/
LOCATION:Record Memorial & Booth Auditorium\, 147 Sycamore Street\,\, KY\, 41501\, United States
CATEGORIES:Other
ATTACH;FMTTYPE=image/jpeg:https://visitpikeville.com/wp-content/uploads/2025/02/speaker.jpg
END:VEVENT
BEGIN:VEVENT
DTSTART;TZID=America/Kentucky/Louisville:20250212T190000
DTEND;TZID=America/Kentucky/Louisville:20250212T210000
DTSTAMP:20260424T134041
CREATED:20250210T162157Z
LAST-MODIFIED:20250210T162157Z
UID:62785-1739386800-1739394000@visitpikeville.com
SUMMARY:Open Mic
DESCRIPTION:Hosted by Johnny Pop Day
URL:https://visitpikeville.com/event/open-mic-3/
LOCATION:Pearse’s Place\, 224 2nd St\,\, Pikeville\, KY\, 41501\, United States
CATEGORIES:Other
ATTACH;FMTTYPE=image/jpeg:https://visitpikeville.com/wp-content/uploads/2025/02/open-mc.jpg
END:VEVENT
END:VCALENDAR