BEGIN:VCALENDAR
VERSION:2.0
PRODID:-//Visit Pikeville - ECPv6.15.20//NONSGML v1.0//EN
CALSCALE:GREGORIAN
METHOD:PUBLISH
X-ORIGINAL-URL:https://visitpikeville.com
X-WR-CALDESC:Events for Visit Pikeville
REFRESH-INTERVAL;VALUE=DURATION:PT1H
X-Robots-Tag:noindex
X-PUBLISHED-TTL:PT1H
BEGIN:VTIMEZONE
TZID:America/Kentucky/Louisville
BEGIN:DAYLIGHT
TZOFFSETFROM:-0500
TZOFFSETTO:-0400
TZNAME:EDT
DTSTART:20230312T070000
END:DAYLIGHT
BEGIN:STANDARD
TZOFFSETFROM:-0400
TZOFFSETTO:-0500
TZNAME:EST
DTSTART:20231105T060000
END:STANDARD
BEGIN:DAYLIGHT
TZOFFSETFROM:-0500
TZOFFSETTO:-0400
TZNAME:EDT
DTSTART:20240310T070000
END:DAYLIGHT
BEGIN:STANDARD
TZOFFSETFROM:-0400
TZOFFSETTO:-0500
TZNAME:EST
DTSTART:20241103T060000
END:STANDARD
BEGIN:DAYLIGHT
TZOFFSETFROM:-0500
TZOFFSETTO:-0400
TZNAME:EDT
DTSTART:20250309T070000
END:DAYLIGHT
BEGIN:STANDARD
TZOFFSETFROM:-0400
TZOFFSETTO:-0500
TZNAME:EST
DTSTART:20251102T060000
END:STANDARD
END:VTIMEZONE
BEGIN:VEVENT
DTSTART;TZID=America/Kentucky/Louisville:20241214T110000
DTEND;TZID=America/Kentucky/Louisville:20241214T130000
DTSTAMP:20260424T150056
CREATED:20241209T155205Z
LAST-MODIFIED:20241209T155205Z
UID:60720-1734174000-1734181200@visitpikeville.com
SUMMARY:Painting Class
DESCRIPTION:11″ x 14″ Stretched canvas
URL:https://visitpikeville.com/event/painting-class-2/
LOCATION:2 Broke Art Teachers\, 4505 Weddington Square\,\, Pikeville\, KY\, 41501\, United States
CATEGORIES:Other
ATTACH;FMTTYPE=image/jpeg:https://visitpikeville.com/wp-content/uploads/2024/12/santa.jpg
END:VEVENT
BEGIN:VEVENT
DTSTART;TZID=America/Kentucky/Louisville:20241214T120000
DTEND;TZID=America/Kentucky/Louisville:20241214T160000
DTSTAMP:20260424T150056
CREATED:20241202T135325Z
LAST-MODIFIED:20241202T135325Z
UID:60380-1734177600-1734192000@visitpikeville.com
SUMMARY:Christmas pictures with Santa
DESCRIPTION:Join us for Christmas pictures with Santa at a FREE event hosted by Aaron’s of Pikeville.
URL:https://visitpikeville.com/event/christmas-pictures-with-santa/
LOCATION:Aaron’s Inc.\, 133 Cassidy St.\,\, Pikeville\, KY\, 41501\, United States
CATEGORIES:Other
ATTACH;FMTTYPE=image/jpeg:https://visitpikeville.com/wp-content/uploads/2024/12/pics-santa.jpg
END:VEVENT
BEGIN:VEVENT
DTSTART;TZID=America/Kentucky/Louisville:20241214T130000
DTEND;TZID=America/Kentucky/Louisville:20241214T160000
DTSTAMP:20260424T150056
CREATED:20241125T141308Z
LAST-MODIFIED:20241125T141308Z
UID:60135-1734181200-1734192000@visitpikeville.com
SUMMARY:Santa & Grinch Meet & Greet
DESCRIPTION:Free Photos
URL:https://visitpikeville.com/event/santa-grinch-meet-greet/
LOCATION:MineShaft Harley-Davidson\, 114 Harley Dr\, Pikeville\, KY\, 41501
CATEGORIES:Other
ATTACH;FMTTYPE=image/jpeg:https://visitpikeville.com/wp-content/uploads/2024/11/santagrinch.jpg
END:VEVENT
BEGIN:VEVENT
DTSTART;TZID=America/Kentucky/Louisville:20241214T190000
DTEND;TZID=America/Kentucky/Louisville:20241214T210000
DTSTAMP:20260424T150056
CREATED:20241209T154942Z
LAST-MODIFIED:20241209T154942Z
UID:60717-1734202800-1734210000@visitpikeville.com
SUMMARY:Christmas Vacation
DESCRIPTION:$30
URL:https://visitpikeville.com/event/christmas-vacation/
LOCATION:2 Broke Art Teachers\, 4505 Weddington Square\,\, Pikeville\, KY\, 41501\, United States
CATEGORIES:Other
ATTACH;FMTTYPE=image/jpeg:https://visitpikeville.com/wp-content/uploads/2024/12/vacation.jpg
END:VEVENT
BEGIN:VEVENT
DTSTART;TZID=America/Kentucky/Louisville:20241214T193000
DTEND;TZID=America/Kentucky/Louisville:20241214T213000
DTSTAMP:20260424T150056
CREATED:20241209T145137Z
LAST-MODIFIED:20241209T145137Z
UID:60682-1734204600-1734211800@visitpikeville.com
SUMMARY:Live Music at Bank 253
DESCRIPTION:@ Bank 253
URL:https://visitpikeville.com/event/live-music-at-bank-253-2-2-2-2-3-2/
LOCATION:Ky
CATEGORIES:Other
ATTACH;FMTTYPE=image/jpeg:https://visitpikeville.com/wp-content/uploads/2024/10/bank-253.jpg
END:VEVENT
BEGIN:VEVENT
DTSTART;TZID=America/Kentucky/Louisville:20241214T200000
DTEND;TZID=America/Kentucky/Louisville:20241214T220000
DTSTAMP:20260424T150056
CREATED:20241209T144715Z
LAST-MODIFIED:20241209T144715Z
UID:60676-1734206400-1734213600@visitpikeville.com
SUMMARY:Them Dirty Vandals
DESCRIPTION:@ Pearse’s Place
URL:https://visitpikeville.com/event/them-dirty-vandals-2/
LOCATION:Pearse’s Place\, 224 2nd St\,\, Pikeville\, KY\, 41501\, United States
CATEGORIES:Other
ATTACH;FMTTYPE=image/jpeg:https://visitpikeville.com/wp-content/uploads/2024/12/DIRTY.jpg
END:VEVENT
END:VCALENDAR