BEGIN:VCALENDAR
VERSION:2.0
PRODID:-//Visit Pikeville - ECPv6.15.20//NONSGML v1.0//EN
CALSCALE:GREGORIAN
METHOD:PUBLISH
X-WR-CALNAME:Visit Pikeville
X-ORIGINAL-URL:https://visitpikeville.com
X-WR-CALDESC:Events for Visit Pikeville
REFRESH-INTERVAL;VALUE=DURATION:PT1H
X-Robots-Tag:noindex
X-PUBLISHED-TTL:PT1H
BEGIN:VTIMEZONE
TZID:America/Kentucky/Louisville
BEGIN:DAYLIGHT
TZOFFSETFROM:-0500
TZOFFSETTO:-0400
TZNAME:EDT
DTSTART:20230312T070000
END:DAYLIGHT
BEGIN:STANDARD
TZOFFSETFROM:-0400
TZOFFSETTO:-0500
TZNAME:EST
DTSTART:20231105T060000
END:STANDARD
BEGIN:DAYLIGHT
TZOFFSETFROM:-0500
TZOFFSETTO:-0400
TZNAME:EDT
DTSTART:20240310T070000
END:DAYLIGHT
BEGIN:STANDARD
TZOFFSETFROM:-0400
TZOFFSETTO:-0500
TZNAME:EST
DTSTART:20241103T060000
END:STANDARD
BEGIN:DAYLIGHT
TZOFFSETFROM:-0500
TZOFFSETTO:-0400
TZNAME:EDT
DTSTART:20250309T070000
END:DAYLIGHT
BEGIN:STANDARD
TZOFFSETFROM:-0400
TZOFFSETTO:-0500
TZNAME:EST
DTSTART:20251102T060000
END:STANDARD
END:VTIMEZONE
BEGIN:VEVENT
DTSTART;TZID=America/Kentucky/Louisville:20241118T170000
DTEND;TZID=America/Kentucky/Louisville:20241118T190000
DTSTAMP:20260424T214918
CREATED:20241111T205512Z
LAST-MODIFIED:20241111T205512Z
UID:59633-1731949200-1731956400@visitpikeville.com
SUMMARY:FREE Christmas photo with Santa!
DESCRIPTION: Get your FREE Christmas photo with Santa! \nJoin us at the Pikeville-Pike County\, KY Welcome Center on Monday\, November 18\, from 5-7 PM for a special holiday event with photographer Deneisha Osborne Jent from Moments of the Heart Photography. Perfect for 2024 family Christmas cards\, we’re offering free photography for children\, families\, friends\, pets\, and couples\, with Santa himself!\nPikeville-Pike County\, KY Welcome Center\, 685 Hambley Blvd.\, Pikeville\, KY 41501 (The Flatiron Building\, 3rd floor\, accessible by side elevator).\nFor more details\, call 606-432-5063.
URL:https://visitpikeville.com/event/free-christmas-photo-with-santa/
LOCATION:Pikeville-Pike County\, KY Welcome Center\, 685 Hambley Blvd.\,\, Pikeville\, KY\, 41501\, United States
CATEGORIES:Other
ATTACH;FMTTYPE=image/jpeg:https://visitpikeville.com/wp-content/uploads/2024/11/photo.jpg
END:VEVENT
END:VCALENDAR