BEGIN:VCALENDAR
VERSION:2.0
PRODID:-//Visit Pikeville - ECPv6.15.20//NONSGML v1.0//EN
CALSCALE:GREGORIAN
METHOD:PUBLISH
X-WR-CALNAME:Visit Pikeville
X-ORIGINAL-URL:https://visitpikeville.com
X-WR-CALDESC:Events for Visit Pikeville
REFRESH-INTERVAL;VALUE=DURATION:PT1H
X-Robots-Tag:noindex
X-PUBLISHED-TTL:PT1H
BEGIN:VTIMEZONE
TZID:America/Kentucky/Louisville
BEGIN:DAYLIGHT
TZOFFSETFROM:-0500
TZOFFSETTO:-0400
TZNAME:EDT
DTSTART:20230312T070000
END:DAYLIGHT
BEGIN:STANDARD
TZOFFSETFROM:-0400
TZOFFSETTO:-0500
TZNAME:EST
DTSTART:20231105T060000
END:STANDARD
BEGIN:DAYLIGHT
TZOFFSETFROM:-0500
TZOFFSETTO:-0400
TZNAME:EDT
DTSTART:20240310T070000
END:DAYLIGHT
BEGIN:STANDARD
TZOFFSETFROM:-0400
TZOFFSETTO:-0500
TZNAME:EST
DTSTART:20241103T060000
END:STANDARD
BEGIN:DAYLIGHT
TZOFFSETFROM:-0500
TZOFFSETTO:-0400
TZNAME:EDT
DTSTART:20250309T070000
END:DAYLIGHT
BEGIN:STANDARD
TZOFFSETFROM:-0400
TZOFFSETTO:-0500
TZNAME:EST
DTSTART:20251102T060000
END:STANDARD
END:VTIMEZONE
BEGIN:VEVENT
DTSTART;TZID=America/Kentucky/Louisville:20241016T173000
DTEND;TZID=America/Kentucky/Louisville:20241016T200000
DTSTAMP:20260424T214745
CREATED:20241014T143616Z
LAST-MODIFIED:20241014T143616Z
UID:58557-1729099800-1729108800@visitpikeville.com
SUMMARY:Fall Gnome
DESCRIPTION:This fun painting is suitable for adults and kids
URL:https://visitpikeville.com/event/fall-gnome/
LOCATION:2 Broke Art Teachers\, 4505 Weddington Square\,\, Pikeville\, KY\, 41501\, United States
CATEGORIES:Other
ATTACH;FMTTYPE=image/jpeg:https://visitpikeville.com/wp-content/uploads/2024/10/fall-gnome.jpg
END:VEVENT
BEGIN:VEVENT
DTSTART;TZID=America/Kentucky/Louisville:20241016T180000
DTEND;TZID=America/Kentucky/Louisville:20241016T200000
DTSTAMP:20260424T214745
CREATED:20240923T133425Z
LAST-MODIFIED:20240923T133425Z
UID:57473-1729101600-1729108800@visitpikeville.com
SUMMARY:Country Music Highway Tribute Show
DESCRIPTION:Join us in beautiful Downtown Pikeville at the Mountain Top Media Stage for the Country Music Highway Tribute Show! This FREE event is a celebration of local talent\, community spirit\, and delicious food. It’s a night filled with live music from incredible artists\, tasty food trucks\, and great times with friends and family!\n Live Music: Enjoy performances from your favorite local and regional artists along the Country Music Highway. Food Trucks: Indulge in a variety of delicious eats from local food vendors. Community: Connect with neighbors\, friends\, and the greater Eastern Kentucky community!\nThis is a family-friendly event\, so bring the whole crew! Don’t miss out on an amazing night of music\, food\, and fun.
URL:https://visitpikeville.com/event/country-music-highway-tribute-show/
LOCATION:Downtown Pikeville\, Pikeville\, Ky\, 41501
CATEGORIES:Other
ATTACH;FMTTYPE=image/jpeg:https://visitpikeville.com/wp-content/uploads/2024/09/country.jpg
END:VEVENT
END:VCALENDAR