BEGIN:VCALENDAR
VERSION:2.0
PRODID:-//Visit Pikeville - ECPv6.15.20//NONSGML v1.0//EN
CALSCALE:GREGORIAN
METHOD:PUBLISH
X-WR-CALNAME:Visit Pikeville
X-ORIGINAL-URL:https://visitpikeville.com
X-WR-CALDESC:Events for Visit Pikeville
REFRESH-INTERVAL;VALUE=DURATION:PT1H
X-Robots-Tag:noindex
X-PUBLISHED-TTL:PT1H
BEGIN:VTIMEZONE
TZID:America/Kentucky/Louisville
BEGIN:DAYLIGHT
TZOFFSETFROM:-0500
TZOFFSETTO:-0400
TZNAME:EDT
DTSTART:20250309T070000
END:DAYLIGHT
BEGIN:STANDARD
TZOFFSETFROM:-0400
TZOFFSETTO:-0500
TZNAME:EST
DTSTART:20251102T060000
END:STANDARD
BEGIN:DAYLIGHT
TZOFFSETFROM:-0500
TZOFFSETTO:-0400
TZNAME:EDT
DTSTART:20260308T070000
END:DAYLIGHT
BEGIN:STANDARD
TZOFFSETFROM:-0400
TZOFFSETTO:-0500
TZNAME:EST
DTSTART:20261101T060000
END:STANDARD
BEGIN:DAYLIGHT
TZOFFSETFROM:-0500
TZOFFSETTO:-0400
TZNAME:EDT
DTSTART:20270314T070000
END:DAYLIGHT
BEGIN:STANDARD
TZOFFSETFROM:-0400
TZOFFSETTO:-0500
TZNAME:EST
DTSTART:20271107T060000
END:STANDARD
END:VTIMEZONE
BEGIN:VEVENT
DTSTART;TZID=America/Kentucky/Louisville:20260306T173000
DTEND;TZID=America/Kentucky/Louisville:20260306T193000
DTSTAMP:20260421T143246
CREATED:20260302T160420Z
LAST-MODIFIED:20260302T160420Z
UID:73444-1772818200-1772825400@visitpikeville.com
SUMMARY:WANT TO PAINT YOUR PEEPS?
DESCRIPTION:Grab your favorite “peeps” and come paint the CUTEST spring canvas with us! \n\n\n Friday\, March 6th\, 2026\n 5:30 PM\n 2 Broke Art Teachers – Pikeville\, KY\n\n\nCustomize your truck\, pick your bunny colors\, and add your family name to the tailgate!  This one is perfect for families\, friend groups\, or a sweet girls’ night out!
URL:https://visitpikeville.com/event/want-to-paint-your-peeps/
LOCATION:2 Broke Art Teachers\, 4505 Weddington Square\,\, Pikeville\, KY\, 41501\, United States
CATEGORIES:Other
ATTACH;FMTTYPE=image/jpeg:https://visitpikeville.com/wp-content/uploads/2026/03/peeps.jpg
END:VEVENT
BEGIN:VEVENT
DTSTART;TZID=America/Kentucky/Louisville:20260306T173000
DTEND;TZID=America/Kentucky/Louisville:20260306T193000
DTSTAMP:20260421T143246
CREATED:20260302T160553Z
LAST-MODIFIED:20260302T160553Z
UID:73447-1772818200-1772825400@visitpikeville.com
SUMMARY:FUN FRIDAY PAINT NIGHT
DESCRIPTION:Friday\, March 6th\, 2026\n 5:30 PM\n 2 Broke Art Teachers – Pikeville\, KY\n $25 – 16×20 Canvas\n\n\nWe’ve got something for EVERYONE this week! \n\n\n A – Floral Cross\n B – Sweet Kitty\n C – Western Sunset Rider\n D – Personalized Easter Peeps\n E – Happy Easter Bunny\n\n\nGrab your friends\, pick your favorite (A–E)\, and let’s kick off the weekend with paint\, laughs\, and good vibes!
URL:https://visitpikeville.com/event/fun-friday-paint-night-3/
LOCATION:2 Broke Art Teachers\, 4505 Weddington Square\,\, Pikeville\, KY\, 41501\, United States
CATEGORIES:Other
ATTACH;FMTTYPE=image/jpeg:https://visitpikeville.com/wp-content/uploads/2026/03/funfriday-6.jpg
END:VEVENT
BEGIN:VEVENT
DTSTART;TZID=America/Kentucky/Louisville:20260307T130000
DTEND;TZID=America/Kentucky/Louisville:20260307T150000
DTSTAMP:20260421T143246
CREATED:20260302T160716Z
LAST-MODIFIED:20260302T160716Z
UID:73450-1772888400-1772895600@visitpikeville.com
SUMMARY:FAMILY PAINT
DESCRIPTION:Join us Saturday\, March 7th at 1:00 PM for a FUN & COLORFUL Family Paint Class at 2 Broke Art Teachers – Pikeville\, Kentucky!\n\n\n Kids & Adults\n 11×14 Canvas\n Just $20\n\n\nPick your favorite design (A–F) From bunnies and mushrooms to sunshine and magical owls — there’s something for everyone!
URL:https://visitpikeville.com/event/family-paint-2/
LOCATION:2 Broke Art Teachers\, 4505 Weddington Square\,\, Pikeville\, KY\, 41501\, United States
CATEGORIES:Other
ATTACH;FMTTYPE=image/jpeg:https://visitpikeville.com/wp-content/uploads/2026/03/family-paint-7.jpg
END:VEVENT
BEGIN:VEVENT
DTSTART;TZID=America/Kentucky/Louisville:20260307T170000
DTEND;TZID=America/Kentucky/Louisville:20260307T190000
DTSTAMP:20260421T143246
CREATED:20260302T160845Z
LAST-MODIFIED:20260302T160845Z
UID:73453-1772902800-1772910000@visitpikeville.com
SUMMARY:Coal Country\, Let’s Paint!
DESCRIPTION:Our Coal Miner Paint Class is coming up and this one hits close to home here in Pikeville! \n\n\nJoin us as we paint this powerful silhouette step-by-step — glowing headlamp and all!  It’s bold\, meaningful\, and beginner friendly!\n\n\n Saturday\, March 7th at 5:00 PM\n Tuesday\, March 10th at 6:00 PM\n $25 per painter\n\n\nWhether you’re painting in honor of a miner you love or just proud of our Appalachian roots\, this one is special. \n\n\nSeats are limited and these coal miner classes always fill fast!
URL:https://visitpikeville.com/event/coal-country-lets-paint/
LOCATION:2 Broke Art Teachers\, 4505 Weddington Square\,\, Pikeville\, KY\, 41501\, United States
CATEGORIES:Other
ATTACH;FMTTYPE=image/jpeg:https://visitpikeville.com/wp-content/uploads/2026/03/coal-miner.jpg
END:VEVENT
BEGIN:VEVENT
DTSTART;TZID=America/Kentucky/Louisville:20260312T090000
DTEND;TZID=America/Kentucky/Louisville:20260312T170000
DTSTAMP:20260421T143246
CREATED:20260203T125643Z
LAST-MODIFIED:20260203T125643Z
UID:72731-1773306000-1773334800@visitpikeville.com
SUMMARY:Here We Grow Again Children's Spring/Summer Pop Up Consignment Sale
DESCRIPTION:Looking for amazing deals on kids’ clothing\, toys\, gear\, and more — all in one place? Join us for Here We Grow Again – Kentucky East\, a community resale event where hundreds of local families come together to sell their gently used children’s items. \nFrom newborn to teen – shop clothing\, toys\, books\, shoes\, baby gear\, strollers\, games\, sports equipment\, maternity wear\, and so much more! \nWhy shop secondhand with HWGA?\nSave 50–90% off retail prices\nShop thousands of quality-checked items\nSupport local families & small businesses\nKeep usable goods out of landfills\nStretch your budget while getting more for less \nBonus: Discount days\, pre-sale shopping opportunities\, and organized hold tables to make your shopping easy and fun! \nWhether you’re a new parent\, grandparent\, or just trying to stretch your family’s budget\, this is your chance to shop smart\, shop local\, and make a big impact.
URL:https://visitpikeville.com/event/here-we-grow-again-childrens-spring-summer-pop-up-consignment-sale/
LOCATION:Bob Amos Community Center\, 424 Bob Amos Dr\,\, Pikeville\, KY\, 41501\, United States
CATEGORIES:Other
ATTACH;FMTTYPE=image/jpeg:https://visitpikeville.com/wp-content/uploads/2026/02/grow.jpg
END:VEVENT
BEGIN:VEVENT
DTSTART;TZID=America/Kentucky/Louisville:20260313T180000
DTEND;TZID=America/Kentucky/Louisville:20260313T200000
DTSTAMP:20260421T143246
CREATED:20260309T135408Z
LAST-MODIFIED:20260309T135408Z
UID:73495-1773424800-1773432000@visitpikeville.com
SUMMARY:Crochet Class
DESCRIPTION:@Faithlife Market
URL:https://visitpikeville.com/event/crochet-class/
LOCATION:Faith Life Market\, 130 Division St\,\, Pikeville\, KY\, 41501\, United States
CATEGORIES:Other
ATTACH;FMTTYPE=image/jpeg:https://visitpikeville.com/wp-content/uploads/2025/07/faith.jpg
END:VEVENT
BEGIN:VEVENT
DTSTART;TZID=America/Kentucky/Louisville:20260313T200000
DTEND;TZID=America/Kentucky/Louisville:20260313T220000
DTSTAMP:20260421T143246
CREATED:20260106T183823Z
LAST-MODIFIED:20260309T135556Z
UID:72380-1773432000-1773439200@visitpikeville.com
SUMMARY:Open Mic Night
DESCRIPTION:Join us downstairs at Brothers Wright Distilling Co.
URL:https://visitpikeville.com/event/open-mic-night-4-2-2-2/
LOCATION:Brothers Wright Distilling Co.\, 2nd Street\, Pikeville\, KY\, 41501\, United States
CATEGORIES:Other
ATTACH;FMTTYPE=image/jpeg:https://visitpikeville.com/wp-content/uploads/2026/01/bro-wright.jpg
END:VEVENT
BEGIN:VEVENT
DTSTART;TZID=America/Kentucky/Louisville:20260316T180000
DTEND;TZID=America/Kentucky/Louisville:20260316T200000
DTSTAMP:20260421T143246
CREATED:20260316T133700Z
LAST-MODIFIED:20260316T133700Z
UID:73603-1773684000-1773691200@visitpikeville.com
SUMMARY:Gundam TCG Nights at The Gaming Co.
DESCRIPTION:Test your skills and strategies every week in Gundam TCG battles! Whether you’re a veteran pilot or new to the game\, join us for a fun and competitive night of card dueling.\n Entry Fee: $8 Prize: $4 Store Credit per round won When: Every Monday starting @6:00PM\nBring your deck\, make new friends\, and show off your Gundam knowledge\, each round is a chance to win store credit!
URL:https://visitpikeville.com/event/gundam-tcg-nights-at-the-gaming-co/
LOCATION:The Gaming Co.\, 265 Hambley Boulevard\,\, Pikeville\, KY\, 41501\, United States
CATEGORIES:Other
ATTACH;FMTTYPE=image/jpeg:https://visitpikeville.com/wp-content/uploads/2026/03/gundam.jpg
END:VEVENT
BEGIN:VEVENT
DTSTART;TZID=America/Kentucky/Louisville:20260317T173000
DTEND;TZID=America/Kentucky/Louisville:20260317T193000
DTSTAMP:20260421T143246
CREATED:20260316T141121Z
LAST-MODIFIED:20260316T141121Z
UID:73631-1773768600-1773775800@visitpikeville.com
SUMMARY:Open Wargaming Nights
DESCRIPTION:Miniatures ready? Dice in hand? Join us for our Open Wargaming Nights every Tuesday\, Thursday\, and Friday at 5:30PM! Where the tables are open and all armies are welcome! Whether you’re deep into a campaign or just learning the ropes\, it’s the perfect night to roll dice\, meet fellow generals\, and get some games in. Casual\, friendly\, and always a good time\, come wage war with us!
URL:https://visitpikeville.com/event/open-wargaming-nights/
LOCATION:The Gaming Co.\, 265 Hambley Boulevard\,\, Pikeville\, KY\, 41501\, United States
CATEGORIES:Other
ATTACH;FMTTYPE=image/jpeg:https://visitpikeville.com/wp-content/uploads/2026/03/open-wargaming-night.jpg
END:VEVENT
BEGIN:VEVENT
DTSTART;TZID=America/Kentucky/Louisville:20260318T180000
DTEND;TZID=America/Kentucky/Louisville:20260318T200000
DTSTAMP:20260421T143246
CREATED:20260316T134837Z
LAST-MODIFIED:20260316T134837Z
UID:73615-1773856800-1773864000@visitpikeville.com
SUMMARY:Digimon Night
DESCRIPTION:Join us for Digimon Night\, starting at 6:00 PM! A laid-back evening for Digimon fans to play\, trade\, and hang out. Whether you’re battling\, deckbuilding\, or just stopping by to talk Digimon\, it’s all about community and good games.
URL:https://visitpikeville.com/event/digimon-night/
LOCATION:The Gaming Co.\, 265 Hambley Boulevard\,\, Pikeville\, KY\, 41501\, United States
CATEGORIES:Other
ATTACH;FMTTYPE=image/jpeg:https://visitpikeville.com/wp-content/uploads/2026/03/digimon.jpg
END:VEVENT
BEGIN:VEVENT
DTSTART;TZID=America/Kentucky/Louisville:20260319T173000
DTEND;TZID=America/Kentucky/Louisville:20260319T193000
DTSTAMP:20260421T143246
CREATED:20260316T141347Z
LAST-MODIFIED:20260316T141347Z
UID:73634-1773941400-1773948600@visitpikeville.com
SUMMARY:Open Wargaming Nights
DESCRIPTION:Miniatures ready? Dice in hand? Join us for our Open Wargaming Nights every Tuesday\, Thursday\, and Friday at 5:30PM! Where the tables are open and all armies are welcome! Whether you’re deep into a campaign or just learning the ropes\, it’s the perfect night to roll dice\, meet fellow generals\, and get some games in. Casual\, friendly\, and always a good time\, come wage war with us!
URL:https://visitpikeville.com/event/open-wargaming-nights-2/
LOCATION:The Gaming Co.\, 265 Hambley Boulevard\,\, Pikeville\, KY\, 41501\, United States
CATEGORIES:Other
ATTACH;FMTTYPE=image/jpeg:https://visitpikeville.com/wp-content/uploads/2026/03/open-wargaming-night.jpg
END:VEVENT
BEGIN:VEVENT
DTSTART;TZID=America/Kentucky/Louisville:20260320T173000
DTEND;TZID=America/Kentucky/Louisville:20260320T193000
DTSTAMP:20260421T143246
CREATED:20260316T125739Z
LAST-MODIFIED:20260316T125739Z
UID:73584-1774027800-1774035000@visitpikeville.com
SUMMARY:FUN FRIDAY PAINT NIGHT
DESCRIPTION:Join us this Friday\, March 20 at 5:30 PM at 2 Broke Art Teachers for a fun and relaxing evening of painting! $25 per painter 16×20 Canvas Paint at your own pace — no experience needed!Grab your friends\, family\, or come solo and enjoy a creative evening with us. Seats fill quickly\, so be sure to reserve your spot! Message us to reserve your canvas!Tell us how many painters and which design you’re thinking about.
URL:https://visitpikeville.com/event/fun-friday-paint-night-4/
LOCATION:2 Broke Art Teachers\, 4505 Weddington Square\,\, Pikeville\, KY\, 41501\, United States
CATEGORIES:Other
ATTACH;FMTTYPE=image/jpeg:https://visitpikeville.com/wp-content/uploads/2026/03/fun-friday-march-20.jpg
END:VEVENT
BEGIN:VEVENT
DTSTART;TZID=America/Kentucky/Louisville:20260320T173000
DTEND;TZID=America/Kentucky/Louisville:20260320T193000
DTSTAMP:20260421T143246
CREATED:20260316T141418Z
LAST-MODIFIED:20260316T141418Z
UID:73636-1774027800-1774035000@visitpikeville.com
SUMMARY:Open Wargaming Nights
DESCRIPTION:Miniatures ready? Dice in hand? Join us for our Open Wargaming Nights every Tuesday\, Thursday\, and Friday at 5:30PM! Where the tables are open and all armies are welcome! Whether you’re deep into a campaign or just learning the ropes\, it’s the perfect night to roll dice\, meet fellow generals\, and get some games in. Casual\, friendly\, and always a good time\, come wage war with us!
URL:https://visitpikeville.com/event/open-wargaming-nights-2-2/
LOCATION:The Gaming Co.\, 265 Hambley Boulevard\,\, Pikeville\, KY\, 41501\, United States
CATEGORIES:Other
ATTACH;FMTTYPE=image/jpeg:https://visitpikeville.com/wp-content/uploads/2026/03/open-wargaming-night.jpg
END:VEVENT
BEGIN:VEVENT
DTSTART;TZID=America/Kentucky/Louisville:20260320T200000
DTEND;TZID=America/Kentucky/Louisville:20260320T220000
DTSTAMP:20260421T143246
CREATED:20260309T135655Z
LAST-MODIFIED:20260309T135655Z
UID:73497-1774036800-1774044000@visitpikeville.com
SUMMARY:Open Mic Night
DESCRIPTION:Join us downstairs at Brothers Wright Distilling Co.
URL:https://visitpikeville.com/event/open-mic-night-4-2-2-2-2/
LOCATION:Brothers Wright Distilling Co.\, 2nd Street\, Pikeville\, KY\, 41501\, United States
CATEGORIES:Other
ATTACH;FMTTYPE=image/jpeg:https://visitpikeville.com/wp-content/uploads/2026/01/bro-wright.jpg
END:VEVENT
BEGIN:VEVENT
DTSTART;TZID=America/Kentucky/Louisville:20260321T130000
DTEND;TZID=America/Kentucky/Louisville:20260321T150000
DTSTAMP:20260421T143246
CREATED:20260316T125510Z
LAST-MODIFIED:20260316T125510Z
UID:73581-1774098000-1774105200@visitpikeville.com
SUMMARY:FAMILY PAINT CLASS
DESCRIPTION:Looking for something fun to do with the kids this weekend? Join us for our Family Paint Class at 2 Broke Art Teachers!  Saturday\, March 21 1:00 PM $20 per painter 11×14 CanvasChoose your favoriteOptions include cute ducks\, a sweet lamb\, bunnies\, or even a fun alien friend! This class is perfect for families\, kids\, and beginners. Paint at your own pace and enjoy creating together! Private message us to reserve your seats.Please include:• Name• Number of painters• Painting choice (A–F)Seats are limited\, so grab your spot early!
URL:https://visitpikeville.com/event/family-paint-class-21/
LOCATION:2 Broke Art Teachers\, 4505 Weddington Square\,\, Pikeville\, KY\, 41501\, United States
CATEGORIES:Other
ATTACH;FMTTYPE=image/jpeg:https://visitpikeville.com/wp-content/uploads/2026/03/family-paint-class-march-21.jpg
END:VEVENT
BEGIN:VEVENT
DTSTART;TZID=America/Kentucky/Louisville:20260321T130000
DTEND;TZID=America/Kentucky/Louisville:20260321T170000
DTSTAMP:20260421T143246
CREATED:20260316T145752Z
LAST-MODIFIED:20260316T145752Z
UID:73646-1774098000-1774112400@visitpikeville.com
SUMMARY:RPG Day
DESCRIPTION:Join us for an afternoon of tabletop fun at RPG Day with Steven\, happening from 1:00–5:00 PM! Whether you’re brand new to RPGs or a seasoned adventurer\, Steven will be running games\, teaching rules\, and helping players jump into exciting worlds. Come roll some dice\, meet fellow players\, and enjoy a laid-back\, welcoming RPG session at the shop
URL:https://visitpikeville.com/event/rpg-day/
LOCATION:The Gaming Co.\, 265 Hambley Boulevard\,\, Pikeville\, KY\, 41501\, United States
CATEGORIES:Other
ATTACH;FMTTYPE=image/jpeg:https://visitpikeville.com/wp-content/uploads/2026/03/rpg.jpg
END:VEVENT
BEGIN:VEVENT
DTSTART;TZID=America/Kentucky/Louisville:20260321T150000
DTEND;TZID=America/Kentucky/Louisville:20260321T200000
DTSTAMP:20260421T143246
CREATED:20260316T135102Z
LAST-MODIFIED:20260316T135102Z
UID:73618-1774105200-1774123200@visitpikeville.com
SUMMARY:Pokémon TCG Standard Tournament
DESCRIPTION:Get your decks ready\, Trainers! Join us for our Pokémon TCG Standard Tournament starting at 3:00 PM every Saturday! Entry is $8\, and for every round you win\, you’ll earn $4 in store credit\, so every match counts! This is the perfect way to sharpen your skills and enjoy some competitive Pokémon fun in a friendly environment.
URL:https://visitpikeville.com/event/pokemon-tcg-standard-tournament/
LOCATION:The Gaming Co.\, 265 Hambley Boulevard\,\, Pikeville\, KY\, 41501\, United States
CATEGORIES:Other
ATTACH;FMTTYPE=image/jpeg:https://visitpikeville.com/wp-content/uploads/2026/03/pokemon-tournament.jpg
END:VEVENT
BEGIN:VEVENT
DTSTART;TZID=America/Kentucky/Louisville:20260321T173000
DTEND;TZID=America/Kentucky/Louisville:20260321T210000
DTSTAMP:20260421T143246
CREATED:20260316T135939Z
LAST-MODIFIED:20260316T135939Z
UID:73623-1774114200-1774126800@visitpikeville.com
SUMMARY:Riftbound Night
DESCRIPTION: Blitz into the Rift! \nRiftbound Night at The Gaming Co.! Join us at 5:30 PM for fast-paced\, competitive League of Legends card battles. Whether you’re climbing the ranks or just spinning up fun decks\, it’s your chance to test strategies\, meet other players\, and claim victories!
URL:https://visitpikeville.com/event/riftbound-night/
LOCATION:The Gaming Co.\, 265 Hambley Boulevard\,\, Pikeville\, KY\, 41501\, United States
CATEGORIES:Other
ATTACH;FMTTYPE=image/jpeg:https://visitpikeville.com/wp-content/uploads/2026/03/rift-bound.jpg
END:VEVENT
BEGIN:VEVENT
DTSTART;TZID=America/Kentucky/Louisville:20260321T200000
DTEND;TZID=America/Kentucky/Louisville:20260321T220000
DTSTAMP:20260421T143246
CREATED:20260309T141529Z
LAST-MODIFIED:20260309T141529Z
UID:73505-1774123200-1774130400@visitpikeville.com
SUMMARY:Ethan Allen
DESCRIPTION:@Brother’s Wright Distillery
URL:https://visitpikeville.com/event/ethan-allen/
LOCATION:Brothers Wright Distilling Co.\, 2nd Street\, Pikeville\, KY\, 41501\, United States
CATEGORIES:Other
ATTACH;FMTTYPE=image/jpeg:https://visitpikeville.com/wp-content/uploads/2026/01/bro-wright.jpg
END:VEVENT
BEGIN:VEVENT
DTSTART;TZID=America/Kentucky/Louisville:20260322T140000
DTEND;TZID=America/Kentucky/Louisville:20260322T160000
DTSTAMP:20260421T143246
CREATED:20260316T134454Z
LAST-MODIFIED:20260316T134454Z
UID:73610-1774188000-1774195200@visitpikeville.com
SUMMARY:Pokémon VGC Tournament
DESCRIPTION:Calling all VGC Trainers! Our Pokémon VGC Tournaments happen every Sunday at 2:00 PM. Entry is $8\, and you’ll earn $4 in store credit for every round you win. This weekly tournament is a great way to test your team\, learn the meta\, and play in a fun\, welcoming environment.
URL:https://visitpikeville.com/event/pokemon-vgc-tournament/
LOCATION:The Gaming Co.\, 265 Hambley Boulevard\,\, Pikeville\, KY\, 41501\, United States
CATEGORIES:Other
ATTACH;FMTTYPE=image/jpeg:https://visitpikeville.com/wp-content/uploads/2026/03/pokemon.jpg
END:VEVENT
BEGIN:VEVENT
DTSTART;TZID=America/Kentucky/Louisville:20260323T180000
DTEND;TZID=America/Kentucky/Louisville:20260323T200000
DTSTAMP:20260421T143246
CREATED:20260316T134102Z
LAST-MODIFIED:20260316T134102Z
UID:73606-1774288800-1774296000@visitpikeville.com
SUMMARY:Gundam TCG Nights at The Gaming Co.
DESCRIPTION:Test your skills and strategies every week in Gundam TCG battles! Whether you’re a veteran pilot or new to the game\, join us for a fun and competitive night of card dueling.\n Entry Fee: $8 Prize: $4 Store Credit per round won When: Every Monday starting @6:00PM\nBring your deck\, make new friends\, and show off your Gundam knowledge\, each round is a chance to win store credit!
URL:https://visitpikeville.com/event/gundam-tcg-nights-at-the-gaming-co-2/
LOCATION:The Gaming Co.\, 265 Hambley Boulevard\,\, Pikeville\, KY\, 41501\, United States
CATEGORIES:Other
ATTACH;FMTTYPE=image/jpeg:https://visitpikeville.com/wp-content/uploads/2026/03/gundam.jpg
END:VEVENT
BEGIN:VEVENT
DTSTART;TZID=America/Kentucky/Louisville:20260324T173000
DTEND;TZID=America/Kentucky/Louisville:20260324T193000
DTSTAMP:20260421T143246
CREATED:20260316T143058Z
LAST-MODIFIED:20260316T143058Z
UID:73638-1774373400-1774380600@visitpikeville.com
SUMMARY:Open Wargaming Nights
DESCRIPTION:Miniatures ready? Dice in hand? Join us for our Open Wargaming Nights every Tuesday\, Thursday\, and Friday at 5:30PM! Where the tables are open and all armies are welcome! Whether you’re deep into a campaign or just learning the ropes\, it’s the perfect night to roll dice\, meet fellow generals\, and get some games in. Casual\, friendly\, and always a good time\, come wage war with us!
URL:https://visitpikeville.com/event/open-wargaming-nights-2-2-2/
LOCATION:The Gaming Co.\, 265 Hambley Boulevard\,\, Pikeville\, KY\, 41501\, United States
CATEGORIES:Other
ATTACH;FMTTYPE=image/jpeg:https://visitpikeville.com/wp-content/uploads/2026/03/open-wargaming-night.jpg
END:VEVENT
BEGIN:VEVENT
DTSTART;TZID=America/Kentucky/Louisville:20260324T180000
DTEND;TZID=America/Kentucky/Louisville:20260324T190000
DTSTAMP:20260421T143246
CREATED:20260323T133325Z
LAST-MODIFIED:20260323T133325Z
UID:73662-1774375200-1774378800@visitpikeville.com
SUMMARY:2026 Civics Book Club meetings
DESCRIPTION:Mark your calendars for the Spring 2026 Civics Book Club meetings! Moses Man of the Mountain is a thought-provoking retelling of the Exodus story by one of America’s greatest authors\, Zora Neale Hurston. Drawing on an original blend of African folklore and biblical history\, the book asks timeless questions about the demands and ethics of leadership and what it takes to unite a people. Even if you know the Moses story well\, Hurston forces you to see it in an exciting new light.Books will be provided\, but space is limited. You can sign up by following the link: https://forms.cloud.microsoft/r/HttspqCa9A
URL:https://visitpikeville.com/event/2026-civics-book-club-meetings/
LOCATION:Faith Life Market\, 130 Division St\,\, Pikeville\, KY\, 41501\, United States
CATEGORIES:Other
ATTACH;FMTTYPE=image/jpeg:https://visitpikeville.com/wp-content/uploads/2026/03/civics.jpg
END:VEVENT
BEGIN:VEVENT
DTSTART;TZID=America/Kentucky/Louisville:20260326T173000
DTEND;TZID=America/Kentucky/Louisville:20260326T193000
DTSTAMP:20260421T143246
CREATED:20260316T144323Z
LAST-MODIFIED:20260316T144323Z
UID:73640-1774546200-1774553400@visitpikeville.com
SUMMARY:Open Wargaming Nights
DESCRIPTION:Miniatures ready? Dice in hand? Join us for our Open Wargaming Nights every Tuesday\, Thursday\, and Friday at 5:30PM! Where the tables are open and all armies are welcome! Whether you’re deep into a campaign or just learning the ropes\, it’s the perfect night to roll dice\, meet fellow generals\, and get some games in. Casual\, friendly\, and always a good time\, come wage war with us!
URL:https://visitpikeville.com/event/open-wargaming-nights-2-2-2-2/
LOCATION:The Gaming Co.\, 265 Hambley Boulevard\,\, Pikeville\, KY\, 41501\, United States
CATEGORIES:Other
ATTACH;FMTTYPE=image/jpeg:https://visitpikeville.com/wp-content/uploads/2026/03/open-wargaming-night.jpg
END:VEVENT
BEGIN:VEVENT
DTSTART;TZID=America/Kentucky/Louisville:20260327T173000
DTEND;TZID=America/Kentucky/Louisville:20260327T193000
DTSTAMP:20260421T143246
CREATED:20260316T145211Z
LAST-MODIFIED:20260316T145211Z
UID:73642-1774632600-1774639800@visitpikeville.com
SUMMARY:Open Wargaming Nights
DESCRIPTION:Miniatures ready? Dice in hand? Join us for our Open Wargaming Nights every Tuesday\, Thursday\, and Friday at 5:30PM! Where the tables are open and all armies are welcome! Whether you’re deep into a campaign or just learning the ropes\, it’s the perfect night to roll dice\, meet fellow generals\, and get some games in. Casual\, friendly\, and always a good time\, come wage war with us!
URL:https://visitpikeville.com/event/open-wargaming-nights-2-2-2-2-2/
LOCATION:The Gaming Co.\, 265 Hambley Boulevard\,\, Pikeville\, KY\, 41501\, United States
CATEGORIES:Other
ATTACH;FMTTYPE=image/jpeg:https://visitpikeville.com/wp-content/uploads/2026/03/open-wargaming-night.jpg
END:VEVENT
BEGIN:VEVENT
DTSTART;TZID=America/Kentucky/Louisville:20260327T180000
DTEND;TZID=America/Kentucky/Louisville:20260327T200000
DTSTAMP:20260421T143246
CREATED:20260309T143112Z
LAST-MODIFIED:20260309T143112Z
UID:73513-1774634400-1774641600@visitpikeville.com
SUMMARY:Book Club Meeting
DESCRIPTION:@FaithLife
URL:https://visitpikeville.com/event/book-club-meeting/
LOCATION:Faith Life Market\, 130 Division St\,\, Pikeville\, KY\, 41501\, United States
CATEGORIES:Other
ATTACH;FMTTYPE=image/jpeg:https://visitpikeville.com/wp-content/uploads/2025/07/faith.jpg
END:VEVENT
BEGIN:VEVENT
DTSTART;TZID=America/Kentucky/Louisville:20260327T200000
DTEND;TZID=America/Kentucky/Louisville:20260327T220000
DTSTAMP:20260421T143246
CREATED:20260309T135746Z
LAST-MODIFIED:20260309T135746Z
UID:73499-1774641600-1774648800@visitpikeville.com
SUMMARY:Open Mic Night
DESCRIPTION:Join us downstairs at Brothers Wright Distilling Co.
URL:https://visitpikeville.com/event/open-mic-night-4-2-2-2-2-2/
LOCATION:Brothers Wright Distilling Co.\, 2nd Street\, Pikeville\, KY\, 41501\, United States
CATEGORIES:Other
ATTACH;FMTTYPE=image/jpeg:https://visitpikeville.com/wp-content/uploads/2026/01/bro-wright.jpg
END:VEVENT
BEGIN:VEVENT
DTSTART;TZID=America/Kentucky/Louisville:20260328T113000
DTEND;TZID=America/Kentucky/Louisville:20260328T180000
DTSTAMP:20260421T143246
CREATED:20260316T132700Z
LAST-MODIFIED:20260316T132700Z
UID:73593-1774697400-1774720800@visitpikeville.com
SUMMARY:Easter Bunny Meet & Shop Local Day
DESCRIPTION:The Easter Bunny is hopping into Kentucky Belle Boutique and you’re invited!\n Saturday\, March 28th\n 11:30 AM – 6:00 PM\n 142 Mayo Cir.\, Pikeville\, KY 41501Bring the kids to meet the Easter Bunny and enjoy: FREE photo opportunities FREE refreshments\n Shopping local with your favorite boutiqueThis is the perfect chance to make sweet spring memories\, snap adorable photos\, and support a local small business right here in our community \n We can’t wait to see you — come shop local and celebrate Easter with us!
URL:https://visitpikeville.com/event/easter-bunny-meet-shop-local-day/
LOCATION:Kentucky Belle Boutique\, 142 Mayo Cir.\,\, Pikeville\, KY\, 41501\, United States
CATEGORIES:Other
ATTACH;FMTTYPE=image/jpeg:https://visitpikeville.com/wp-content/uploads/2026/03/ky-belle.jpg
END:VEVENT
BEGIN:VEVENT
DTSTART;TZID=America/Kentucky/Louisville:20260328T130000
DTEND;TZID=America/Kentucky/Louisville:20260328T170000
DTSTAMP:20260421T143246
CREATED:20260316T145927Z
LAST-MODIFIED:20260316T145927Z
UID:73649-1774702800-1774717200@visitpikeville.com
SUMMARY:RPG Day
DESCRIPTION:Join us for an afternoon of tabletop fun at RPG Day with Steven\, happening from 1:00–5:00 PM! Whether you’re brand new to RPGs or a seasoned adventurer\, Steven will be running games\, teaching rules\, and helping players jump into exciting worlds. Come roll some dice\, meet fellow players\, and enjoy a laid-back\, welcoming RPG session at the shop
URL:https://visitpikeville.com/event/rpg-day-2/
LOCATION:The Gaming Co.\, 265 Hambley Boulevard\,\, Pikeville\, KY\, 41501\, United States
CATEGORIES:Other
ATTACH;FMTTYPE=image/jpeg:https://visitpikeville.com/wp-content/uploads/2026/03/rpg.jpg
END:VEVENT
BEGIN:VEVENT
DTSTART;TZID=America/Kentucky/Louisville:20260328T150000
DTEND;TZID=America/Kentucky/Louisville:20260328T200000
DTSTAMP:20260421T143246
CREATED:20260316T135536Z
LAST-MODIFIED:20260316T135536Z
UID:73621-1774710000-1774728000@visitpikeville.com
SUMMARY:Pokémon TCG Standard Tournament
DESCRIPTION:Get your decks ready\, Trainers! Join us for our Pokémon TCG Standard Tournament starting at 3:00 PM every Saturday! Entry is $8\, and for every round you win\, you’ll earn $4 in store credit\, so every match counts! This is the perfect way to sharpen your skills and enjoy some competitive Pokémon fun in a friendly environment.
URL:https://visitpikeville.com/event/pokemon-tcg-standard-tournament-2/
LOCATION:The Gaming Co.\, 265 Hambley Boulevard\,\, Pikeville\, KY\, 41501\, United States
CATEGORIES:Other
ATTACH;FMTTYPE=image/jpeg:https://visitpikeville.com/wp-content/uploads/2026/03/pokemon-tournament.jpg
END:VEVENT
END:VCALENDAR