BEGIN:VCALENDAR
VERSION:2.0
PRODID:-//Visit Pikeville - ECPv6.15.20//NONSGML v1.0//EN
CALSCALE:GREGORIAN
METHOD:PUBLISH
X-WR-CALNAME:Visit Pikeville
X-ORIGINAL-URL:https://visitpikeville.com
X-WR-CALDESC:Events for Visit Pikeville
REFRESH-INTERVAL;VALUE=DURATION:PT1H
X-Robots-Tag:noindex
X-PUBLISHED-TTL:PT1H
BEGIN:VTIMEZONE
TZID:America/Kentucky/Louisville
BEGIN:DAYLIGHT
TZOFFSETFROM:-0500
TZOFFSETTO:-0400
TZNAME:EDT
DTSTART:20250309T070000
END:DAYLIGHT
BEGIN:STANDARD
TZOFFSETFROM:-0400
TZOFFSETTO:-0500
TZNAME:EST
DTSTART:20251102T060000
END:STANDARD
BEGIN:DAYLIGHT
TZOFFSETFROM:-0500
TZOFFSETTO:-0400
TZNAME:EDT
DTSTART:20260308T070000
END:DAYLIGHT
BEGIN:STANDARD
TZOFFSETFROM:-0400
TZOFFSETTO:-0500
TZNAME:EST
DTSTART:20261101T060000
END:STANDARD
BEGIN:DAYLIGHT
TZOFFSETFROM:-0500
TZOFFSETTO:-0400
TZNAME:EDT
DTSTART:20270314T070000
END:DAYLIGHT
BEGIN:STANDARD
TZOFFSETFROM:-0400
TZOFFSETTO:-0500
TZNAME:EST
DTSTART:20271107T060000
END:STANDARD
END:VTIMEZONE
BEGIN:VEVENT
DTSTART;TZID=America/Kentucky/Louisville:20260102T180000
DTEND;TZID=America/Kentucky/Louisville:20260102T210000
DTSTAMP:20260421T190611
CREATED:20251117T195433Z
LAST-MODIFIED:20251117T195433Z
UID:71415-1767376800-1767387600@visitpikeville.com
SUMMARY:Global Fleming Clan Scottish Society Gathering
DESCRIPTION:Save the Date! \nJoin us for the Global Fleming Clan Scottish Society Gathering — a celebration of heritage\, fellowship\, and fine spirits!\n\n\n January 2\, 2026\n 6:00–9:00 PM EST\n Brothers Wright Distillery\, Pikeville\, KY\n\n\n Tickets:\n• $40 General Admission\n• $75 Couples Ticket\n• $20 Whiskey Flight Tasting + Distillery Tour\n• $20 Livestream Access (Donation link available)\n\n\n Raffle Tickets: $5 each or 5 for $20\nMust be 21+ to win. Prizes include a bottle of bourbon and themed gift baskets!\n\n\nCelebrate Scottish pride with an evening of camaraderie\, tasting\, and tradition.\n\n\n Purchase tickets at clanflemingintl.org
URL:https://visitpikeville.com/event/global-fleming-clan-scottish-society-gathering/
LOCATION:Brothers Wright Distilling Co.\, 2nd Street\, Pikeville\, KY\, 41501\, United States
CATEGORIES:Other
ATTACH;FMTTYPE=image/jpeg:https://visitpikeville.com/wp-content/uploads/2025/11/scottish.jpg
END:VEVENT
BEGIN:VEVENT
DTSTART;TZID=America/Kentucky/Louisville:20260109T173000
DTEND;TZID=America/Kentucky/Louisville:20260109T210000
DTSTAMP:20260421T190611
CREATED:20260105T154111Z
LAST-MODIFIED:20260105T154111Z
UID:72339-1767979800-1767992400@visitpikeville.com
SUMMARY:Pick Your Painting Night
DESCRIPTION:FRI. JAN. 9th @ 5:30 PM – $25 \n Pick Your Painting Night at 2 Broke Art Teachers! \nPLEASE LIKE AND SHARE\n\n\nWe’re bringing ALL the Valentine vibes and giving YOU the choice!\nPick your favorite design and come paint with us! \n\n\n All supplies included\n Beginners welcome\n\n\n Pikeville\, KY\n $25 per painter\n Friday\, January 9th at 5:30 PM\n\n\n Private message to reserve your seat!\nTag your paint bestie and come make it a fun night out!
URL:https://visitpikeville.com/event/pick-your-painting-night/
LOCATION:2 Broke Art Teachers\, 4505 Weddington Square\,\, Pikeville\, KY\, 41501\, United States
CATEGORIES:Other
END:VEVENT
BEGIN:VEVENT
DTSTART;TZID=America/Kentucky/Louisville:20260109T190000
DTEND;TZID=America/Kentucky/Louisville:20260109T210000
DTSTAMP:20260421T190611
CREATED:20260106T183536Z
LAST-MODIFIED:20260106T183536Z
UID:72373-1767985200-1767992400@visitpikeville.com
SUMMARY:Open Mic Night
DESCRIPTION:Join us downstairs at Brothers Wright Distilling Co.
URL:https://visitpikeville.com/event/open-mic-night-4/
LOCATION:Brothers Wright Distilling Co.\, 2nd Street\, Pikeville\, KY\, 41501\, United States
CATEGORIES:Other
ATTACH;FMTTYPE=image/jpeg:https://visitpikeville.com/wp-content/uploads/2026/01/bro-wright.jpg
END:VEVENT
BEGIN:VEVENT
DTSTART;TZID=America/Kentucky/Louisville:20260110T130000
DTEND;TZID=America/Kentucky/Louisville:20260110T150000
DTSTAMP:20260421T190611
CREATED:20260105T153751Z
LAST-MODIFIED:20260105T153751Z
UID:72333-1768050000-1768057200@visitpikeville.com
SUMMARY:FAMILY PAINT CLASS
DESCRIPTION:FAMILY PAINT CLASS – Pick Your Favorite! \n2 Broke Art Teachers | Pikeville\, KY\nPlease like and share to help spread our schedule and help our small buisness grow \n\n\nBring the kiddos\, grab your Valentine spirit\, and come paint with us! We’ve got 9 ADORABLE designs to choose from — perfect for families\, kids\, and beginners!\n\n\n Saturday\, January 10\, 2026\n 1:00 PM\n $20 per painter\n\n\n Canvases are pre-drawn\n No experience needed\n You choose your colors & add personal touches!\n\n\n private message us to reserve your seats!\nSpots are limited and these fill FAST!\n\n\n Perfect for family day\, mommy-and-me\, grandparents\, and friends!\n Like & Share to invite your painting crew!
URL:https://visitpikeville.com/event/family-paint-class-15/
LOCATION:2 Broke Art Teachers\, 4505 Weddington Square\,\, Pikeville\, KY\, 41501\, United States
CATEGORIES:Other
ATTACH;FMTTYPE=image/jpeg:https://visitpikeville.com/wp-content/uploads/2026/01/family-jan-10.jpg
END:VEVENT
BEGIN:VEVENT
DTSTART;TZID=America/Kentucky/Louisville:20260110T170000
DTEND;TZID=America/Kentucky/Louisville:20260111T200000
DTSTAMP:20260421T190611
CREATED:20260105T153927Z
LAST-MODIFIED:20260105T153927Z
UID:72336-1768064400-1768161600@visitpikeville.com
SUMMARY:SATURDAY NIGHT PAINT PARTY!
DESCRIPTION:SATURDAY NIGHT PAINT PARTY! \n Saturday\, January 10th\n 5:00 PM\n $25 per painter\n\n\nGrab your friends\, your sweetheart\, or your family and join us for a fun\, relaxing night of painting at 2 Broke Art Teachers! \n\n\nPick your favorite design from these SIX adorable options:\n\n\nCanvases are pre-drawn\n All supplies included\n fun for all skill levels\n Customize your colors & add personal touches!\n\n\n Limited seats available!\n Private message us to reserve your spot!\n\n\nCome paint\, laugh\, and make something you’ll be proud to hang up at home!
URL:https://visitpikeville.com/event/saturday-night-paint-party/
LOCATION:2 Broke Art Teachers\, 4505 Weddington Square\,\, Pikeville\, KY\, 41501\, United States
CATEGORIES:Other
ATTACH;FMTTYPE=image/jpeg:https://visitpikeville.com/wp-content/uploads/2026/01/sat-night.jpg
END:VEVENT
BEGIN:VEVENT
DTSTART;TZID=America/Kentucky/Louisville:20260110T190000
DTEND;TZID=America/Kentucky/Louisville:20260110T210000
DTSTAMP:20260421T190611
CREATED:20260106T184019Z
LAST-MODIFIED:20260106T184019Z
UID:72382-1768071600-1768078800@visitpikeville.com
SUMMARY:Devin Moore
DESCRIPTION:@Brothers Wright Distilling Co.
URL:https://visitpikeville.com/event/devin-moore/
LOCATION:Brothers Wright Distilling Co.\, 2nd Street\, Pikeville\, KY\, 41501\, United States
CATEGORIES:Other
ATTACH;FMTTYPE=image/jpeg:https://visitpikeville.com/wp-content/uploads/2026/01/bro-wright.jpg
END:VEVENT
BEGIN:VEVENT
DTSTART;TZID=America/Kentucky/Louisville:20260116T190000
DTEND;TZID=America/Kentucky/Louisville:20260116T210000
DTSTAMP:20260421T190611
CREATED:20260106T183643Z
LAST-MODIFIED:20260106T183643Z
UID:72376-1768590000-1768597200@visitpikeville.com
SUMMARY:Open Mic Night
DESCRIPTION:Join us downstairs at Brothers Wright Distilling Co.
URL:https://visitpikeville.com/event/open-mic-night-4-2/
LOCATION:Brothers Wright Distilling Co.\, 2nd Street\, Pikeville\, KY\, 41501\, United States
CATEGORIES:Other
ATTACH;FMTTYPE=image/jpeg:https://visitpikeville.com/wp-content/uploads/2026/01/bro-wright.jpg
END:VEVENT
BEGIN:VEVENT
DTSTART;TZID=America/Kentucky/Louisville:20260117T190000
DTEND;TZID=America/Kentucky/Louisville:20260117T210000
DTSTAMP:20260421T190611
CREATED:20260106T184108Z
LAST-MODIFIED:20260106T184108Z
UID:72384-1768676400-1768683600@visitpikeville.com
SUMMARY:Zoe Howard
DESCRIPTION:@Brothers Wright Distilling Co.
URL:https://visitpikeville.com/event/devin-moore-2/
LOCATION:Brothers Wright Distilling Co.\, 2nd Street\, Pikeville\, KY\, 41501\, United States
CATEGORIES:Other
ATTACH;FMTTYPE=image/jpeg:https://visitpikeville.com/wp-content/uploads/2026/01/bro-wright.jpg
END:VEVENT
BEGIN:VEVENT
DTSTART;TZID=America/Kentucky/Louisville:20260122T173000
DTEND;TZID=America/Kentucky/Louisville:20260122T193000
DTSTAMP:20260421T190611
CREATED:20260119T160318Z
LAST-MODIFIED:20260119T160318Z
UID:72635-1769103000-1769110200@visitpikeville.com
SUMMARY:THURSDAY PAINT CLASS
DESCRIPTION:THURSDAY PAINT CLASS — JANUARY 22 @ 5:30 PM \nWe’re painting this dreamy “Springtime in Paris” scene with soft cherry blossoms\, the Eiffel Tower\, and a sweet umbrella stroll! \n\n\n Beginner-friendly + step-by-step instruction\n Pre-drawn canvas (no drawing required!)\n Come paint with friends or make it a cute date night!\n\n\n 2 Broke Art Teachers (Pikeville)\n Thursday\, January 22 • 5:30 PM\n Private message to reserve your seat (limited spots!)
URL:https://visitpikeville.com/event/thursday-paint-class/
LOCATION:KY
CATEGORIES:Other
ATTACH;FMTTYPE=image/jpeg:https://visitpikeville.com/wp-content/uploads/2026/01/springtime.jpg
END:VEVENT
BEGIN:VEVENT
DTSTART;TZID=America/Kentucky/Louisville:20260123T173000
DTEND;TZID=America/Kentucky/Louisville:20260123T193000
DTSTAMP:20260421T190611
CREATED:20260119T155726Z
LAST-MODIFIED:20260119T155726Z
UID:72626-1769189400-1769196600@visitpikeville.com
SUMMARY:FUN FRIDAY PAINT CLASS
DESCRIPTION:Join us Friday\, Jan. 23 at 5:30 PM for a super fun night of painting!\n $25 per painter\n Beginner-friendly & pre-drawn\n You choose your painting!\n\n\nGrab your friends\, pick your favorite design\, and let’s paint the night away!\n Private message us to reserve your seat — spots are limited!\n\n\n Perfect for a girls’ night\, date night\, or just a fun Friday out!
URL:https://visitpikeville.com/event/fun-friday-paint-class-2/
LOCATION:2 Broke Art Teachers\, 4505 Weddington Square\,\, Pikeville\, KY\, 41501\, United States
CATEGORIES:Other
ATTACH;FMTTYPE=image/jpeg:https://visitpikeville.com/wp-content/uploads/2026/01/FUN-JAN-23.jpg
END:VEVENT
BEGIN:VEVENT
DTSTART;TZID=America/Kentucky/Louisville:20260123T190000
DTEND;TZID=America/Kentucky/Louisville:20260123T210000
DTSTAMP:20260421T190611
CREATED:20260106T183719Z
LAST-MODIFIED:20260106T183719Z
UID:72378-1769194800-1769202000@visitpikeville.com
SUMMARY:Open Mic Night
DESCRIPTION:Join us downstairs at Brothers Wright Distilling Co.
URL:https://visitpikeville.com/event/open-mic-night-4-2-2/
LOCATION:Brothers Wright Distilling Co.\, 2nd Street\, Pikeville\, KY\, 41501\, United States
CATEGORIES:Other
ATTACH;FMTTYPE=image/jpeg:https://visitpikeville.com/wp-content/uploads/2026/01/bro-wright.jpg
END:VEVENT
BEGIN:VEVENT
DTSTART;TZID=America/Kentucky/Louisville:20260124T130000
DTEND;TZID=America/Kentucky/Louisville:20260124T170000
DTSTAMP:20260421T190611
CREATED:20260119T160141Z
LAST-MODIFIED:20260119T160141Z
UID:72632-1769259600-1769274000@visitpikeville.com
SUMMARY:FAMILY PAINT CLASS
DESCRIPTION:2 Broke Art Teachers\n\n\n Saturday\, January 24\, 2026\n 1:00 PM\n $20 per canvas\n\n\nPick YOUR favorite design from A–J and make it your own!\n Perfect for kids\, parents\, grandparents\, and anyone who loves to paint\n Beginner-friendly & pre-drawn — no experience needed!\n Tons of fun\, laughs\, and memories made\n Private message us to reserve your spot\n Limited seats — these fill fast!\n\n\n Like & Share to invite your family and friends!
URL:https://visitpikeville.com/event/family-paint-class-16/
LOCATION:2 Broke Art Teachers\, 4505 Weddington Square\,\, Pikeville\, KY\, 41501\, United States
CATEGORIES:Other
ATTACH;FMTTYPE=image/jpeg:https://visitpikeville.com/wp-content/uploads/2026/01/fam-jan-24.jpg
END:VEVENT
BEGIN:VEVENT
DTSTART;TZID=America/Kentucky/Louisville:20260124T170000
DTEND;TZID=America/Kentucky/Louisville:20260124T190000
DTSTAMP:20260421T190611
CREATED:20260119T155940Z
LAST-MODIFIED:20260119T155940Z
UID:72629-1769274000-1769281200@visitpikeville.com
SUMMARY:Saturday Night Paint Class
DESCRIPTION:Join us for a fun and creative night out!\n Saturday\, January 24\n 5:00 PM\n $25 per painter\nNo experience needed\n All supplies included\n Perfect for friends\, date night\, or a little “me time”\n\n\n Private message us to reserve your spot — seats are limited and Saturday nights fill up fast!\n\n\n 2 Broke Art Teachers – Pikeville\nLet’s paint\, laugh\, and create something you’ll love!
URL:https://visitpikeville.com/event/saturday-night-paint-class-3/
LOCATION:2 Broke Art Teachers\, 4505 Weddington Square\,\, Pikeville\, KY\, 41501\, United States
CATEGORIES:Other
ATTACH;FMTTYPE=image/jpeg:https://visitpikeville.com/wp-content/uploads/2026/01/SAT-JAN-24.jpg
END:VEVENT
BEGIN:VEVENT
DTSTART;TZID=America/Kentucky/Louisville:20260124T190000
DTEND;TZID=America/Kentucky/Louisville:20260124T210000
DTSTAMP:20260421T190611
CREATED:20260106T184202Z
LAST-MODIFIED:20260106T184202Z
UID:72386-1769281200-1769288400@visitpikeville.com
SUMMARY:Hassie Bryant
DESCRIPTION:@Brothers Wright Distilling Co.
URL:https://visitpikeville.com/event/devin-moore-3/
LOCATION:Brothers Wright Distilling Co.\, 2nd Street\, Pikeville\, KY\, 41501\, United States
CATEGORIES:Other
ATTACH;FMTTYPE=image/jpeg:https://visitpikeville.com/wp-content/uploads/2026/01/bro-wright.jpg
END:VEVENT
BEGIN:VEVENT
DTSTART;TZID=America/Kentucky/Louisville:20260130T173000
DTEND;TZID=America/Kentucky/Louisville:20260130T193000
DTSTAMP:20260421T190611
CREATED:20260126T132833Z
LAST-MODIFIED:20260126T132833Z
UID:72699-1769794200-1769801400@visitpikeville.com
SUMMARY:House Divided Paint Class
DESCRIPTION:Love lives here… even when teams don’t \nPlease like and share !\nJoin us for our House Divided Paint Night and paint your favorite rivalry\, teams\, or themes on one canvas!\n\n\n What you’ll paint:\nA whimsical split house design with:\n• One side for your team\n• One side for their team\n• Flags\, doors\, shutters\, and details customized in your colors\n• Options for college\, local\, pro teams — or even fun themes like Cats vs Cards\, Panthers vs Hawks\, or custom colors!\n\n\n Friday\, January 30\n 5:30 PM\n $25 per person\n 2 Broke Art Teachers – Pikeville\n\n\n Why you’ll love it:\n• No experience needed\n• Pre-drawn canvas\n• Paint your rivalry YOUR way\n• Couples\, friends\, families & sports fans welcome!\n\n\n How to reserve:\n Private message us with:\n• Your name\n• How many seats\n• What teams/colors you want on your house\n\n\n Limited spots available!
URL:https://visitpikeville.com/event/house-divided-paint-class/
LOCATION:2 Broke Art Teachers\, 4505 Weddington Square\,\, Pikeville\, KY\, 41501\, United States
CATEGORIES:Other
ATTACH;FMTTYPE=image/jpeg:https://visitpikeville.com/wp-content/uploads/2026/01/house.jpg
END:VEVENT
BEGIN:VEVENT
DTSTART;TZID=America/Kentucky/Louisville:20260131T130000
DTEND;TZID=America/Kentucky/Louisville:20260131T150000
DTSTAMP:20260421T190611
CREATED:20260126T133225Z
LAST-MODIFIED:20260126T133225Z
UID:72705-1769864400-1769871600@visitpikeville.com
SUMMARY:FAMILY PAINT CLASS
DESCRIPTION: SATURDAY | Jan. 31 @ 1:00 PM FAMILY PAINT CLASS $20 per person (11×14 canvas) Kid-friendly designs — great for all ages
URL:https://visitpikeville.com/event/family-paint-class-17/
LOCATION:2 Broke Art Teachers\, 4505 Weddington Square\,\, Pikeville\, KY\, 41501\, United States
CATEGORIES:Other
ATTACH;FMTTYPE=image/jpeg:https://visitpikeville.com/wp-content/uploads/2026/01/week.jpg
END:VEVENT
BEGIN:VEVENT
DTSTART;TZID=America/Kentucky/Louisville:20260131T170000
DTEND;TZID=America/Kentucky/Louisville:20260131T190000
DTSTAMP:20260421T190611
CREATED:20260126T133317Z
LAST-MODIFIED:20260126T133336Z
UID:72707-1769878800-1769886000@visitpikeville.com
SUMMARY:Evening Paint Class
DESCRIPTION: SATURDAY | Jan. 31 @ 5:00 PM Evening Paint Class $25 per person Multiple design options available
URL:https://visitpikeville.com/event/evening-paint-class/
LOCATION:2 Broke Art Teachers\, 4505 Weddington Square\,\, Pikeville\, KY\, 41501\, United States
CATEGORIES:Other
ATTACH;FMTTYPE=image/jpeg:https://visitpikeville.com/wp-content/uploads/2026/01/week.jpg
END:VEVENT
BEGIN:VEVENT
DTSTART;TZID=America/Kentucky/Louisville:20260131T190000
DTEND;TZID=America/Kentucky/Louisville:20260131T210000
DTSTAMP:20260421T190611
CREATED:20260106T184305Z
LAST-MODIFIED:20260106T184305Z
UID:72388-1769886000-1769893200@visitpikeville.com
SUMMARY:Dixie Lynn
DESCRIPTION:@Brothers Wright Distilling Co.
URL:https://visitpikeville.com/event/devin-moore-4/
LOCATION:Brothers Wright Distilling Co.\, 2nd Street\, Pikeville\, KY\, 41501\, United States
CATEGORIES:Other
ATTACH;FMTTYPE=image/jpeg:https://visitpikeville.com/wp-content/uploads/2026/01/bro-wright.jpg
END:VEVENT
END:VCALENDAR