BEGIN:VCALENDAR
VERSION:2.0
PRODID:-//Visit Pikeville - ECPv6.15.20//NONSGML v1.0//EN
CALSCALE:GREGORIAN
METHOD:PUBLISH
X-ORIGINAL-URL:https://visitpikeville.com
X-WR-CALDESC:Events for Visit Pikeville
REFRESH-INTERVAL;VALUE=DURATION:PT1H
X-Robots-Tag:noindex
X-PUBLISHED-TTL:PT1H
BEGIN:VTIMEZONE
TZID:America/Kentucky/Louisville
BEGIN:DAYLIGHT
TZOFFSETFROM:-0500
TZOFFSETTO:-0400
TZNAME:EDT
DTSTART:20240310T070000
END:DAYLIGHT
BEGIN:STANDARD
TZOFFSETFROM:-0400
TZOFFSETTO:-0500
TZNAME:EST
DTSTART:20241103T060000
END:STANDARD
BEGIN:DAYLIGHT
TZOFFSETFROM:-0500
TZOFFSETTO:-0400
TZNAME:EDT
DTSTART:20250309T070000
END:DAYLIGHT
BEGIN:STANDARD
TZOFFSETFROM:-0400
TZOFFSETTO:-0500
TZNAME:EST
DTSTART:20251102T060000
END:STANDARD
BEGIN:DAYLIGHT
TZOFFSETFROM:-0500
TZOFFSETTO:-0400
TZNAME:EDT
DTSTART:20260308T070000
END:DAYLIGHT
BEGIN:STANDARD
TZOFFSETFROM:-0400
TZOFFSETTO:-0500
TZNAME:EST
DTSTART:20261101T060000
END:STANDARD
END:VTIMEZONE
BEGIN:VEVENT
DTSTART;TZID=America/Kentucky/Louisville:20251201T173000
DTEND;TZID=America/Kentucky/Louisville:20251201T203000
DTSTAMP:20260421T203301
CREATED:20251201T165352Z
LAST-MODIFIED:20251201T165352Z
UID:71908-1764610200-1764621000@visitpikeville.com
SUMMARY:Snowy Church
DESCRIPTION:Monday Dec. 1st at 5:30.
URL:https://visitpikeville.com/event/snowy-church/
LOCATION:2 Broke Art Teachers\, 4505 Weddington Square\,\, Pikeville\, KY\, 41501\, United States
CATEGORIES:Other
ATTACH;FMTTYPE=image/jpeg:https://visitpikeville.com/wp-content/uploads/2025/12/snowy-church.jpg
END:VEVENT
BEGIN:VEVENT
DTSTART;TZID=America/Kentucky/Louisville:20251203T180000
DTEND;TZID=America/Kentucky/Louisville:20251203T193000
DTSTAMP:20260421T203301
CREATED:20251203T174909Z
LAST-MODIFIED:20251203T174909Z
UID:71930-1764784800-1764790200@visitpikeville.com
SUMMARY:Free Fabric Ornament Making Class
DESCRIPTION:@FaithLife
URL:https://visitpikeville.com/event/free-fabric-ornament-making-class/
LOCATION:Faith Life Market\, 130 Division St\,\, Pikeville\, KY\, 41501\, United States
CATEGORIES:Other
ATTACH;FMTTYPE=image/jpeg:https://visitpikeville.com/wp-content/uploads/2025/07/faith.jpg
END:VEVENT
BEGIN:VEVENT
DTSTART;TZID=America/Kentucky/Louisville:20251205T180000
DTEND;TZID=America/Kentucky/Louisville:20251205T200000
DTSTAMP:20260421T203301
CREATED:20251203T180449Z
LAST-MODIFIED:20251203T180449Z
UID:71952-1764957600-1764964800@visitpikeville.com
SUMMARY:Sound of the Seasons
DESCRIPTION:Free Concert
URL:https://visitpikeville.com/event/sound-of-the-seasons/
LOCATION:Pikeville United Methodist Church\, 107 Main St\,\, Pikeville\, KY\, 41501\, United States
CATEGORIES:Other
ATTACH;FMTTYPE=image/jpeg:https://visitpikeville.com/wp-content/uploads/2025/12/sounds-scaled.jpg
END:VEVENT
BEGIN:VEVENT
DTSTART;TZID=America/Kentucky/Louisville:20251205T183000
DTEND;TZID=America/Kentucky/Louisville:20251205T203000
DTSTAMP:20260421T203301
CREATED:20251110T174745Z
LAST-MODIFIED:20251110T174745Z
UID:71127-1764959400-1764966600@visitpikeville.com
SUMMARY:Ornament Night at Hope Haven
DESCRIPTION:Let’s kick off the Christmas season with creativity\, cocoa\, and community!\nJoin us on Friday\, December 5th at 6:30 PM for a fun night of crafting beautiful Christmas ornaments and enjoying sweet fellowship.  \n Includes 2 ornaments & refreshments\n All supplies provided\n Sign up in-store or message us on Facebook\n All participants receive a 10% off coupon for Hope Haven! \nLet’s create\, connect\, and celebrate the true JOY of the season — together!
URL:https://visitpikeville.com/event/ornament-night-at-hope-haven/
LOCATION:Hope Haven Boutique\, 1946 South Mayo Trail\,\, Pikeville\, KY\, 41501\, United States
CATEGORIES:Other
ATTACH;FMTTYPE=image/jpeg:https://visitpikeville.com/wp-content/uploads/2025/11/ornament.jpeg
END:VEVENT
BEGIN:VEVENT
DTSTART;TZID=America/Kentucky/Louisville:20251205T193000
DTEND;TZID=America/Kentucky/Louisville:20251205T223000
DTSTAMP:20260421T203301
CREATED:20251203T180634Z
LAST-MODIFIED:20251203T180634Z
UID:71956-1764963000-1764973800@visitpikeville.com
SUMMARY:Dalton Moore
DESCRIPTION:@Bank253
URL:https://visitpikeville.com/event/dalton-moore/
LOCATION:Bank 253\, 253 2nd St\,\, Pikeville\, KY\, 41501\, United States
CATEGORIES:Other
ATTACH;FMTTYPE=image/jpeg:https://visitpikeville.com/wp-content/uploads/2025/12/dalton-moore.jpg
END:VEVENT
BEGIN:VEVENT
DTSTART;VALUE=DATE:20251206
DTEND;VALUE=DATE:20251207
DTSTAMP:20260421T203301
CREATED:20251114T125639Z
LAST-MODIFIED:20251114T125639Z
UID:71231-1764979200-1765065599@visitpikeville.com
SUMMARY:Christmas giveaway
DESCRIPTION:For children ages 0-16
URL:https://visitpikeville.com/event/christmas-giveaway/
LOCATION:Pikeville YMCA\, 424 Bob Amos Dr\,\, Pikeville\, Ky\, 41501
CATEGORIES:Other
ATTACH;FMTTYPE=image/jpeg:https://visitpikeville.com/wp-content/uploads/2025/11/6916d621e0ff6.jpg
END:VEVENT
BEGIN:VEVENT
DTSTART;TZID=America/Kentucky/Louisville:20251206T130000
DTEND;TZID=America/Kentucky/Louisville:20251206T150000
DTSTAMP:20260421T203301
CREATED:20251201T170042Z
LAST-MODIFIED:20251201T170042Z
UID:71914-1765026000-1765033200@visitpikeville.com
SUMMARY:FAMILY PAINT CLASS
DESCRIPTION: FAMILY PAINT CLASS — PICK YOUR PAINTING! 2 Broke Art Teachers — Pikeville\, KYJoin us Saturday\, Dec. 6\, 2025 @ 1:00 PM for a fun-filled Family Paint Class!Everyone gets to choose their favorite design from the 9 adorable Christmas options! Only $20 each All ages welcome No drawing required — canvases are pre-sketched! Perfect for a holiday family outingPrivate message your number choice to reserve your seats!Seats fill fast—don’t wait!
URL:https://visitpikeville.com/event/family-paint-class-12/
LOCATION:2 Broke Art Teachers\, 4505 Weddington Square\,\, Pikeville\, KY\, 41501\, United States
CATEGORIES:Other
ATTACH;FMTTYPE=image/jpeg:https://visitpikeville.com/wp-content/uploads/2025/12/family-dec-6.jpg
END:VEVENT
BEGIN:VEVENT
DTSTART;TZID=America/Kentucky/Louisville:20251206T200000
DTEND;TZID=America/Kentucky/Louisville:20251206T220000
DTSTAMP:20260421T203301
CREATED:20251203T181250Z
LAST-MODIFIED:20251203T181250Z
UID:71962-1765051200-1765058400@visitpikeville.com
SUMMARY:Dixie Lynn
DESCRIPTION:@Bank 253
URL:https://visitpikeville.com/event/dixie-lynn/
LOCATION:Bank 253\, 253 2nd St\,\, Pikeville\, KY\, 41501\, United States
CATEGORIES:Other
ATTACH;FMTTYPE=image/jpeg:https://visitpikeville.com/wp-content/uploads/2025/12/dixie.jpg
END:VEVENT
BEGIN:VEVENT
DTSTART;TZID=America/Kentucky/Louisville:20251211T193000
DTEND;TZID=America/Kentucky/Louisville:20251211T213000
DTSTAMP:20260421T203301
CREATED:20251208T140639Z
LAST-MODIFIED:20251208T140639Z
UID:71981-1765481400-1765488600@visitpikeville.com
SUMMARY:A BLUEGRASS CHRISTMAS CAROL
DESCRIPTION:The ticket link is LIVE!! Reserve your tickets now to see ‘A BLUEGRASS CHRISTMAS CAROL’ running December 5th through 21st! Friday and Saturday nights at 7:30p.m.\, and Sunday matinees at 3p.m. All shows at the Pikeville High School Auditorium. Tickets are only $12. If purchasing through the link\, you can pick your tickets up at the door the night/day of the show! We can’t wait to celebrate the holiday season with you! https://checkout.square.site/…/OI4BN4RWHBWRGPP6MMJ44FDE…
URL:https://visitpikeville.com/event/a-bluegrass-christmas-carol-2/
LOCATION:Pikeville High School\, 120 Championship Dr\,\, Pikeville\, KY\, 41501\, United States
CATEGORIES:Other
ATTACH;FMTTYPE=image/jpeg:https://visitpikeville.com/wp-content/uploads/2025/12/CHRISTMAS-CAROL.jpg
END:VEVENT
BEGIN:VEVENT
DTSTART;TZID=America/Kentucky/Louisville:20251212T173000
DTEND;TZID=America/Kentucky/Louisville:20251212T193000
DTSTAMP:20260421T203301
CREATED:20251208T152731Z
LAST-MODIFIED:20251208T152731Z
UID:72025-1765560600-1765567800@visitpikeville.com
SUMMARY:Paint Class – Pick Your Favorite
DESCRIPTION:Choose from 9 festive designs and paint with us for a fun holiday night out!\n\n\n Friday\, Dec. 12 at 5:30\n Saturday\, Dec. 13 at 5:00\n $25 per painter\n\n\n No experience neededa\n All supplies included
URL:https://visitpikeville.com/event/paint-class-pick-your-favorite/
LOCATION:2 Broke Art Teachers\, 4505 Weddington Square\,\, Pikeville\, KY\, 41501\, United States
CATEGORIES:Other
ATTACH;FMTTYPE=image/jpeg:https://visitpikeville.com/wp-content/uploads/2025/12/paint-class-favorite.jpg
END:VEVENT
BEGIN:VEVENT
DTSTART;TZID=America/Kentucky/Louisville:20251212T193000
DTEND;TZID=America/Kentucky/Louisville:20251212T213000
DTSTAMP:20260421T203301
CREATED:20251208T140721Z
LAST-MODIFIED:20251208T140721Z
UID:71984-1765567800-1765575000@visitpikeville.com
SUMMARY:A BLUEGRASS CHRISTMAS CAROL
DESCRIPTION:The ticket link is LIVE!! Reserve your tickets now to see ‘A BLUEGRASS CHRISTMAS CAROL’ running December 5th through 21st! Friday and Saturday nights at 7:30p.m.\, and Sunday matinees at 3p.m. All shows at the Pikeville High School Auditorium. Tickets are only $12. If purchasing through the link\, you can pick your tickets up at the door the night/day of the show! We can’t wait to celebrate the holiday season with you! https://checkout.square.site/…/OI4BN4RWHBWRGPP6MMJ44FDE…
URL:https://visitpikeville.com/event/a-bluegrass-christmas-carol-2-2/
LOCATION:Pikeville High School\, 120 Championship Dr\,\, Pikeville\, KY\, 41501\, United States
CATEGORIES:Other
ATTACH;FMTTYPE=image/jpeg:https://visitpikeville.com/wp-content/uploads/2025/12/CHRISTMAS-CAROL.jpg
END:VEVENT
BEGIN:VEVENT
DTSTART;TZID=America/Kentucky/Louisville:20251213T130000
DTEND;TZID=America/Kentucky/Louisville:20251213T150000
DTSTAMP:20260421T203301
CREATED:20251208T153131Z
LAST-MODIFIED:20251208T153131Z
UID:72030-1765630800-1765638000@visitpikeville.com
SUMMARY:FAMILY PAINT CLASS
DESCRIPTION:Saturday\, December 13\, 2025\n 1:00 PM\n $20 per painter\n\n\nPick your favorite painting from the options shown and join us for a fun\, family-friendly afternoon of creativity! \n All supplies included\n Perfect for kids & adults\n No experience needed\n\n\n Paint a snowman\, polar bear\, angel\, Grinch\, ornament\, reindeer & more!
URL:https://visitpikeville.com/event/family-paint-class-13/
LOCATION:2 Broke Art Teachers\, 4505 Weddington Square\,\, Pikeville\, KY\, 41501\, United States
CATEGORIES:Other
ATTACH;FMTTYPE=image/jpeg:https://visitpikeville.com/wp-content/uploads/2025/12/family-dec-13.jpg
END:VEVENT
BEGIN:VEVENT
DTSTART;TZID=America/Kentucky/Louisville:20251213T150000
DTEND;TZID=America/Kentucky/Louisville:20251213T170000
DTSTAMP:20260421T203301
CREATED:20251208T140807Z
LAST-MODIFIED:20251208T140807Z
UID:71986-1765638000-1765645200@visitpikeville.com
SUMMARY:A BLUEGRASS CHRISTMAS CAROL
DESCRIPTION:The ticket link is LIVE!! Reserve your tickets now to see ‘A BLUEGRASS CHRISTMAS CAROL’ running December 5th through 21st! Friday and Saturday nights at 7:30p.m.\, and Sunday matinees at 3p.m. All shows at the Pikeville High School Auditorium. Tickets are only $12. If purchasing through the link\, you can pick your tickets up at the door the night/day of the show! We can’t wait to celebrate the holiday season with you! https://checkout.square.site/…/OI4BN4RWHBWRGPP6MMJ44FDE…
URL:https://visitpikeville.com/event/a-bluegrass-christmas-carol-2-2-2/
LOCATION:Pikeville High School\, 120 Championship Dr\,\, Pikeville\, KY\, 41501\, United States
CATEGORIES:Other
ATTACH;FMTTYPE=image/jpeg:https://visitpikeville.com/wp-content/uploads/2025/12/CHRISTMAS-CAROL.jpg
END:VEVENT
BEGIN:VEVENT
DTSTART;TZID=America/Kentucky/Louisville:20251213T160000
DTEND;TZID=America/Kentucky/Louisville:20251213T190000
DTSTAMP:20260421T203301
CREATED:20251117T195128Z
LAST-MODIFIED:20251117T195128Z
UID:71412-1765641600-1765652400@visitpikeville.com
SUMMARY:Meet And Greet
DESCRIPTION:Amy Slaton from the TLC Show 1000lb Sisters
URL:https://visitpikeville.com/event/meet-and-greet/
LOCATION:Fazoli’s of Pikeville\, 1302 South Mayo Trail\,\, Pikeville\, KY\, 41501\, United States
CATEGORIES:Other
ATTACH;FMTTYPE=image/jpeg:https://visitpikeville.com/wp-content/uploads/2025/11/amy-slaton.jpg
END:VEVENT
BEGIN:VEVENT
DTSTART;TZID=America/Kentucky/Louisville:20251213T170000
DTEND;TZID=America/Kentucky/Louisville:20251213T190000
DTSTAMP:20260421T203301
CREATED:20251208T152815Z
LAST-MODIFIED:20251208T152815Z
UID:72028-1765645200-1765652400@visitpikeville.com
SUMMARY:Paint Class – Pick Your Favorite
DESCRIPTION:Choose from 9 festive designs and paint with us for a fun holiday night out!\n\n\n Friday\, Dec. 12 at 5:30\n Saturday\, Dec. 13 at 5:00\n $25 per painter\n\n\n No experience neededa\n All supplies included
URL:https://visitpikeville.com/event/paint-class-pick-your-favorite-2/
LOCATION:2 Broke Art Teachers\, 4505 Weddington Square\,\, Pikeville\, KY\, 41501\, United States
CATEGORIES:Other
ATTACH;FMTTYPE=image/jpeg:https://visitpikeville.com/wp-content/uploads/2025/12/paint-class-favorite.jpg
END:VEVENT
BEGIN:VEVENT
DTSTART;TZID=America/Kentucky/Louisville:20251213T193000
DTEND;TZID=America/Kentucky/Louisville:20251213T223000
DTSTAMP:20260421T203301
CREATED:20251208T144106Z
LAST-MODIFIED:20251208T144106Z
UID:72006-1765654200-1765665000@visitpikeville.com
SUMMARY:Live Music at Bank 253
DESCRIPTION:Jayden Wright \n7:30 – 10:30 pm
URL:https://visitpikeville.com/event/live-music-at-bank-253-3-2-2-2-2-2-2-2-2-2-2-2-2-2-2-2-2-2-2-2-2-2-2-2-2-2-2-2-2-2-2-2-2-2-3-2-2-2-2-2-2-3/
LOCATION:Bank 253\, 253 2nd St\,\, Pikeville\, KY\, 41501\, United States
CATEGORIES:Other
ATTACH;FMTTYPE=image/jpeg:https://visitpikeville.com/wp-content/uploads/2025/09/BANK-253.jpg
END:VEVENT
BEGIN:VEVENT
DTSTART;TZID=America/Kentucky/Louisville:20251218T193000
DTEND;TZID=America/Kentucky/Louisville:20251218T213000
DTSTAMP:20260421T203301
CREATED:20251208T141018Z
LAST-MODIFIED:20251208T141018Z
UID:71988-1766086200-1766093400@visitpikeville.com
SUMMARY:A BLUEGRASS CHRISTMAS CAROL
DESCRIPTION:The ticket link is LIVE!! Reserve your tickets now to see ‘A BLUEGRASS CHRISTMAS CAROL’ running December 5th through 21st! Friday and Saturday nights at 7:30p.m.\, and Sunday matinees at 3p.m. All shows at the Pikeville High School Auditorium. Tickets are only $12. If purchasing through the link\, you can pick your tickets up at the door the night/day of the show! We can’t wait to celebrate the holiday season with you! https://checkout.square.site/…/OI4BN4RWHBWRGPP6MMJ44FDE…
URL:https://visitpikeville.com/event/a-bluegrass-christmas-carol-2-3/
LOCATION:Pikeville High School\, 120 Championship Dr\,\, Pikeville\, KY\, 41501\, United States
CATEGORIES:Other
ATTACH;FMTTYPE=image/jpeg:https://visitpikeville.com/wp-content/uploads/2025/12/CHRISTMAS-CAROL.jpg
END:VEVENT
BEGIN:VEVENT
DTSTART;TZID=America/Kentucky/Louisville:20251219T180000
DTEND;TZID=America/Kentucky/Louisville:20251219T200000
DTSTAMP:20260421T203301
CREATED:20251215T134056Z
LAST-MODIFIED:20251215T134056Z
UID:72055-1766167200-1766174400@visitpikeville.com
SUMMARY:Free photos with Santa
DESCRIPTION:@ Winterfest
URL:https://visitpikeville.com/event/free-photos-with-santa/
LOCATION:Pikeville City Park\, 101 Cumberland Ct\,\, Pikeville\, KY\, 41501
CATEGORIES:Other
ATTACH;FMTTYPE=image/png:https://visitpikeville.com/wp-content/uploads/2025/12/Screenshot-2025-12-15-at-8.40.22-AM.png
END:VEVENT
BEGIN:VEVENT
DTSTART;TZID=America/Kentucky/Louisville:20251219T193000
DTEND;TZID=America/Kentucky/Louisville:20251219T213000
DTSTAMP:20260421T203301
CREATED:20251208T141100Z
LAST-MODIFIED:20251208T141100Z
UID:71990-1766172600-1766179800@visitpikeville.com
SUMMARY:A BLUEGRASS CHRISTMAS CAROL
DESCRIPTION:The ticket link is LIVE!! Reserve your tickets now to see ‘A BLUEGRASS CHRISTMAS CAROL’ running December 5th through 21st! Friday and Saturday nights at 7:30p.m.\, and Sunday matinees at 3p.m. All shows at the Pikeville High School Auditorium. Tickets are only $12. If purchasing through the link\, you can pick your tickets up at the door the night/day of the show! We can’t wait to celebrate the holiday season with you! https://checkout.square.site/…/OI4BN4RWHBWRGPP6MMJ44FDE…
URL:https://visitpikeville.com/event/a-bluegrass-christmas-carol-2-3-2/
LOCATION:Pikeville High School\, 120 Championship Dr\,\, Pikeville\, KY\, 41501\, United States
CATEGORIES:Other
ATTACH;FMTTYPE=image/jpeg:https://visitpikeville.com/wp-content/uploads/2025/12/CHRISTMAS-CAROL.jpg
END:VEVENT
BEGIN:VEVENT
DTSTART;TZID=America/Kentucky/Louisville:20251220T120000
DTEND;TZID=America/Kentucky/Louisville:20251220T150000
DTSTAMP:20260421T203301
CREATED:20251208T153815Z
LAST-MODIFIED:20251208T153815Z
UID:72033-1766232000-1766242800@visitpikeville.com
SUMMARY:MEET & GREET + COOKIES WITH THE GRINCH
DESCRIPTION:Join us Saturday\, Dec. 20th from 12–3 PM at McCoy Motorsports for a festive day with the one and only Grinch! \nBring the kids\, grab some cookies\, and snap photos with everyone’s favorite Christmas troublemaker! \nPLUS… while you’re here\, sign up IN PERSON for FREE for your chance to WIN a Freddo Toys Renegade 24V 1-Seater Ride-On ATV! The perfect Christmas surprise for your little rider! \n McCoy Motorsports Saturday\, Dec. 20th | 12–3 PM\nCome enjoy cookies\, Christmas vibes\, and Grinchy fun! 
URL:https://visitpikeville.com/event/meet-greet-cookies-with-the-grinch/
LOCATION:McCoy Motorsports\, 107 Billips Dr.\, Pikeville\, KY\, 41501\, United States
CATEGORIES:Other
ATTACH;FMTTYPE=image/jpeg:https://visitpikeville.com/wp-content/uploads/2025/12/grinch-meet.jpg
END:VEVENT
BEGIN:VEVENT
DTSTART;TZID=America/Kentucky/Louisville:20251220T130000
DTEND;TZID=America/Kentucky/Louisville:20251220T150000
DTSTAMP:20260421T203301
CREATED:20251201T164542Z
LAST-MODIFIED:20251201T164542Z
UID:71899-1766235600-1766242800@visitpikeville.com
SUMMARY:Pictures with The Grinch
DESCRIPTION:The GrinchTravelin’ Tom’s CoffeeStack Daddy’s – Mini Pancakes
URL:https://visitpikeville.com/event/pictures-with-the-grinch/
LOCATION:MineShaft Harley-Davidson\, 114 Harley Dr\, Pikeville\, KY\, 41501
CATEGORIES:Other
ATTACH;FMTTYPE=image/jpeg:https://visitpikeville.com/wp-content/uploads/2025/12/grinch-harley.jpg
END:VEVENT
BEGIN:VEVENT
DTSTART;TZID=America/Kentucky/Louisville:20251220T150000
DTEND;TZID=America/Kentucky/Louisville:20251220T170000
DTSTAMP:20260421T203301
CREATED:20251208T141202Z
LAST-MODIFIED:20251208T141202Z
UID:71992-1766242800-1766250000@visitpikeville.com
SUMMARY:A BLUEGRASS CHRISTMAS CAROL
DESCRIPTION:The ticket link is LIVE!! Reserve your tickets now to see ‘A BLUEGRASS CHRISTMAS CAROL’ running December 5th through 21st! Friday and Saturday nights at 7:30p.m.\, and Sunday matinees at 3p.m. All shows at the Pikeville High School Auditorium. Tickets are only $12. If purchasing through the link\, you can pick your tickets up at the door the night/day of the show! We can’t wait to celebrate the holiday season with you! https://checkout.square.site/…/OI4BN4RWHBWRGPP6MMJ44FDE…
URL:https://visitpikeville.com/event/a-bluegrass-christmas-carol-2-3-2-2/
LOCATION:Pikeville High School\, 120 Championship Dr\,\, Pikeville\, KY\, 41501\, United States
CATEGORIES:Other
ATTACH;FMTTYPE=image/jpeg:https://visitpikeville.com/wp-content/uploads/2025/12/CHRISTMAS-CAROL.jpg
END:VEVENT
BEGIN:VEVENT
DTSTART;TZID=America/Kentucky/Louisville:20251220T160000
DTEND;TZID=America/Kentucky/Louisville:20251220T180000
DTSTAMP:20260421T203301
CREATED:20251215T134209Z
LAST-MODIFIED:20251215T134209Z
UID:72058-1766246400-1766253600@visitpikeville.com
SUMMARY:Free photos with Santa
DESCRIPTION:@ Winterfest
URL:https://visitpikeville.com/event/free-photos-with-santa-2/
LOCATION:Pikeville City Park\, 101 Cumberland Ct\,\, Pikeville\, KY\, 41501
CATEGORIES:Other
ATTACH;FMTTYPE=image/png:https://visitpikeville.com/wp-content/uploads/2025/12/Screenshot-2025-12-15-at-8.40.22-AM.png
END:VEVENT
BEGIN:VEVENT
DTSTART;TZID=America/Kentucky/Louisville:20251220T180000
DTEND;TZID=America/Kentucky/Louisville:20251220T200000
DTSTAMP:20260421T203301
CREATED:20251215T143956Z
LAST-MODIFIED:20251215T143956Z
UID:72080-1766253600-1766260800@visitpikeville.com
SUMMARY:Country Christmas Pictures
DESCRIPTION:Wishing you a very Merry Holiday Season from Spring Branch Events! \nJoin us this weekend for a festive Country Christmas photo opportunity with Mrs. Claus and the Reindeer (Horses). Capture the magic in a 5-minute photo session with multiple photo opportunities for $10\, available in the barn located at 36 Spring Branch Pikeville\, KY 41501.
URL:https://visitpikeville.com/event/country-christmas-pictures/
LOCATION:Spring Branch Events\, 36 Spring Branch\,\, Pikeville\, KY\, 41501\, United States
CATEGORIES:Other
ATTACH;FMTTYPE=image/jpeg:https://visitpikeville.com/wp-content/uploads/2025/12/spring.jpg
END:VEVENT
BEGIN:VEVENT
DTSTART;TZID=America/Kentucky/Louisville:20251220T193000
DTEND;TZID=America/Kentucky/Louisville:20251220T223000
DTSTAMP:20260421T203301
CREATED:20251208T145058Z
LAST-MODIFIED:20251208T145058Z
UID:72010-1766259000-1766269800@visitpikeville.com
SUMMARY:Live Music at Bank 253
DESCRIPTION:Tim Micheals \n7:30 – 10:30 pm
URL:https://visitpikeville.com/event/live-music-at-bank-253-3-2-2-2-2-2-2-2-2-2-2-2-2-2-2-2-2-2-2-2-2-2-2-2-2-2-2-2-2-2-2-2-2-2-3-2-2-2-2-2-2-3-2/
LOCATION:Bank 253\, 253 2nd St\,\, Pikeville\, KY\, 41501\, United States
CATEGORIES:Other
ATTACH;FMTTYPE=image/jpeg:https://visitpikeville.com/wp-content/uploads/2025/09/BANK-253.jpg
END:VEVENT
BEGIN:VEVENT
DTSTART;TZID=America/Kentucky/Louisville:20251221T140000
DTEND;TZID=America/Kentucky/Louisville:20251221T160000
DTSTAMP:20260421T203301
CREATED:20251215T134349Z
LAST-MODIFIED:20251215T134349Z
UID:72060-1766325600-1766332800@visitpikeville.com
SUMMARY:Free photos with Santa
DESCRIPTION:@ Winterfest
URL:https://visitpikeville.com/event/free-photos-with-santa-2-2/
LOCATION:Pikeville City Park\, 101 Cumberland Ct\,\, Pikeville\, KY\, 41501
CATEGORIES:Other
ATTACH;FMTTYPE=image/png:https://visitpikeville.com/wp-content/uploads/2025/12/Screenshot-2025-12-15-at-8.40.22-AM.png
END:VEVENT
BEGIN:VEVENT
DTSTART;VALUE=DATE:20251223
DTEND;VALUE=DATE:20251224
DTSTAMP:20260421T203301
CREATED:20251208T150429Z
LAST-MODIFIED:20251208T150429Z
UID:72012-1766448000-1766534399@visitpikeville.com
SUMMARY:Half Price Blues Christmas Music
DESCRIPTION:@Bank 253 \n 
URL:https://visitpikeville.com/event/live-music-at-bank-253-3-2-2-2-2-2-2-2-2-2-2-2-2-2-2-2-2-2-2-2-2-2-2-2-2-2-2-2-2-2-2-2-2-2-3-2-2-2-2-2-2-3-2-2/
LOCATION:Bank 253\, 253 2nd St\,\, Pikeville\, KY\, 41501\, United States
CATEGORIES:Other
ATTACH;FMTTYPE=image/jpeg:https://visitpikeville.com/wp-content/uploads/2025/09/BANK-253.jpg
END:VEVENT
BEGIN:VEVENT
DTSTART;TZID=America/Kentucky/Louisville:20251223T180000
DTEND;TZID=America/Kentucky/Louisville:20251223T200000
DTSTAMP:20260421T203301
CREATED:20251215T134524Z
LAST-MODIFIED:20251215T134524Z
UID:72062-1766512800-1766520000@visitpikeville.com
SUMMARY:Free photos with Santa
DESCRIPTION:@ Winterfest
URL:https://visitpikeville.com/event/free-photos-with-santa-2-2-2/
LOCATION:Pikeville City Park\, 101 Cumberland Ct\,\, Pikeville\, KY\, 41501
CATEGORIES:Other
ATTACH;FMTTYPE=image/png:https://visitpikeville.com/wp-content/uploads/2025/12/Screenshot-2025-12-15-at-8.40.22-AM.png
END:VEVENT
BEGIN:VEVENT
DTSTART;TZID=America/Kentucky/Louisville:20251226T190000
DTEND;TZID=America/Kentucky/Louisville:20251226T220000
DTSTAMP:20260421T203301
CREATED:20251222T123611Z
LAST-MODIFIED:20251222T123611Z
UID:72106-1766775600-1766786400@visitpikeville.com
SUMMARY:Open Mic
DESCRIPTION:Open Mic is back\, starting the Friday after Christmas so bring your families out for A Very Merry Open Mic at Pearse’s Place above Dueling Barrels downtown Pikeville!!
URL:https://visitpikeville.com/event/open-mic-5/
LOCATION:Brothers Wright Distilling Co.\, 2nd Street\, Pikeville\, KY\, 41501\, United States
CATEGORIES:Other
ATTACH;FMTTYPE=image/jpeg:https://visitpikeville.com/wp-content/uploads/2025/12/open-mic.jpg
END:VEVENT
BEGIN:VEVENT
DTSTART;TZID=America/Kentucky/Louisville:20251227T130000
DTEND;TZID=America/Kentucky/Louisville:20251227T150000
DTSTAMP:20260421T203301
CREATED:20251222T124614Z
LAST-MODIFIED:20251222T124614Z
UID:72109-1766840400-1766847600@visitpikeville.com
SUMMARY:FAMILY PAINT CLASS
DESCRIPTION:FAMILY PAINT CLASS – THIS SATURDAY! \n\n\n Like & Share to invite your family and friends!\n\n\nJoin us at 2 Broke Art Teachers for a fun-filled Family Paint Class on\n Saturday\, December 27\, 2025\n 1:00 PM\n\n\n Choose from 9 adorable winter & holiday designs — perfect for kids and adults!\n $20 per painter\n Family-friendly • No experience needed\n\n\nAll supplies are included\, and canvases are pre-drawn so everyone can relax and have fun creating together \n\n\n Private message us to reserve your spot\nSpots are limited and these fill fast!
URL:https://visitpikeville.com/event/family-paint-class-14/
LOCATION:2 Broke Art Teachers\, 4505 Weddington Square\,\, Pikeville\, KY\, 41501\, United States
CATEGORIES:Other
ATTACH;FMTTYPE=image/jpeg:https://visitpikeville.com/wp-content/uploads/2025/12/family-paint-1227.jpg
END:VEVENT
END:VCALENDAR