BEGIN:VCALENDAR
VERSION:2.0
PRODID:-//Visit Pikeville - ECPv6.15.20//NONSGML v1.0//EN
CALSCALE:GREGORIAN
METHOD:PUBLISH
X-ORIGINAL-URL:https://visitpikeville.com
X-WR-CALDESC:Events for Visit Pikeville
REFRESH-INTERVAL;VALUE=DURATION:PT1H
X-Robots-Tag:noindex
X-PUBLISHED-TTL:PT1H
BEGIN:VTIMEZONE
TZID:America/Kentucky/Louisville
BEGIN:DAYLIGHT
TZOFFSETFROM:-0500
TZOFFSETTO:-0400
TZNAME:EDT
DTSTART:20240310T070000
END:DAYLIGHT
BEGIN:STANDARD
TZOFFSETFROM:-0400
TZOFFSETTO:-0500
TZNAME:EST
DTSTART:20241103T060000
END:STANDARD
BEGIN:DAYLIGHT
TZOFFSETFROM:-0500
TZOFFSETTO:-0400
TZNAME:EDT
DTSTART:20250309T070000
END:DAYLIGHT
BEGIN:STANDARD
TZOFFSETFROM:-0400
TZOFFSETTO:-0500
TZNAME:EST
DTSTART:20251102T060000
END:STANDARD
BEGIN:DAYLIGHT
TZOFFSETFROM:-0500
TZOFFSETTO:-0400
TZNAME:EDT
DTSTART:20260308T070000
END:DAYLIGHT
BEGIN:STANDARD
TZOFFSETFROM:-0400
TZOFFSETTO:-0500
TZNAME:EST
DTSTART:20261101T060000
END:STANDARD
END:VTIMEZONE
BEGIN:VEVENT
DTSTART;TZID=America/Kentucky/Louisville:20251002T173000
DTEND;TZID=America/Kentucky/Louisville:20251002T193000
DTSTAMP:20260421T234002
CREATED:20250929T142443Z
LAST-MODIFIED:20250929T142443Z
UID:69053-1759426200-1759433400@visitpikeville.com
SUMMARY:Sunny Barn Paint Class
DESCRIPTION: Sunny Barn Paint Class — Step by Step! No drawing required—we guide you from first brushstrokeWhat to expect:• Beginner-friendly\, step-by-step instruction• All supplies included (canvas\, paint\, brushes\, apron)• Great for friends\, families\, and creative me-timeSeats are limited. Private message us to reserve your spot!Tag your paint buddy and let’s make something sunny together. 
URL:https://visitpikeville.com/event/sunny-barn-paint-class/
LOCATION:2 Broke Art Teachers\, 4505 Weddington Square\,\, Pikeville\, KY\, 41501\, United States
CATEGORIES:Other
ATTACH;FMTTYPE=image/jpeg:https://visitpikeville.com/wp-content/uploads/2025/09/sunny.jpg
END:VEVENT
BEGIN:VEVENT
DTSTART;TZID=America/Kentucky/Louisville:20251003T173000
DTEND;TZID=America/Kentucky/Louisville:20251003T193000
DTSTAMP:20260421T234002
CREATED:20250929T142325Z
LAST-MODIFIED:20250929T142325Z
UID:69050-1759512600-1759519800@visitpikeville.com
SUMMARY:Fun Friday Fall Paint Class
DESCRIPTION: Fun Friday Paint Night! Oct. 3rd at 5:30Join us this Friday for a 16×20 canvas painting class – no experience needed!  2 Broke Art Teachers Studio $25 per painter Private message us to reserve your spot – seating is limited! Help us spread the word by giving this post a like & share – it means the world to our small business! Grab a friend\, bring your creativity\, and let’s make it a Fun Friday together! 
URL:https://visitpikeville.com/event/fun-friday-fall-paint-class/
LOCATION:2 Broke Art Teachers\, 4505 Weddington Square\,\, Pikeville\, KY\, 41501\, United States
CATEGORIES:Other
ATTACH;FMTTYPE=image/jpeg:https://visitpikeville.com/wp-content/uploads/2025/09/fall.jpg
END:VEVENT
BEGIN:VEVENT
DTSTART;TZID=America/Kentucky/Louisville:20251004T130000
DTEND;TZID=America/Kentucky/Louisville:20251004T150000
DTSTAMP:20260421T234002
CREATED:20250929T141747Z
LAST-MODIFIED:20250929T141747Z
UID:69041-1759582800-1759590000@visitpikeville.com
SUMMARY:Family Paint Class
DESCRIPTION:$20 Each
URL:https://visitpikeville.com/event/family-paint-class-4/
LOCATION:2 Broke Art Teachers\, 4505 Weddington Square\,\, Pikeville\, KY\, 41501\, United States
CATEGORIES:Other
ATTACH;FMTTYPE=image/jpeg:https://visitpikeville.com/wp-content/uploads/2025/09/FAMILY-PAINT-1.jpg
END:VEVENT
BEGIN:VEVENT
DTSTART;TZID=America/Kentucky/Louisville:20251004T170000
DTEND;TZID=America/Kentucky/Louisville:20251004T190000
DTSTAMP:20260421T234002
CREATED:20250929T141933Z
LAST-MODIFIED:20250929T141933Z
UID:69044-1759597200-1759604400@visitpikeville.com
SUMMARY:Night Paint Class
DESCRIPTION:Hearts Entwined
URL:https://visitpikeville.com/event/night-paint-class/
LOCATION:2 Broke Art Teachers\, 4505 Weddington Square\,\, Pikeville\, KY\, 41501\, United States
CATEGORIES:Other
ATTACH;FMTTYPE=image/jpeg:https://visitpikeville.com/wp-content/uploads/2025/09/night-paint.jpg
END:VEVENT
BEGIN:VEVENT
DTSTART;TZID=America/Kentucky/Louisville:20251004T170000
DTEND;TZID=America/Kentucky/Louisville:20251004T190000
DTSTAMP:20260421T234002
CREATED:20250929T142115Z
LAST-MODIFIED:20250929T142115Z
UID:69047-1759597200-1759604400@visitpikeville.com
SUMMARY:The Raven & J+S
DESCRIPTION:Saturday Night Paint Class \n Saturday at 5:00 PM\nProjects: The Raven & J+S (pick your favorite!)\n\n\nNo experience needed—come relax and paint with us at 2 Broke Art Teachers. Seats are limited!\n\n\n Please no children under 10\n Like & share to help us spread the word\n Private message to reserve your canvas\n\n\n#PaintNight #2BrokeArtTeachers #PikevilleArts #TheRaven #DateNight #BestieNight #SupportLocalArts #LikeAndShare
URL:https://visitpikeville.com/event/the-raven-js/
LOCATION:2 Broke Art Teachers\, 4505 Weddington Square\,\, Pikeville\, KY\, 41501\, United States
CATEGORIES:Other
ATTACH;FMTTYPE=image/jpeg:https://visitpikeville.com/wp-content/uploads/2025/09/raven.jpg
END:VEVENT
BEGIN:VEVENT
DTSTART;TZID=America/Kentucky/Louisville:20251008T190000
DTEND;TZID=America/Kentucky/Louisville:20251008T210000
DTSTAMP:20260421T234002
CREATED:20251006T130452Z
LAST-MODIFIED:20251006T130452Z
UID:69326-1759950000-1759957200@visitpikeville.com
SUMMARY:Open Mic Night
DESCRIPTION:Open Mic Night every Wednesday! \n\n\nJoin us upstairs at Dueling Barrels for Open Mic Night from 7–9 PM. Musicians\, singers\, and performers of all kinds are welcome to take the stage — or just come enjoy the local talent and a good drink. \n\n\n Use the blue door entrance at 244 Second Street\, downtown Pikeville.\n\n\nPlease drink responsibly.
URL:https://visitpikeville.com/event/open-mic-night-3/
LOCATION:Dueling Barrels\, 226 2nd Street\, Pikeville\, KY\, 41501\, United States
CATEGORIES:Other
ATTACH;FMTTYPE=image/jpeg:https://visitpikeville.com/wp-content/uploads/2025/10/open-mic.jpg
END:VEVENT
BEGIN:VEVENT
DTSTART;TZID=America/Kentucky/Louisville:20251008T193000
DTEND;TZID=America/Kentucky/Louisville:20251008T213000
DTSTAMP:20260421T234002
CREATED:20251006T130001Z
LAST-MODIFIED:20251006T130001Z
UID:69322-1759951800-1759959000@visitpikeville.com
SUMMARY:Bingo Night
DESCRIPTION:@ The Mine 606
URL:https://visitpikeville.com/event/bingo-night-2-2-2-2-2-2-2-2-2/
LOCATION:The Mine 606\, 121 Main St\, Pikeville\, KY\, 41501\, United States
CATEGORIES:Other
ATTACH;FMTTYPE=image/jpeg:https://visitpikeville.com/wp-content/uploads/2025/06/mine.jpg
END:VEVENT
BEGIN:VEVENT
DTSTART;TZID=America/Kentucky/Louisville:20251009T193000
DTEND;TZID=America/Kentucky/Louisville:20251009T223000
DTSTAMP:20260421T234002
CREATED:20251006T131009Z
LAST-MODIFIED:20251006T131009Z
UID:69335-1760038200-1760049000@visitpikeville.com
SUMMARY:Live DJ at Bank 253
DESCRIPTION:  \n@7:30pm
URL:https://visitpikeville.com/event/live-music-at-bank-253-3-2-2-2-2-2-2-2-2-2-2-2-2-2-2-2-2-2-2-2-2-2-2-2-2-2-2-2-2-2-2-2-2-2-2-2/
LOCATION:Bank 253\, 253 2nd St\,\, Pikeville\, KY\, 41501\, United States
CATEGORIES:Other
ATTACH;FMTTYPE=image/jpeg:https://visitpikeville.com/wp-content/uploads/2025/09/BANK-253.jpg
END:VEVENT
BEGIN:VEVENT
DTSTART;TZID=America/Kentucky/Louisville:20251010T173000
DTEND;TZID=America/Kentucky/Louisville:20251010T193000
DTSTAMP:20260421T234002
CREATED:20251006T143426Z
LAST-MODIFIED:20251006T143426Z
UID:69410-1760117400-1760124600@visitpikeville.com
SUMMARY:Fun Friday
DESCRIPTION:$25
URL:https://visitpikeville.com/event/fun-friday-3/
LOCATION:2 Broke Art Teachers\, 4505 Weddington Square\,\, Pikeville\, KY\, 41501\, United States
CATEGORIES:Other
ATTACH;FMTTYPE=image/jpeg:https://visitpikeville.com/wp-content/uploads/2025/10/fun-friday.jpg
END:VEVENT
BEGIN:VEVENT
DTSTART;TZID=America/Kentucky/Louisville:20251010T193000
DTEND;TZID=America/Kentucky/Louisville:20251010T223000
DTSTAMP:20260421T234002
CREATED:20251006T131139Z
LAST-MODIFIED:20251006T131217Z
UID:69337-1760124600-1760135400@visitpikeville.com
SUMMARY:Live Music at Bank 253
DESCRIPTION:  \n7:30 – 10:30 pm
URL:https://visitpikeville.com/event/live-music-at-bank-253-3-2-2-2-2-2-2-2-2-2-2-2-2-2-2-2-2-2-2-2-2-2-2-2-2-2-2-2-2-2-2-2-2-2-3-2-2/
LOCATION:Bank 253\, 253 2nd St\,\, Pikeville\, KY\, 41501\, United States
CATEGORIES:Other
ATTACH;FMTTYPE=image/jpeg:https://visitpikeville.com/wp-content/uploads/2025/09/BANK-253.jpg
END:VEVENT
BEGIN:VEVENT
DTSTART;TZID=America/Kentucky/Louisville:20251010T200000
DTEND;TZID=America/Kentucky/Louisville:20251010T235900
DTSTAMP:20260421T234002
CREATED:20250915T124113Z
LAST-MODIFIED:20250915T124113Z
UID:68450-1760126400-1760140740@visitpikeville.com
SUMMARY:Fright Night on the Farm
DESCRIPTION:Who’s ready for a scare? \n\n\nFright Night on the Farm returns to Pikeville this October!  Gather your friends and brave the haunted hayride ($5) or step inside the terrifying haunted house ($15) if you dare.\n\n\n Open Dates:\n Opening Night – Friday\, October 10\n Friday\, October 17 & 24\n Saturday\, October 18 & 25\n\n\nOpen from dark till midnight!\n\n\n 36 Spring Branch\, Pikeville\, KY 41501\n Cash only\, please\n\n\nDon’t miss Pike County’s spookiest Halloween event—are you brave enough to last until the end?
URL:https://visitpikeville.com/event/fright-night-on-the-farm/
LOCATION:Spring Branch Events\, 36 Spring Branch\,\, Pikeville\, KY\, 41501\, United States
CATEGORIES:Other
ATTACH;FMTTYPE=image/webp:https://visitpikeville.com/wp-content/uploads/2025/09/fright-night-on-farm.webp
END:VEVENT
BEGIN:VEVENT
DTSTART;TZID=America/Kentucky/Louisville:20251011T130000
DTEND;TZID=America/Kentucky/Louisville:20251011T150000
DTSTAMP:20260421T234002
CREATED:20251006T143546Z
LAST-MODIFIED:20251006T143546Z
UID:69413-1760187600-1760194800@visitpikeville.com
SUMMARY:Family Paint Class
DESCRIPTION:$20
URL:https://visitpikeville.com/event/family-paint-class-5/
LOCATION:2 Broke Art Teachers\, 4505 Weddington Square\,\, Pikeville\, KY\, 41501\, United States
CATEGORIES:Other
ATTACH;FMTTYPE=image/jpeg:https://visitpikeville.com/wp-content/uploads/2025/10/family.jpg
END:VEVENT
BEGIN:VEVENT
DTSTART;TZID=America/Kentucky/Louisville:20251011T170000
DTEND;TZID=America/Kentucky/Louisville:20251011T190000
DTSTAMP:20260421T234002
CREATED:20251006T143720Z
LAST-MODIFIED:20251006T143720Z
UID:69416-1760202000-1760209200@visitpikeville.com
SUMMARY:Saturday Night Paint Class
DESCRIPTION:$25
URL:https://visitpikeville.com/event/saturday-night-paint-class/
LOCATION:2 Broke Art Teachers\, 4505 Weddington Square\,\, Pikeville\, KY\, 41501\, United States
CATEGORIES:Other
ATTACH;FMTTYPE=image/jpeg:https://visitpikeville.com/wp-content/uploads/2025/10/night.jpg
END:VEVENT
BEGIN:VEVENT
DTSTART;TZID=America/Kentucky/Louisville:20251011T193000
DTEND;TZID=America/Kentucky/Louisville:20251011T223000
DTSTAMP:20260421T234002
CREATED:20251006T131308Z
LAST-MODIFIED:20251006T131308Z
UID:69339-1760211000-1760221800@visitpikeville.com
SUMMARY:Live Music at Bank 253
DESCRIPTION:  \n7:30 – 10:30 pm
URL:https://visitpikeville.com/event/live-music-at-bank-253-3-2-2-2-2-2-2-2-2-2-2-2-2-2-2-2-2-2-2-2-2-2-2-2-2-2-2-2-2-2-2-2-2-2-3-2-2-2/
LOCATION:Bank 253\, 253 2nd St\,\, Pikeville\, KY\, 41501\, United States
CATEGORIES:Other
ATTACH;FMTTYPE=image/jpeg:https://visitpikeville.com/wp-content/uploads/2025/09/BANK-253.jpg
END:VEVENT
BEGIN:VEVENT
DTSTART;TZID=America/Kentucky/Louisville:20251011T200000
DTEND;TZID=America/Kentucky/Louisville:20251011T230000
DTSTAMP:20260421T234002
CREATED:20251006T132909Z
LAST-MODIFIED:20251006T132909Z
UID:69352-1760212800-1760223600@visitpikeville.com
SUMMARY:Wildfire
DESCRIPTION:@Pearses Place
URL:https://visitpikeville.com/event/wildfire-3/
LOCATION:Pearse’s Place\, 224 2nd St\,\, Pikeville\, KY\, 41501\, United States
CATEGORIES:Other
ATTACH;FMTTYPE=image/jpeg:https://visitpikeville.com/wp-content/uploads/2025/10/wildfire.jpg
END:VEVENT
BEGIN:VEVENT
DTSTART;TZID=America/Kentucky/Louisville:20251015T190000
DTEND;TZID=America/Kentucky/Louisville:20251015T210000
DTSTAMP:20260421T234002
CREATED:20251006T130526Z
LAST-MODIFIED:20251006T130526Z
UID:69329-1760554800-1760562000@visitpikeville.com
SUMMARY:Open Mic Night
DESCRIPTION:Open Mic Night every Wednesday! \n\n\nJoin us upstairs at Dueling Barrels for Open Mic Night from 7–9 PM. Musicians\, singers\, and performers of all kinds are welcome to take the stage — or just come enjoy the local talent and a good drink. \n\n\n Use the blue door entrance at 244 Second Street\, downtown Pikeville.\n\n\nPlease drink responsibly.
URL:https://visitpikeville.com/event/open-mic-night-3-2/
LOCATION:Dueling Barrels\, 226 2nd Street\, Pikeville\, KY\, 41501\, United States
CATEGORIES:Other
ATTACH;FMTTYPE=image/jpeg:https://visitpikeville.com/wp-content/uploads/2025/10/open-mic.jpg
END:VEVENT
BEGIN:VEVENT
DTSTART;TZID=America/Kentucky/Louisville:20251015T193000
DTEND;TZID=America/Kentucky/Louisville:20251015T213000
DTSTAMP:20260421T234002
CREATED:20251006T133652Z
LAST-MODIFIED:20251006T133652Z
UID:69363-1760556600-1760563800@visitpikeville.com
SUMMARY:Trivia Night
DESCRIPTION:@ The Mine 606
URL:https://visitpikeville.com/event/trivia-night-9-2-2-2-2-2-2-2-2-2/
LOCATION:The Mine 606\, 121 Main St\, Pikeville\, KY\, 41501\, United States
CATEGORIES:Other
ATTACH;FMTTYPE=image/jpeg:https://visitpikeville.com/wp-content/uploads/2025/06/mine.jpg
END:VEVENT
BEGIN:VEVENT
DTSTART;TZID=America/Kentucky/Louisville:20251016T163000
DTEND;TZID=America/Kentucky/Louisville:20251016T173000
DTSTAMP:20260421T234002
CREATED:20251006T134226Z
LAST-MODIFIED:20251006T134226Z
UID:69367-1760632200-1760635800@visitpikeville.com
SUMMARY:Pikeville High School Homecoming Parade
DESCRIPTION:@Downtown Pikeville
URL:https://visitpikeville.com/event/pikeville-high-school-homecoming-parade/
LOCATION:Downtown Pikeville\, Pikeville\, Ky\, 41501
CATEGORIES:Other
ATTACH;FMTTYPE=image/png:https://visitpikeville.com/wp-content/uploads/2025/10/pikeville-highschool.png
END:VEVENT
BEGIN:VEVENT
DTSTART;VALUE=DATE:20251017
DTEND;VALUE=DATE:20251018
DTSTAMP:20260421T234002
CREATED:20251006T134452Z
LAST-MODIFIED:20251006T134452Z
UID:69370-1760659200-1760745599@visitpikeville.com
SUMMARY:Pumpkin Carving
DESCRIPTION:@ The Mine 606
URL:https://visitpikeville.com/event/trivia-night-9-2-2-2-2-2-2-2-2-2-2-2/
LOCATION:The Mine 606\, 121 Main St\, Pikeville\, KY\, 41501\, United States
CATEGORIES:Other
ATTACH;FMTTYPE=image/jpeg:https://visitpikeville.com/wp-content/uploads/2025/06/mine.jpg
END:VEVENT
BEGIN:VEVENT
DTSTART;TZID=America/Kentucky/Louisville:20251017T100000
DTEND;TZID=America/Kentucky/Louisville:20251017T233000
DTSTAMP:20260421T234002
CREATED:20251013T130503Z
LAST-MODIFIED:20251013T130503Z
UID:69684-1760695200-1760743800@visitpikeville.com
SUMMARY:Concert After Party
DESCRIPTION:It’s Going to be a Great weekend at The Bank! Reservations are currently being accepted for dinner before the concert. Due to limited availability\, we recommend reserving early. (606)-432-6566
URL:https://visitpikeville.com/event/concert-after-party/
LOCATION:Bank 253\, 253 2nd St\,\, Pikeville\, KY\, 41501\, United States
CATEGORIES:Other
ATTACH;FMTTYPE=image/jpeg:https://visitpikeville.com/wp-content/uploads/2025/10/after-party.jpg
END:VEVENT
BEGIN:VEVENT
DTSTART;TZID=America/Kentucky/Louisville:20251017T173000
DTEND;TZID=America/Kentucky/Louisville:20251017T193000
DTSTAMP:20260421T234002
CREATED:20251013T150110Z
LAST-MODIFIED:20251013T150110Z
UID:69805-1760722200-1760729400@visitpikeville.com
SUMMARY:Fun Friday
DESCRIPTION:Kick off your weekend with us at 5:30 PM on Friday\, Oct. 17!We’re unveiling new paintings \, perfect for beginners and friend groups. $25 per painter Limited seats—message us to save yours2 Broke Art Teachers#FunFriday #2BrokeArtTeachers #CreateWithUs
URL:https://visitpikeville.com/event/fun-friday-4/
LOCATION:2 Broke Art Teachers\, 4505 Weddington Square\,\, Pikeville\, KY\, 41501\, United States
CATEGORIES:Other
ATTACH;FMTTYPE=image/jpeg:https://visitpikeville.com/wp-content/uploads/2025/10/fun.jpg
END:VEVENT
BEGIN:VEVENT
DTSTART;TZID=America/Kentucky/Louisville:20251017T193000
DTEND;TZID=America/Kentucky/Louisville:20251017T213000
DTSTAMP:20260421T234002
CREATED:20250922T123934Z
LAST-MODIFIED:20250922T123934Z
UID:68712-1760729400-1760736600@visitpikeville.com
SUMMARY:DRACULA
DESCRIPTION:Artists Collaborative Theatre presents BRAM STOKER’S DRACULA. Co-Directed by Jason Justice & Treyton Blackburn. Tickets: $12.00. Oct. 17 – Nov. 2\nArtists Collaborative Theatre presents BRAM STOKER’S DRACULA adapted for the stage by Treyton Blackburn. Co-Directed by Jason Justice & Treyton Blackburn. Tickets: $12.00 Concessions and production t-shirts will be available for purchase. Synopsis: Jonathan Harker\, a young solicitor under the employ of the newly promoted Mr. Renfield\, must travel from London to Transylvania to finalize an estate sale to the mysterious Count Dracula. At the same time\, his fiancée Mina Murray cares for the eligible Lucy Westenra as she is courted by both three suitors and a mysterious sleepwalking illness. As Jonathan goes missing and Lucy’s state rapidly declines\, Mina suspects a sinister intent links these two woes. Based on the original novel by Bram Stoker\, this new adaptation by local playwright Treyton Blackburn highlights the humanity\, tragedy\, and horror of the world’s most famous vampire story. Sponsored by Community Trust Bank.
URL:https://visitpikeville.com/event/dracula/
LOCATION:Pikeville High School\, 120 Championship Dr\,\, Pikeville\, KY\, 41501\, United States
CATEGORIES:Other
ATTACH;FMTTYPE=image/jpeg:https://visitpikeville.com/wp-content/uploads/2025/09/dracula.jpg
END:VEVENT
BEGIN:VEVENT
DTSTART;TZID=America/Kentucky/Louisville:20251017T193000
DTEND;TZID=America/Kentucky/Louisville:20251017T223000
DTSTAMP:20260421T234002
CREATED:20251006T131846Z
LAST-MODIFIED:20251006T131846Z
UID:69341-1760729400-1760740200@visitpikeville.com
SUMMARY:Live DJ at Bank 253
DESCRIPTION:  \n@7:30pm
URL:https://visitpikeville.com/event/live-music-at-bank-253-3-2-2-2-2-2-2-2-2-2-2-2-2-2-2-2-2-2-2-2-2-2-2-2-2-2-2-2-2-2-2-2-2-2-2-2-2/
LOCATION:Bank 253\, 253 2nd St\,\, Pikeville\, KY\, 41501\, United States
CATEGORIES:Other
ATTACH;FMTTYPE=image/jpeg:https://visitpikeville.com/wp-content/uploads/2025/09/BANK-253.jpg
END:VEVENT
BEGIN:VEVENT
DTSTART;TZID=America/Kentucky/Louisville:20251017T200000
DTEND;TZID=America/Kentucky/Louisville:20251017T235900
DTSTAMP:20260421T234002
CREATED:20250915T124201Z
LAST-MODIFIED:20250915T124201Z
UID:68454-1760731200-1760745540@visitpikeville.com
SUMMARY:Fright Night on the Farm
DESCRIPTION:Who’s ready for a scare? \n\n\nFright Night on the Farm returns to Pikeville this October!  Gather your friends and brave the haunted hayride ($5) or step inside the terrifying haunted house ($15) if you dare.\n\n\n Open Dates:\n Opening Night – Friday\, October 10\n Friday\, October 17 & 24\n Saturday\, October 18 & 25\n\n\nOpen from dark till midnight!\n\n\n 36 Spring Branch\, Pikeville\, KY 41501\n Cash only\, please\n\n\nDon’t miss Pike County’s spookiest Halloween event—are you brave enough to last until the end?
URL:https://visitpikeville.com/event/fright-night-on-the-farm-2/
LOCATION:Spring Branch Events\, 36 Spring Branch\,\, Pikeville\, KY\, 41501\, United States
CATEGORIES:Other
ATTACH;FMTTYPE=image/webp:https://visitpikeville.com/wp-content/uploads/2025/09/fright-night-on-farm.webp
END:VEVENT
BEGIN:VEVENT
DTSTART;TZID=America/Kentucky/Louisville:20251018T130000
DTEND;TZID=America/Kentucky/Louisville:20251018T150000
DTSTAMP:20260421T234002
CREATED:20251013T145848Z
LAST-MODIFIED:20251013T145848Z
UID:69802-1760792400-1760799600@visitpikeville.com
SUMMARY:Family Paint
DESCRIPTION: Family Paint Saturday is back!Join us Saturday\, Oct. 18 at 1:00 PM for brand-new seasonal designs—perfect for all ages and skill levels. Bring the kids\, grandparents\, and your creativity! Private message to reserve your seats. Limited spots!
URL:https://visitpikeville.com/event/family-paint/
LOCATION:2 Broke Art Teachers\, 4505 Weddington Square\,\, Pikeville\, KY\, 41501\, United States
CATEGORIES:Other
ATTACH;FMTTYPE=image/jpeg:https://visitpikeville.com/wp-content/uploads/2025/10/family-paint.jpg
END:VEVENT
BEGIN:VEVENT
DTSTART;TZID=America/Kentucky/Louisville:20251018T150000
DTEND;TZID=America/Kentucky/Louisville:20251018T170000
DTSTAMP:20260421T234002
CREATED:20250922T124046Z
LAST-MODIFIED:20250922T124046Z
UID:68715-1760799600-1760806800@visitpikeville.com
SUMMARY:DRACULA
DESCRIPTION:Artists Collaborative Theatre presents BRAM STOKER’S DRACULA. Co-Directed by Jason Justice & Treyton Blackburn. Tickets: $12.00. Oct. 17 – Nov. 2\nArtists Collaborative Theatre presents BRAM STOKER’S DRACULA adapted for the stage by Treyton Blackburn. Co-Directed by Jason Justice & Treyton Blackburn. Tickets: $12.00 Concessions and production t-shirts will be available for purchase. Synopsis: Jonathan Harker\, a young solicitor under the employ of the newly promoted Mr. Renfield\, must travel from London to Transylvania to finalize an estate sale to the mysterious Count Dracula. At the same time\, his fiancée Mina Murray cares for the eligible Lucy Westenra as she is courted by both three suitors and a mysterious sleepwalking illness. As Jonathan goes missing and Lucy’s state rapidly declines\, Mina suspects a sinister intent links these two woes. Based on the original novel by Bram Stoker\, this new adaptation by local playwright Treyton Blackburn highlights the humanity\, tragedy\, and horror of the world’s most famous vampire story. Sponsored by Community Trust Bank.
URL:https://visitpikeville.com/event/dracula-2/
LOCATION:Pikeville High School\, 120 Championship Dr\,\, Pikeville\, KY\, 41501\, United States
CATEGORIES:Other
ATTACH;FMTTYPE=image/jpeg:https://visitpikeville.com/wp-content/uploads/2025/09/dracula.jpg
END:VEVENT
BEGIN:VEVENT
DTSTART;TZID=America/Kentucky/Louisville:20251018T170000
DTEND;TZID=America/Kentucky/Louisville:20251018T190000
DTSTAMP:20260421T234002
CREATED:20251013T145532Z
LAST-MODIFIED:20251013T145532Z
UID:69799-1760806800-1760814000@visitpikeville.com
SUMMARY:Cozy Lantern Name Sign – Customizable!
DESCRIPTION:Cozy Lantern Name Sign – Customizable! \n\n\nJoin us to paint this festive lamppost and personalize the sign with your family name\, house number\, or favorite phrase. We can tweak leaf/berry colors\, add extra snow\, and help with lettering so it’s perfect for your home or as a gift!\n\n\nSaturday\, Oct. 18th at 5:00 PM\nSeats are limited—private message to reserve!\n\n\n#2BrokeArtTeachers #PaintAndSip #HolidayPainting #CustomArt #PikevilleArts
URL:https://visitpikeville.com/event/cozy-lantern-name-sign-customizable/
LOCATION:2 Broke Art Teachers\, 4505 Weddington Square\,\, Pikeville\, KY\, 41501\, United States
CATEGORIES:Other
ATTACH;FMTTYPE=image/jpeg:https://visitpikeville.com/wp-content/uploads/2025/10/lantern.jpg
END:VEVENT
BEGIN:VEVENT
DTSTART;TZID=America/Kentucky/Louisville:20251018T170000
DTEND;TZID=America/Kentucky/Louisville:20251018T190000
DTSTAMP:20260421T234002
CREATED:20251013T150254Z
LAST-MODIFIED:20251013T150254Z
UID:69808-1760806800-1760814000@visitpikeville.com
SUMMARY:Saturday Night Paint Class
DESCRIPTION:Our schedule is packed with cozy Fall favorites and merry Christmas-themed paintings! Bring your besties\, pick your design\, and paint with us—no experience needed.Private message to reserve your seats. Limited spots!#2BrokeArtTeachers #FallPaint #ChristmasPaint #Pikeville #PaintAndSip #FamilyFun
URL:https://visitpikeville.com/event/saturday-night-paint-class-2/
LOCATION:2 Broke Art Teachers\, 4505 Weddington Square\,\, Pikeville\, KY\, 41501\, United States
CATEGORIES:Other
ATTACH;FMTTYPE=image/jpeg:https://visitpikeville.com/wp-content/uploads/2025/10/night-1.jpg
END:VEVENT
BEGIN:VEVENT
DTSTART;TZID=America/Kentucky/Louisville:20251018T170000
DTEND;TZID=America/Kentucky/Louisville:20251018T230000
DTSTAMP:20260421T234002
CREATED:20251013T205812Z
LAST-MODIFIED:20251013T205812Z
UID:69822-1760806800-1760828400@visitpikeville.com
SUMMARY:Rockin A Rodeo
DESCRIPTION:Admission $15
URL:https://visitpikeville.com/event/rockin-a-rodeo-3-2-2/
LOCATION:Rockin’ A Ranch\, 3381 KY-194\,\, Pikeville\, KY\, 41501\, United States
CATEGORIES:Other
ATTACH;FMTTYPE=image/jpeg:https://visitpikeville.com/wp-content/uploads/2025/10/rockin.jpg
END:VEVENT
BEGIN:VEVENT
DTSTART;TZID=America/Kentucky/Louisville:20251018T193000
DTEND;TZID=America/Kentucky/Louisville:20251018T223000
DTSTAMP:20260421T234002
CREATED:20251006T132004Z
LAST-MODIFIED:20251013T130052Z
UID:69343-1760815800-1760826600@visitpikeville.com
SUMMARY:Live Music at Bank 253
DESCRIPTION:  \n7:30 – 10:30 pm
URL:https://visitpikeville.com/event/live-music-at-bank-253-3-2-2-2-2-2-2-2-2-2-2-2-2-2-2-2-2-2-2-2-2-2-2-2-2-2-2-2-2-2-2-2-2-2-3-2-2-2-2/
LOCATION:Bank 253\, 253 2nd St\,\, Pikeville\, KY\, 41501\, United States
CATEGORIES:Other
ATTACH;FMTTYPE=image/jpeg:https://visitpikeville.com/wp-content/uploads/2025/10/bank.jpg
END:VEVENT
END:VCALENDAR