BEGIN:VCALENDAR
VERSION:2.0
PRODID:-//Visit Pikeville - ECPv6.15.20//NONSGML v1.0//EN
CALSCALE:GREGORIAN
METHOD:PUBLISH
X-WR-CALNAME:Visit Pikeville
X-ORIGINAL-URL:https://visitpikeville.com
X-WR-CALDESC:Events for Visit Pikeville
REFRESH-INTERVAL;VALUE=DURATION:PT1H
X-Robots-Tag:noindex
X-PUBLISHED-TTL:PT1H
BEGIN:VTIMEZONE
TZID:America/Kentucky/Louisville
BEGIN:DAYLIGHT
TZOFFSETFROM:-0500
TZOFFSETTO:-0400
TZNAME:EDT
DTSTART:20240310T070000
END:DAYLIGHT
BEGIN:STANDARD
TZOFFSETFROM:-0400
TZOFFSETTO:-0500
TZNAME:EST
DTSTART:20241103T060000
END:STANDARD
BEGIN:DAYLIGHT
TZOFFSETFROM:-0500
TZOFFSETTO:-0400
TZNAME:EDT
DTSTART:20250309T070000
END:DAYLIGHT
BEGIN:STANDARD
TZOFFSETFROM:-0400
TZOFFSETTO:-0500
TZNAME:EST
DTSTART:20251102T060000
END:STANDARD
BEGIN:DAYLIGHT
TZOFFSETFROM:-0500
TZOFFSETTO:-0400
TZNAME:EDT
DTSTART:20260308T070000
END:DAYLIGHT
BEGIN:STANDARD
TZOFFSETFROM:-0400
TZOFFSETTO:-0500
TZNAME:EST
DTSTART:20261101T060000
END:STANDARD
END:VTIMEZONE
BEGIN:VEVENT
DTSTART;VALUE=DATE:20250616
DTEND;VALUE=DATE:20250906
DTSTAMP:20260422T073803
CREATED:20250616T123825Z
LAST-MODIFIED:20250616T123825Z
UID:65211-1750032000-1757116799@visitpikeville.com
SUMMARY:Friends of Kentucky Agriculture Specialty License Plate Contest
DESCRIPTION:WIN $500!\n\n\nThe Kentucky Department of Agriculture is excited to launch the Friends of Kentucky Agriculture Specialty License Plate Contest with Kentucky 4-H and Kentucky FFA Association. This contest is open to current 4-H and FFA members or any student interested in agriculture!\n\n\nSubmit your original photography\, digital\, or hand-drawn artwork that includes the 4-H\, FFA\, and Kentucky Proud logos.\n\n\n Deadline: September 5\, 2025\n $500 cash prize to the winning design!\n Enter at kyagr.com/agfriends\n\n\nThis brand new plate will be available to all Kentucky drivers who want to show their support for agriculture\, not just production farmers. Proceeds will benefit 4-H\, FFA\, and Kentucky Proud programs across the state.\n\n\nThe current Farm License Plate will still be available for eligible farmers\, and we encourage continued renewal of that plate! The new Friends of KY Agriculture plate is an exciting option for Kentuckians who are proud to support the future of ag. We are excited to roll out the new Friends of Ag plate in 2026!
URL:https://visitpikeville.com/event/friends-of-kentucky-agriculture-specialty-license-plate-contest/
LOCATION:Online Event\, Pikeville\, KY\, 41501\, United States
CATEGORIES:Other
ATTACH;FMTTYPE=image/jpeg:https://visitpikeville.com/wp-content/uploads/2025/06/plate.jpg
END:VEVENT
BEGIN:VEVENT
DTSTART;TZID=America/Kentucky/Louisville:20250702T173000
DTEND;TZID=America/Kentucky/Louisville:20250702T193000
DTSTAMP:20260422T073803
CREATED:20250630T173232Z
LAST-MODIFIED:20250630T173232Z
UID:65363-1751477400-1751484600@visitpikeville.com
SUMMARY:Sailboat
DESCRIPTION:Participate in a relaxing evening of painting with an accomplished art instructor\, who will provide guidance and assistance as you paint this luminous Sailboat scene. Fully sketched out to eliminate any frustration concerns. How beautiful it will look in your home decor\, evoking memories of peaceful waters. PRIVATE MESSAGE to book your spot.
URL:https://visitpikeville.com/event/sailboat/
LOCATION:2 Broke Art Teachers\, 4505 Weddington Square\,\, Pikeville\, KY\, 41501\, United States
CATEGORIES:Other
ATTACH;FMTTYPE=image/jpeg:https://visitpikeville.com/wp-content/uploads/2025/06/sailboat.jpg
END:VEVENT
BEGIN:VEVENT
DTSTART;TZID=America/Kentucky/Louisville:20250702T183000
DTEND;TZID=America/Kentucky/Louisville:20250702T200000
DTSTAMP:20260422T073803
CREATED:20250702T151746Z
LAST-MODIFIED:20250702T151746Z
UID:65422-1751481000-1751486400@visitpikeville.com
SUMMARY:Bingo Night
DESCRIPTION:@ The Mine 606
URL:https://visitpikeville.com/event/bingo-night-2/
LOCATION:The Mine 606\, 121 Main St\, Pikeville\, KY\, 41501\, United States
CATEGORIES:Other
ATTACH;FMTTYPE=image/jpeg:https://visitpikeville.com/wp-content/uploads/2025/06/mine.jpg
END:VEVENT
BEGIN:VEVENT
DTSTART;VALUE=DATE:20250703
DTEND;VALUE=DATE:20250704
DTSTAMP:20260422T073803
CREATED:20250702T152116Z
LAST-MODIFIED:20250702T152116Z
UID:65433-1751500800-1751587199@visitpikeville.com
SUMMARY:Thirsty Thursday
DESCRIPTION:@ The Mine 606
URL:https://visitpikeville.com/event/thirsty-thursday-2-2-2/
LOCATION:The Mine 606\, 121 Main St\, Pikeville\, KY\, 41501\, United States
CATEGORIES:Other
ATTACH;FMTTYPE=image/jpeg:https://visitpikeville.com/wp-content/uploads/2025/06/mine.jpg
END:VEVENT
BEGIN:VEVENT
DTSTART;TZID=America/Kentucky/Louisville:20250703T173000
DTEND;TZID=America/Kentucky/Louisville:20250703T193000
DTSTAMP:20260422T073803
CREATED:20250630T173035Z
LAST-MODIFIED:20250630T173035Z
UID:65359-1751563800-1751571000@visitpikeville.com
SUMMARY:Jill O' Lantern
DESCRIPTION:Your neighborhood will take notice when you display your custom wood door hanger. This creative design brings together Halloween and Summer designs. You can personalize it with your chosen phrase and we include ribbon and a tropical flower to enhance your finished product. The price if $30 comes with all required materials and clear instructions. 
URL:https://visitpikeville.com/event/jill-o-lantern/
LOCATION:2 Broke Art Teachers\, 4505 Weddington Square\,\, Pikeville\, KY\, 41501\, United States
CATEGORIES:Other
ATTACH;FMTTYPE=image/jpeg:https://visitpikeville.com/wp-content/uploads/2025/06/jill.jpg
END:VEVENT
BEGIN:VEVENT
DTSTART;TZID=America/Kentucky/Louisville:20250705T150000
DTEND;TZID=America/Kentucky/Louisville:20250705T170000
DTSTAMP:20260422T073803
CREATED:20250630T172829Z
LAST-MODIFIED:20250630T172829Z
UID:65356-1751727600-1751734800@visitpikeville.com
SUMMARY:Fun Saturday
DESCRIPTION:Our “Fun Saturdays” events have attracted substantial attention from parents and children. Our assortment of popular paintings fosters creativity in kids and adults. To make it accessible\, we provide fully sketched designs and a clear color selection\, or the option to choose from our comprehensive range of premier paints. To secure a spot\, please send us a private message.
URL:https://visitpikeville.com/event/fun-saturday/
LOCATION:2 Broke Art Teachers\, 4505 Weddington Square\,\, Pikeville\, KY\, 41501\, United States
CATEGORIES:Other
ATTACH;FMTTYPE=image/jpeg:https://visitpikeville.com/wp-content/uploads/2025/06/saturday.jpg
END:VEVENT
BEGIN:VEVENT
DTSTART;TZID=America/Kentucky/Louisville:20250705T190000
DTEND;TZID=America/Kentucky/Louisville:20250705T210000
DTSTAMP:20260422T073803
CREATED:20250630T172535Z
LAST-MODIFIED:20250630T172535Z
UID:65353-1751742000-1751749200@visitpikeville.com
SUMMARY:Summer is Calling
DESCRIPTION:Here’s another original merged painting of the Summer. Something “spooky” is happening here.  Wonder who this guy’s calling – a ghostly Uber? Done on a 16 x 20 canvas\, you’ll want to display it all year round. Don’t worry\, fully sketched and step-by-step instructions are provided\, so you can brag about your masterpiece for many holidays to come. Better sign up quickly via private message here on FB\, before all the spaces disappear like magic.
URL:https://visitpikeville.com/event/summer-is-calling/
LOCATION:2 Broke Art Teachers\, 4505 Weddington Square\,\, Pikeville\, KY\, 41501\, United States
CATEGORIES:Other
ATTACH;FMTTYPE=image/jpeg:https://visitpikeville.com/wp-content/uploads/2025/06/summer.jpg
END:VEVENT
BEGIN:VEVENT
DTSTART;TZID=America/Kentucky/Louisville:20250707T173000
DTEND;TZID=America/Kentucky/Louisville:20250707T200000
DTSTAMP:20260422T073803
CREATED:20250702T185105Z
LAST-MODIFIED:20250702T185105Z
UID:65458-1751909400-1751918400@visitpikeville.com
SUMMARY:Mellow Monday's
DESCRIPTION:Card Games @ the Mine 606
URL:https://visitpikeville.com/event/mellow-mondays-2-2-2-2/
LOCATION:The Mine 606\, 121 Main St\, Pikeville\, KY\, 41501\, United States
CATEGORIES:Other
ATTACH;FMTTYPE=image/jpeg:https://visitpikeville.com/wp-content/uploads/2025/06/mine.jpg
END:VEVENT
BEGIN:VEVENT
DTSTART;VALUE=DATE:20250708
DTEND;VALUE=DATE:20250709
DTSTAMP:20260422T073803
CREATED:20250702T185428Z
LAST-MODIFIED:20250702T185428Z
UID:65466-1751932800-1752019199@visitpikeville.com
SUMMARY:Street Taco Tuesday
DESCRIPTION:@ The Mine 606
URL:https://visitpikeville.com/event/street-taco-tuesday-2-2-2/
LOCATION:The Mine 606\, 121 Main St\, Pikeville\, KY\, 41501\, United States
CATEGORIES:Other
ATTACH;FMTTYPE=image/jpeg:https://visitpikeville.com/wp-content/uploads/2025/06/mine.jpg
END:VEVENT
BEGIN:VEVENT
DTSTART;TZID=America/Kentucky/Louisville:20250709T183000
DTEND;TZID=America/Kentucky/Louisville:20250709T200000
DTSTAMP:20260422T073803
CREATED:20250702T151939Z
LAST-MODIFIED:20250702T151939Z
UID:65428-1752085800-1752091200@visitpikeville.com
SUMMARY:Trivia Night
DESCRIPTION:@ The Mine 606
URL:https://visitpikeville.com/event/trivia-night-9-2-2/
LOCATION:The Mine 606\, 121 Main St\, Pikeville\, KY\, 41501\, United States
CATEGORIES:Other
ATTACH;FMTTYPE=image/jpeg:https://visitpikeville.com/wp-content/uploads/2025/06/mine.jpg
END:VEVENT
BEGIN:VEVENT
DTSTART;VALUE=DATE:20250710
DTEND;VALUE=DATE:20250711
DTSTAMP:20260422T073803
CREATED:20250702T152145Z
LAST-MODIFIED:20250702T152145Z
UID:65435-1752105600-1752191999@visitpikeville.com
SUMMARY:Thirsty Thursday
DESCRIPTION:@ The Mine 606
URL:https://visitpikeville.com/event/thirsty-thursday-2-2-2-2/
LOCATION:The Mine 606\, 121 Main St\, Pikeville\, KY\, 41501\, United States
CATEGORIES:Other
ATTACH;FMTTYPE=image/jpeg:https://visitpikeville.com/wp-content/uploads/2025/06/mine.jpg
END:VEVENT
BEGIN:VEVENT
DTSTART;TZID=America/Kentucky/Louisville:20250710T160000
DTEND;TZID=America/Kentucky/Louisville:20250710T190000
DTSTAMP:20260422T073803
CREATED:20250707T141819Z
LAST-MODIFIED:20250707T141819Z
UID:65690-1752163200-1752174000@visitpikeville.com
SUMMARY:Fun Thursday
DESCRIPTION:Check in anytime between 4:00 &5:00 to begin your painting private message to reserve
URL:https://visitpikeville.com/event/fun-thursday/
LOCATION:2 Broke Art Teachers\, 4505 Weddington Square\,\, Pikeville\, KY\, 41501\, United States
CATEGORIES:Other
ATTACH;FMTTYPE=image/jpeg:https://visitpikeville.com/wp-content/uploads/2025/07/fun.jpg
END:VEVENT
BEGIN:VEVENT
DTSTART;VALUE=DATE:20250711
DTEND;VALUE=DATE:20250712
DTSTAMP:20260422T073803
CREATED:20250707T122420Z
LAST-MODIFIED:20250707T122420Z
UID:65633-1752192000-1752278399@visitpikeville.com
SUMMARY:Housing Authority Summer Blast
DESCRIPTION:@ City Park
URL:https://visitpikeville.com/event/housing-authority-summer-blast/
LOCATION:Pikeville City Park\, 101 Cumberland Ct\,\, Pikeville\, KY\, 41501
CATEGORIES:Other
ATTACH;FMTTYPE=image/png:https://visitpikeville.com/wp-content/uploads/2025/07/HOUSING.png
END:VEVENT
BEGIN:VEVENT
DTSTART;TZID=America/Kentucky/Louisville:20250711T170000
DTEND;TZID=America/Kentucky/Louisville:20250711T200000
DTSTAMP:20260422T073803
CREATED:20250707T122757Z
LAST-MODIFIED:20250707T122757Z
UID:65636-1752253200-1752264000@visitpikeville.com
SUMMARY:Faith Market Vision Board Night and Creative Community
DESCRIPTION:@ Faith Market
URL:https://visitpikeville.com/event/faith-market-vision-board-night-and-creative-community/
LOCATION:Faith Life Market\, 130 Division St\,\, Pikeville\, KY\, 41501\, United States
CATEGORIES:Other
ATTACH;FMTTYPE=image/jpeg:https://visitpikeville.com/wp-content/uploads/2025/07/faith.jpg
END:VEVENT
BEGIN:VEVENT
DTSTART;TZID=America/Kentucky/Louisville:20250711T173000
DTEND;TZID=America/Kentucky/Louisville:20250711T203000
DTSTAMP:20260422T073803
CREATED:20250707T142145Z
LAST-MODIFIED:20250707T142145Z
UID:65693-1752255000-1752265800@visitpikeville.com
SUMMARY:Henrietta Hen
DESCRIPTION:Sure to be popular… private message to reserve.
URL:https://visitpikeville.com/event/henrietta-hen/
LOCATION:2 Broke Art Teachers\, 4505 Weddington Square\,\, Pikeville\, KY\, 41501\, United States
CATEGORIES:Other
ATTACH;FMTTYPE=image/jpeg:https://visitpikeville.com/wp-content/uploads/2025/07/henrietta.jpg
END:VEVENT
BEGIN:VEVENT
DTSTART;TZID=America/Kentucky/Louisville:20250711T173000
DTEND;TZID=America/Kentucky/Louisville:20250711T203000
DTSTAMP:20260422T073803
CREATED:20250707T145254Z
LAST-MODIFIED:20250707T145254Z
UID:65713-1752255000-1752265800@visitpikeville.com
SUMMARY:Jill-O-Lantern
DESCRIPTION:Did you miss this cutie of a door hanger the first time around? She’s back for one more class. All supplies included & writing can be changed . Private message to reserve.
URL:https://visitpikeville.com/event/jill-o-lantern-2/
LOCATION:2 Broke Art Teachers\, 4505 Weddington Square\,\, Pikeville\, KY\, 41501\, United States
CATEGORIES:Other
ATTACH;FMTTYPE=image/jpeg:https://visitpikeville.com/wp-content/uploads/2025/07/JILLO.jpg
END:VEVENT
BEGIN:VEVENT
DTSTART;TZID=America/Kentucky/Louisville:20250711T193000
DTEND;TZID=America/Kentucky/Louisville:20250711T223000
DTSTAMP:20260422T073803
CREATED:20250707T122938Z
LAST-MODIFIED:20250707T122938Z
UID:65639-1752262200-1752273000@visitpikeville.com
SUMMARY:Live Music at Bank 253
DESCRIPTION:7:30 – 10:30 pm
URL:https://visitpikeville.com/event/live-music-at-bank-253-3-2-2-2-2-2-2-2-2-2-2-2-2-2-2-2-2-2-2-2-2-2-2-2-2/
LOCATION:Bank 253\, 253 2nd St\,\, Pikeville\, KY\, 41501\, United States
CATEGORIES:Other
ATTACH;FMTTYPE=image/jpeg:https://visitpikeville.com/wp-content/uploads/2025/02/bank253.jpg
END:VEVENT
BEGIN:VEVENT
DTSTART;TZID=America/Kentucky/Louisville:20250712T080000
DTEND;TZID=America/Kentucky/Louisville:20250712T170000
DTSTAMP:20260422T073803
CREATED:20250707T123420Z
LAST-MODIFIED:20250707T123420Z
UID:65644-1752307200-1752339600@visitpikeville.com
SUMMARY:PHS Cheer Pickleball Tournament
DESCRIPTION:@Bob Amos
URL:https://visitpikeville.com/event/phs-cheer-pickleball-tournament/
LOCATION:Bob Amos Park\, 424 Bob Amos Dr\, Pikeville\, Ky\, 41501
CATEGORIES:Other
ATTACH;FMTTYPE=image/jpeg:https://visitpikeville.com/wp-content/uploads/2025/07/phs-cheer.jpg
END:VEVENT
BEGIN:VEVENT
DTSTART;TZID=America/Kentucky/Louisville:20250712T190000
DTEND;TZID=America/Kentucky/Louisville:20250712T220000
DTSTAMP:20260422T073803
CREATED:20250707T142316Z
LAST-MODIFIED:20250707T142316Z
UID:65696-1752346800-1752357600@visitpikeville.com
SUMMARY:Fun Saturday
DESCRIPTION:Some classics & some new designs. Private message to reserve.2 Broke Art Teachers
URL:https://visitpikeville.com/event/fun-saturday-2/
LOCATION:2 Broke Art Teachers\, 4505 Weddington Square\,\, Pikeville\, KY\, 41501\, United States
CATEGORIES:Other
ATTACH;FMTTYPE=image/jpeg:https://visitpikeville.com/wp-content/uploads/2025/07/funsaturday.jpg
END:VEVENT
BEGIN:VEVENT
DTSTART;TZID=America/Kentucky/Louisville:20250712T193000
DTEND;TZID=America/Kentucky/Louisville:20250712T223000
DTSTAMP:20260422T073803
CREATED:20250707T123020Z
LAST-MODIFIED:20250707T123020Z
UID:65641-1752348600-1752359400@visitpikeville.com
SUMMARY:Live Music at Bank 253
DESCRIPTION:7:30 – 10:30 pm
URL:https://visitpikeville.com/event/live-music-at-bank-253-3-2-2-2-2-2-2-2-2-2-2-2-2-2-2-2-2-2-2-2-2-2-2-2-2-2/
LOCATION:Bank 253\, 253 2nd St\,\, Pikeville\, KY\, 41501\, United States
CATEGORIES:Other
ATTACH;FMTTYPE=image/jpeg:https://visitpikeville.com/wp-content/uploads/2025/02/bank253.jpg
END:VEVENT
BEGIN:VEVENT
DTSTART;TZID=America/Kentucky/Louisville:20250714T173000
DTEND;TZID=America/Kentucky/Louisville:20250714T200000
DTSTAMP:20260422T073803
CREATED:20250702T185129Z
LAST-MODIFIED:20250702T185129Z
UID:65460-1752514200-1752523200@visitpikeville.com
SUMMARY:Mellow Monday's
DESCRIPTION:Card Games @ the Mine 606
URL:https://visitpikeville.com/event/mellow-mondays-2-2-2-2-2/
LOCATION:The Mine 606\, 121 Main St\, Pikeville\, KY\, 41501\, United States
CATEGORIES:Other
ATTACH;FMTTYPE=image/jpeg:https://visitpikeville.com/wp-content/uploads/2025/06/mine.jpg
END:VEVENT
BEGIN:VEVENT
DTSTART;VALUE=DATE:20250715
DTEND;VALUE=DATE:20250716
DTSTAMP:20260422T073803
CREATED:20250702T185455Z
LAST-MODIFIED:20250702T185455Z
UID:65468-1752537600-1752623999@visitpikeville.com
SUMMARY:Street Taco Tuesday
DESCRIPTION:@ The Mine 606
URL:https://visitpikeville.com/event/street-taco-tuesday-2-2-2-2/
LOCATION:The Mine 606\, 121 Main St\, Pikeville\, KY\, 41501\, United States
CATEGORIES:Other
ATTACH;FMTTYPE=image/jpeg:https://visitpikeville.com/wp-content/uploads/2025/06/mine.jpg
END:VEVENT
BEGIN:VEVENT
DTSTART;TZID=America/Kentucky/Louisville:20250716T183000
DTEND;TZID=America/Kentucky/Louisville:20250716T200000
DTSTAMP:20260422T073803
CREATED:20250702T151827Z
LAST-MODIFIED:20250702T151827Z
UID:65424-1752690600-1752696000@visitpikeville.com
SUMMARY:Bingo Night
DESCRIPTION:@ The Mine 606
URL:https://visitpikeville.com/event/bingo-night-2-2/
LOCATION:The Mine 606\, 121 Main St\, Pikeville\, KY\, 41501\, United States
CATEGORIES:Other
ATTACH;FMTTYPE=image/jpeg:https://visitpikeville.com/wp-content/uploads/2025/06/mine.jpg
END:VEVENT
BEGIN:VEVENT
DTSTART;VALUE=DATE:20250717
DTEND;VALUE=DATE:20250718
DTSTAMP:20260422T073803
CREATED:20250702T152213Z
LAST-MODIFIED:20250702T152213Z
UID:65437-1752710400-1752796799@visitpikeville.com
SUMMARY:Thirsty Thursday
DESCRIPTION:@ The Mine 606
URL:https://visitpikeville.com/event/thirsty-thursday-2-2-2-2-2/
LOCATION:The Mine 606\, 121 Main St\, Pikeville\, KY\, 41501\, United States
CATEGORIES:Other
ATTACH;FMTTYPE=image/jpeg:https://visitpikeville.com/wp-content/uploads/2025/06/mine.jpg
END:VEVENT
BEGIN:VEVENT
DTSTART;TZID=America/Kentucky/Louisville:20250718T193000
DTEND;TZID=America/Kentucky/Louisville:20250718T223000
DTSTAMP:20260422T073803
CREATED:20250707T130326Z
LAST-MODIFIED:20250714T141454Z
UID:65654-1752867000-1752877800@visitpikeville.com
SUMMARY:Live Music at Bank 253
DESCRIPTION:Tim Michaels \n7:30 – 10:30 pm
URL:https://visitpikeville.com/event/live-music-at-bank-253-3-2-2-2-2-2-2-2-2-2-2-2-2-2-2-2-2-2-2-2-2-2-2-2-2-2-2/
LOCATION:Bank 253\, 253 2nd St\,\, Pikeville\, KY\, 41501\, United States
CATEGORIES:Other
ATTACH;FMTTYPE=image/jpeg:https://visitpikeville.com/wp-content/uploads/2025/02/bank253.jpg
END:VEVENT
BEGIN:VEVENT
DTSTART;TZID=America/Kentucky/Louisville:20250719T113000
DTEND;TZID=America/Kentucky/Louisville:20250719T143000
DTSTAMP:20260422T073803
CREATED:20250707T131204Z
LAST-MODIFIED:20250707T131204Z
UID:65662-1752924600-1752935400@visitpikeville.com
SUMMARY:Hillbilly Christmas in July
DESCRIPTION:SATURDAY JULY 19\, a Milestone Event\, for Hillbilly Christmas in July will be Celebrating 20 Years of our “Randy Jones Memorial Ride for The Kids”. This year’s event\, will leave “MineShaft Harley-Davidson” at 1pm. Registration 11:30 to 12:30 pm. Motorcycles\, Jeeps\, Cars\, Trucks\, Show Cars\, or your Daily Driver join us as we travel through beautiful Eastern Kentucky to reach our destination the “Appalachian Wireless Arena”. Lunch will be provided . Silent Auction. The drawing for the WINNING TICKET for the 2024 HARLEY DAVIDSON MOTORCYCLE! (do not need to be present to win the motorcycle) See you there! THANK YOU FOR YOUR SUPPORT + PLEASE SHARE! #hij #wedoitforthekids #celebrating20years
URL:https://visitpikeville.com/event/hillbilly-christmas-in-july-2/
LOCATION:Appalachian Wireless Arena\, 126 Main Street\, Pikeville\, Ky\, 41501
CATEGORIES:Other
ATTACH;FMTTYPE=image/jpeg:https://visitpikeville.com/wp-content/uploads/2025/07/CHRISTMAS.jpg
END:VEVENT
BEGIN:VEVENT
DTSTART;TZID=America/Kentucky/Louisville:20250719T193000
DTEND;TZID=America/Kentucky/Louisville:20250719T223000
DTSTAMP:20260422T073803
CREATED:20250707T130404Z
LAST-MODIFIED:20250714T141541Z
UID:65656-1752953400-1752964200@visitpikeville.com
SUMMARY:Live Music at Bank 253
DESCRIPTION:Julia Still \n7:30 – 10:30 pm
URL:https://visitpikeville.com/event/live-music-at-bank-253-3-2-2-2-2-2-2-2-2-2-2-2-2-2-2-2-2-2-2-2-2-2-2-2-2-2-2-2/
LOCATION:Bank 253\, 253 2nd St\,\, Pikeville\, KY\, 41501\, United States
CATEGORIES:Other
ATTACH;FMTTYPE=image/jpeg:https://visitpikeville.com/wp-content/uploads/2025/02/bank253.jpg
END:VEVENT
BEGIN:VEVENT
DTSTART;TZID=America/Kentucky/Louisville:20250719T200000
DTEND;TZID=America/Kentucky/Louisville:20250719T220000
DTSTAMP:20260422T073803
CREATED:20250707T141513Z
LAST-MODIFIED:20250707T141513Z
UID:65687-1752955200-1752962400@visitpikeville.com
SUMMARY:B R & The Coal Rush Band
DESCRIPTION:@Pearse’s Place
URL:https://visitpikeville.com/event/b-r-the-coal-rush-band/
LOCATION:Pearse’s Place\, 224 2nd St\,\, Pikeville\, KY\, 41501\, United States
CATEGORIES:Other
ATTACH;FMTTYPE=image/jpeg:https://visitpikeville.com/wp-content/uploads/2025/07/br.jpg
END:VEVENT
BEGIN:VEVENT
DTSTART;TZID=America/Kentucky/Louisville:20250721T173000
DTEND;TZID=America/Kentucky/Louisville:20250721T200000
DTSTAMP:20260422T073803
CREATED:20250702T185246Z
LAST-MODIFIED:20250702T185246Z
UID:65462-1753119000-1753128000@visitpikeville.com
SUMMARY:Mellow Monday's
DESCRIPTION:Card Games @ the Mine 606
URL:https://visitpikeville.com/event/mellow-mondays-2-2-2-2-2-2/
LOCATION:The Mine 606\, 121 Main St\, Pikeville\, KY\, 41501\, United States
CATEGORIES:Other
ATTACH;FMTTYPE=image/jpeg:https://visitpikeville.com/wp-content/uploads/2025/06/mine.jpg
END:VEVENT
BEGIN:VEVENT
DTSTART;VALUE=DATE:20250722
DTEND;VALUE=DATE:20250723
DTSTAMP:20260422T073803
CREATED:20250702T185520Z
LAST-MODIFIED:20250702T185520Z
UID:65470-1753142400-1753228799@visitpikeville.com
SUMMARY:Street Taco Tuesday
DESCRIPTION:@ The Mine 606
URL:https://visitpikeville.com/event/street-taco-tuesday-2-2-2-2-2/
LOCATION:The Mine 606\, 121 Main St\, Pikeville\, KY\, 41501\, United States
CATEGORIES:Other
ATTACH;FMTTYPE=image/jpeg:https://visitpikeville.com/wp-content/uploads/2025/06/mine.jpg
END:VEVENT
END:VCALENDAR