BEGIN:VCALENDAR
VERSION:2.0
PRODID:-//Visit Pikeville - ECPv6.15.20//NONSGML v1.0//EN
CALSCALE:GREGORIAN
METHOD:PUBLISH
X-WR-CALNAME:Visit Pikeville
X-ORIGINAL-URL:https://visitpikeville.com
X-WR-CALDESC:Events for Visit Pikeville
REFRESH-INTERVAL;VALUE=DURATION:PT1H
X-Robots-Tag:noindex
X-PUBLISHED-TTL:PT1H
BEGIN:VTIMEZONE
TZID:America/Kentucky/Louisville
BEGIN:DAYLIGHT
TZOFFSETFROM:-0500
TZOFFSETTO:-0400
TZNAME:EDT
DTSTART:20240310T070000
END:DAYLIGHT
BEGIN:STANDARD
TZOFFSETFROM:-0400
TZOFFSETTO:-0500
TZNAME:EST
DTSTART:20241103T060000
END:STANDARD
BEGIN:DAYLIGHT
TZOFFSETFROM:-0500
TZOFFSETTO:-0400
TZNAME:EDT
DTSTART:20250309T070000
END:DAYLIGHT
BEGIN:STANDARD
TZOFFSETFROM:-0400
TZOFFSETTO:-0500
TZNAME:EST
DTSTART:20251102T060000
END:STANDARD
BEGIN:DAYLIGHT
TZOFFSETFROM:-0500
TZOFFSETTO:-0400
TZNAME:EDT
DTSTART:20260308T070000
END:DAYLIGHT
BEGIN:STANDARD
TZOFFSETFROM:-0400
TZOFFSETTO:-0500
TZNAME:EST
DTSTART:20261101T060000
END:STANDARD
END:VTIMEZONE
BEGIN:VEVENT
DTSTART;TZID=America/Kentucky/Louisville:20250605T173000
DTEND;TZID=America/Kentucky/Louisville:20250605T203000
DTSTAMP:20260422T091027
CREATED:20250602T135844Z
LAST-MODIFIED:20250602T135844Z
UID:64857-1749144600-1749155400@visitpikeville.com
SUMMARY:Rocky the Rooster
DESCRIPTION:Join us in Pikeville\, KY on Thursday\, June 5th\, 2025 for a painting class featuring ‘Rocky the Rooster.’ The 16×20 canvas artwork will be created through step-by-step instruction and is available for $30. To reserve\, please send a private message. 2 Broke Art Teachers
URL:https://visitpikeville.com/event/rocky-the-rooster/
LOCATION:2 Broke Art Teachers\, 4505 Weddington Square\,\, Pikeville\, KY\, 41501\, United States
CATEGORIES:Other
ATTACH;FMTTYPE=image/jpeg:https://visitpikeville.com/wp-content/uploads/2025/06/rocky-rooster.jpg
END:VEVENT
BEGIN:VEVENT
DTSTART;TZID=America/Kentucky/Louisville:20250606T170000
DTEND;TZID=America/Kentucky/Louisville:20250606T200000
DTSTAMP:20260422T091027
CREATED:20250602T135056Z
LAST-MODIFIED:20250602T135056Z
UID:64847-1749229200-1749240000@visitpikeville.com
SUMMARY:FUN FRIDAY
DESCRIPTION:Ready\, set\, paint! Are you ready for some paint party fun? FUN FRIDAY June 6th 5:00-6:00 check in time or FUN SATURDAY June 7th 2025 11:00- noon check in time….11×14 canvas is available for $20 each. (Approx. completion time 60 -90 minutes)To reserve\, please send a private message and include which paintings your group wishes to paint. 2 Broke Art Teachers
URL:https://visitpikeville.com/event/fun-friday/
LOCATION:2 Broke Art Teachers\, 4505 Weddington Square\,\, Pikeville\, KY\, 41501\, United States
CATEGORIES:Other
ATTACH;FMTTYPE=image/jpeg:https://visitpikeville.com/wp-content/uploads/2025/06/fun.jpg
END:VEVENT
BEGIN:VEVENT
DTSTART;TZID=America/Kentucky/Louisville:20250607T110000
DTEND;TZID=America/Kentucky/Louisville:20250607T150000
DTSTAMP:20260422T091027
CREATED:20250602T135155Z
LAST-MODIFIED:20250602T135155Z
UID:64850-1749294000-1749308400@visitpikeville.com
SUMMARY:FUN SATURDAY
DESCRIPTION:Ready\, set\, paint! Are you ready for some paint party fun? FUN FRIDAY June 6th 5:00-6:00 check in time or FUN SATURDAY June 7th 2025 11:00- noon check in time….11×14 canvas is available for $20 each. (Approx. completion time 60 -90 minutes)To reserve\, please send a private message and include which paintings your group wishes to paint. 2 Broke Art Teachers
URL:https://visitpikeville.com/event/fun-friday-2/
LOCATION:2 Broke Art Teachers\, 4505 Weddington Square\,\, Pikeville\, KY\, 41501\, United States
CATEGORIES:Other
ATTACH;FMTTYPE=image/jpeg:https://visitpikeville.com/wp-content/uploads/2025/06/fun.jpg
END:VEVENT
BEGIN:VEVENT
DTSTART;TZID=America/Kentucky/Louisville:20250607T140000
DTEND;TZID=America/Kentucky/Louisville:20250607T170000
DTSTAMP:20260422T091027
CREATED:20250602T135649Z
LAST-MODIFIED:20250602T135649Z
UID:64854-1749304800-1749315600@visitpikeville.com
SUMMARY:Painters Choice
DESCRIPTION:Join us in Pikeville\, KY on Saturday June 7th 2025 for “Painters Choice\,” check in time will be 2:00-3:00. The 16×20 canvas is available for $25 each . To reserve\, please send a private message and include which paintings your group wishes to paint. 2 Broke Art Teachers
URL:https://visitpikeville.com/event/painters-choice-2/
LOCATION:2 Broke Art Teachers\, 4505 Weddington Square\,\, Pikeville\, KY\, 41501\, United States
CATEGORIES:Other
ATTACH;FMTTYPE=image/jpeg:https://visitpikeville.com/wp-content/uploads/2025/06/painters-choice.jpg
END:VEVENT
BEGIN:VEVENT
DTSTART;TZID=America/Kentucky/Louisville:20250609T173000
DTEND;TZID=America/Kentucky/Louisville:20250609T200000
DTSTAMP:20260422T091027
CREATED:20250609T132904Z
LAST-MODIFIED:20250609T132904Z
UID:65055-1749490200-1749499200@visitpikeville.com
SUMMARY:Mellow Monday's
DESCRIPTION:Card Games @ the Mine 606
URL:https://visitpikeville.com/event/mellow-mondays/
LOCATION:The Mine 606\, 121 Main St\, Pikeville\, KY\, 41501\, United States
CATEGORIES:Other
ATTACH;FMTTYPE=image/jpeg:https://visitpikeville.com/wp-content/uploads/2025/06/mine.jpg
END:VEVENT
BEGIN:VEVENT
DTSTART;VALUE=DATE:20250610
DTEND;VALUE=DATE:20250611
DTSTAMP:20260422T091027
CREATED:20250609T133908Z
LAST-MODIFIED:20250609T133908Z
UID:65072-1749513600-1749599999@visitpikeville.com
SUMMARY:Street Taco Tuesday
DESCRIPTION:@ The Mine 606
URL:https://visitpikeville.com/event/street-taco-tuesday/
LOCATION:The Mine 606\, 121 Main St\, Pikeville\, KY\, 41501\, United States
CATEGORIES:Other
ATTACH;FMTTYPE=image/jpeg:https://visitpikeville.com/wp-content/uploads/2025/06/mine.jpg
END:VEVENT
BEGIN:VEVENT
DTSTART;TZID=America/Kentucky/Louisville:20250611T183000
DTEND;TZID=America/Kentucky/Louisville:20250611T200000
DTSTAMP:20260422T091027
CREATED:20250609T134012Z
LAST-MODIFIED:20250609T134012Z
UID:65074-1749666600-1749672000@visitpikeville.com
SUMMARY:Trivia Night
DESCRIPTION:@ The Mine 606
URL:https://visitpikeville.com/event/trivia-night-9/
LOCATION:The Mine 606\, 121 Main St\, Pikeville\, KY\, 41501\, United States
CATEGORIES:Other
ATTACH;FMTTYPE=image/jpeg:https://visitpikeville.com/wp-content/uploads/2025/06/mine.jpg
END:VEVENT
BEGIN:VEVENT
DTSTART;VALUE=DATE:20250612
DTEND;VALUE=DATE:20250613
DTSTAMP:20260422T091027
CREATED:20250609T134131Z
LAST-MODIFIED:20250609T134131Z
UID:65076-1749686400-1749772799@visitpikeville.com
SUMMARY:Thirsty Thursday
DESCRIPTION:@ The Mine 606
URL:https://visitpikeville.com/event/thirsty-thursday/
LOCATION:The Mine 606\, 121 Main St\, Pikeville\, KY\, 41501\, United States
CATEGORIES:Other
ATTACH;FMTTYPE=image/jpeg:https://visitpikeville.com/wp-content/uploads/2025/06/mine.jpg
END:VEVENT
BEGIN:VEVENT
DTSTART;TZID=America/Kentucky/Louisville:20250613T170000
DTEND;TZID=America/Kentucky/Louisville:20250613T210000
DTSTAMP:20260422T091027
CREATED:20250609T143931Z
LAST-MODIFIED:20250609T143931Z
UID:65149-1749834000-1749848400@visitpikeville.com
SUMMARY:4th of July celebrations!
DESCRIPTION:Get ready to unleash your creativity and kick off the 4th of July celebrations! Join us for a fun-filled evening of painting festive flip flops\, a pig having a watermelon treat\, or fireworks.  Friday\, June 13\, 5:00-6:00 pm check-in time. Send a private message to reserve your spot. 
URL:https://visitpikeville.com/event/4th-of-july-celebrations/
LOCATION:2 Broke Art Teachers\, 4505 Weddington Square\,\, Pikeville\, KY\, 41501\, United States
CATEGORIES:Other
ATTACH;FMTTYPE=image/jpeg:https://visitpikeville.com/wp-content/uploads/2025/06/july4.jpg
END:VEVENT
BEGIN:VEVENT
DTSTART;TZID=America/Kentucky/Louisville:20250613T193000
DTEND;TZID=America/Kentucky/Louisville:20250613T223000
DTSTAMP:20260422T091027
CREATED:20250609T135029Z
LAST-MODIFIED:20250609T135029Z
UID:65089-1749843000-1749853800@visitpikeville.com
SUMMARY:Live Music at Bank 253
DESCRIPTION:7:30 – 10:30 pm
URL:https://visitpikeville.com/event/live-music-at-bank-253-3-2-2-2-2-2-2-2-2-2-2-2-2-2-2-2-2-2-2/
LOCATION:Bank 253\, 253 2nd St\,\, Pikeville\, KY\, 41501\, United States
CATEGORIES:Other
ATTACH;FMTTYPE=image/jpeg:https://visitpikeville.com/wp-content/uploads/2025/02/bank253.jpg
END:VEVENT
BEGIN:VEVENT
DTSTART;TZID=America/Kentucky/Louisville:20250614T150000
DTEND;TZID=America/Kentucky/Louisville:20250614T180000
DTSTAMP:20260422T091027
CREATED:20250609T143737Z
LAST-MODIFIED:20250609T143737Z
UID:65146-1749913200-1749924000@visitpikeville.com
SUMMARY:Pup's Painters choice
DESCRIPTION:We adore our pups Now’s the perfect time to immortalize your loyal companion through art! Simply choose the sketch below that resonates with your beloved pet. Inform us of your selection\, and we’ll prepare a sketch\, ready for you to infuse it with your pet’s distinct colors\, fur type\, and personality. Kindly share your choice via PRIVATE MESSAGE\, and we’ll ensure everything is ready for you.
URL:https://visitpikeville.com/event/pups-painters-choice/
LOCATION:2 Broke Art Teachers\, 4505 Weddington Square\,\, Pikeville\, KY\, 41501\, United States
CATEGORIES:Other
ATTACH;FMTTYPE=image/jpeg:https://visitpikeville.com/wp-content/uploads/2025/06/pup.jpg
END:VEVENT
BEGIN:VEVENT
DTSTART;TZID=America/Kentucky/Louisville:20250614T180000
DTEND;TZID=America/Kentucky/Louisville:20250614T210000
DTSTAMP:20260422T091027
CREATED:20250609T143508Z
LAST-MODIFIED:20250609T143508Z
UID:65143-1749924000-1749934800@visitpikeville.com
SUMMARY:Dolphin or Sea Turtle Masterpiece
DESCRIPTION:Elevate your Saturday evening with a creative escape\, joining us to paint either a dolphin or sea turtle masterpiece that will beautifully enhance your summer decor and serve as a serene reminder of a wonderful experience shared with loved ones. Secure your spots by sending a private message to reserve your space.
URL:https://visitpikeville.com/event/dolphin-or-sea-turtle-masterpiece/
LOCATION:2 Broke Art Teachers\, 4505 Weddington Square\,\, Pikeville\, KY\, 41501\, United States
CATEGORIES:Other
ATTACH;FMTTYPE=image/jpeg:https://visitpikeville.com/wp-content/uploads/2025/06/DOLPHIN.jpg
END:VEVENT
BEGIN:VEVENT
DTSTART;TZID=America/Kentucky/Louisville:20250614T193000
DTEND;TZID=America/Kentucky/Louisville:20250614T223000
DTSTAMP:20260422T091027
CREATED:20250609T135108Z
LAST-MODIFIED:20250609T135108Z
UID:65091-1749929400-1749940200@visitpikeville.com
SUMMARY:Live Music at Bank 253
DESCRIPTION:7:30 – 10:30 pm
URL:https://visitpikeville.com/event/live-music-at-bank-253-3-2-2-2-2-2-2-2-2-2-2-2-2-2-2-2-2-2-2-2/
LOCATION:Bank 253\, 253 2nd St\,\, Pikeville\, KY\, 41501\, United States
CATEGORIES:Other
ATTACH;FMTTYPE=image/jpeg:https://visitpikeville.com/wp-content/uploads/2025/02/bank253.jpg
END:VEVENT
BEGIN:VEVENT
DTSTART;TZID=America/Kentucky/Louisville:20250614T200000
DTEND;TZID=America/Kentucky/Louisville:20250614T230000
DTSTAMP:20260422T091027
CREATED:20250609T135610Z
LAST-MODIFIED:20250609T135737Z
UID:65101-1749931200-1749942000@visitpikeville.com
SUMMARY:Pearse's Place Live Music
DESCRIPTION:8:00pm – 11:00am
URL:https://visitpikeville.com/event/pearses-place-live-music-3-2-2/
LOCATION:Pearse’s Place\, 224 2nd St\,\, Pikeville\, KY\, 41501\, United States
CATEGORIES:Other
ATTACH;FMTTYPE=image/jpeg:https://visitpikeville.com/wp-content/uploads/2025/06/dueling.jpg
END:VEVENT
BEGIN:VEVENT
DTSTART;VALUE=DATE:20250616
DTEND;VALUE=DATE:20250906
DTSTAMP:20260422T091027
CREATED:20250616T123825Z
LAST-MODIFIED:20250616T123825Z
UID:65211-1750032000-1757116799@visitpikeville.com
SUMMARY:Friends of Kentucky Agriculture Specialty License Plate Contest
DESCRIPTION:WIN $500!\n\n\nThe Kentucky Department of Agriculture is excited to launch the Friends of Kentucky Agriculture Specialty License Plate Contest with Kentucky 4-H and Kentucky FFA Association. This contest is open to current 4-H and FFA members or any student interested in agriculture!\n\n\nSubmit your original photography\, digital\, or hand-drawn artwork that includes the 4-H\, FFA\, and Kentucky Proud logos.\n\n\n Deadline: September 5\, 2025\n $500 cash prize to the winning design!\n Enter at kyagr.com/agfriends\n\n\nThis brand new plate will be available to all Kentucky drivers who want to show their support for agriculture\, not just production farmers. Proceeds will benefit 4-H\, FFA\, and Kentucky Proud programs across the state.\n\n\nThe current Farm License Plate will still be available for eligible farmers\, and we encourage continued renewal of that plate! The new Friends of KY Agriculture plate is an exciting option for Kentuckians who are proud to support the future of ag. We are excited to roll out the new Friends of Ag plate in 2026!
URL:https://visitpikeville.com/event/friends-of-kentucky-agriculture-specialty-license-plate-contest/
LOCATION:Online Event\, Pikeville\, KY\, 41501\, United States
CATEGORIES:Other
ATTACH;FMTTYPE=image/jpeg:https://visitpikeville.com/wp-content/uploads/2025/06/plate.jpg
END:VEVENT
BEGIN:VEVENT
DTSTART;TZID=America/Kentucky/Louisville:20250616T173000
DTEND;TZID=America/Kentucky/Louisville:20250616T200000
DTSTAMP:20260422T091027
CREATED:20250609T135906Z
LAST-MODIFIED:20250609T135906Z
UID:65109-1750095000-1750104000@visitpikeville.com
SUMMARY:Mellow Monday's
DESCRIPTION:Card Games @ the Mine 606
URL:https://visitpikeville.com/event/mellow-mondays-2/
LOCATION:The Mine 606\, 121 Main St\, Pikeville\, KY\, 41501\, United States
CATEGORIES:Other
ATTACH;FMTTYPE=image/jpeg:https://visitpikeville.com/wp-content/uploads/2025/06/mine.jpg
END:VEVENT
BEGIN:VEVENT
DTSTART;VALUE=DATE:20250617
DTEND;VALUE=DATE:20250618
DTSTAMP:20260422T091027
CREATED:20250609T140147Z
LAST-MODIFIED:20250609T140147Z
UID:65117-1750118400-1750204799@visitpikeville.com
SUMMARY:Street Taco Tuesday
DESCRIPTION:@ The Mine 606
URL:https://visitpikeville.com/event/street-taco-tuesday-2/
LOCATION:The Mine 606\, 121 Main St\, Pikeville\, KY\, 41501\, United States
CATEGORIES:Other
ATTACH;FMTTYPE=image/jpeg:https://visitpikeville.com/wp-content/uploads/2025/06/mine.jpg
END:VEVENT
BEGIN:VEVENT
DTSTART;TZID=America/Kentucky/Louisville:20250618T183000
DTEND;TZID=America/Kentucky/Louisville:20250618T200000
DTSTAMP:20260422T091027
CREATED:20250609T140352Z
LAST-MODIFIED:20250609T140352Z
UID:65121-1750271400-1750276800@visitpikeville.com
SUMMARY:Bingo Night
DESCRIPTION:@ The Mine 606
URL:https://visitpikeville.com/event/bingo-night/
LOCATION:The Mine 606\, 121 Main St\, Pikeville\, KY\, 41501\, United States
CATEGORIES:Other
ATTACH;FMTTYPE=image/jpeg:https://visitpikeville.com/wp-content/uploads/2025/06/mine.jpg
END:VEVENT
BEGIN:VEVENT
DTSTART;VALUE=DATE:20250619
DTEND;VALUE=DATE:20250620
DTSTAMP:20260422T091027
CREATED:20250609T140536Z
LAST-MODIFIED:20250609T140536Z
UID:65125-1750291200-1750377599@visitpikeville.com
SUMMARY:Thirsty Thursday
DESCRIPTION:@ The Mine 606
URL:https://visitpikeville.com/event/thirsty-thursday-2/
LOCATION:The Mine 606\, 121 Main St\, Pikeville\, KY\, 41501\, United States
CATEGORIES:Other
ATTACH;FMTTYPE=image/jpeg:https://visitpikeville.com/wp-content/uploads/2025/06/mine.jpg
END:VEVENT
BEGIN:VEVENT
DTSTART;TZID=America/Kentucky/Louisville:20250620T193000
DTEND;TZID=America/Kentucky/Louisville:20250620T223000
DTSTAMP:20260422T091027
CREATED:20250609T135138Z
LAST-MODIFIED:20250609T135138Z
UID:65093-1750447800-1750458600@visitpikeville.com
SUMMARY:Live Music at Bank 253
DESCRIPTION:7:30 – 10:30 pm
URL:https://visitpikeville.com/event/live-music-at-bank-253-3-2-2-2-2-2-2-2-2-2-2-2-2-2-2-2-2-2-2-2-2/
LOCATION:Bank 253\, 253 2nd St\,\, Pikeville\, KY\, 41501\, United States
CATEGORIES:Other
ATTACH;FMTTYPE=image/jpeg:https://visitpikeville.com/wp-content/uploads/2025/02/bank253.jpg
END:VEVENT
BEGIN:VEVENT
DTSTART;TZID=America/Kentucky/Louisville:20250621T193000
DTEND;TZID=America/Kentucky/Louisville:20250621T223000
DTSTAMP:20260422T091027
CREATED:20250609T135207Z
LAST-MODIFIED:20250609T135207Z
UID:65095-1750534200-1750545000@visitpikeville.com
SUMMARY:Live Music at Bank 253
DESCRIPTION:7:30 – 10:30 pm
URL:https://visitpikeville.com/event/live-music-at-bank-253-3-2-2-2-2-2-2-2-2-2-2-2-2-2-2-2-2-2-2-2-2-2/
LOCATION:Bank 253\, 253 2nd St\,\, Pikeville\, KY\, 41501\, United States
CATEGORIES:Other
ATTACH;FMTTYPE=image/jpeg:https://visitpikeville.com/wp-content/uploads/2025/02/bank253.jpg
END:VEVENT
BEGIN:VEVENT
DTSTART;TZID=America/Kentucky/Louisville:20250621T200000
DTEND;TZID=America/Kentucky/Louisville:20250621T230000
DTSTAMP:20260422T091027
CREATED:20250609T135714Z
LAST-MODIFIED:20250609T135714Z
UID:65104-1750536000-1750546800@visitpikeville.com
SUMMARY:Pearse's Place Live Music
DESCRIPTION:8:00pm – 11:00am
URL:https://visitpikeville.com/event/pearses-place-live-music-3-2-3/
LOCATION:Pearse’s Place\, 224 2nd St\,\, Pikeville\, KY\, 41501\, United States
CATEGORIES:Other
ATTACH;FMTTYPE=image/jpeg:https://visitpikeville.com/wp-content/uploads/2024/11/pearses.jpg
END:VEVENT
BEGIN:VEVENT
DTSTART;TZID=America/Kentucky/Louisville:20250623T173000
DTEND;TZID=America/Kentucky/Louisville:20250623T200000
DTSTAMP:20260422T091027
CREATED:20250609T135946Z
LAST-MODIFIED:20250609T135946Z
UID:65111-1750699800-1750708800@visitpikeville.com
SUMMARY:Mellow Monday's
DESCRIPTION:Card Games @ the Mine 606
URL:https://visitpikeville.com/event/mellow-mondays-2-2/
LOCATION:The Mine 606\, 121 Main St\, Pikeville\, KY\, 41501\, United States
CATEGORIES:Other
ATTACH;FMTTYPE=image/jpeg:https://visitpikeville.com/wp-content/uploads/2025/06/mine.jpg
END:VEVENT
BEGIN:VEVENT
DTSTART;VALUE=DATE:20250624
DTEND;VALUE=DATE:20250625
DTSTAMP:20260422T091027
CREATED:20250609T140210Z
LAST-MODIFIED:20250609T140210Z
UID:65119-1750723200-1750809599@visitpikeville.com
SUMMARY:Street Taco Tuesday
DESCRIPTION:@ The Mine 606
URL:https://visitpikeville.com/event/street-taco-tuesday-2-2/
LOCATION:The Mine 606\, 121 Main St\, Pikeville\, KY\, 41501\, United States
CATEGORIES:Other
ATTACH;FMTTYPE=image/jpeg:https://visitpikeville.com/wp-content/uploads/2025/06/mine.jpg
END:VEVENT
BEGIN:VEVENT
DTSTART;TZID=America/Kentucky/Louisville:20250625T183000
DTEND;TZID=America/Kentucky/Louisville:20250625T200000
DTSTAMP:20260422T091027
CREATED:20250609T140455Z
LAST-MODIFIED:20250609T140455Z
UID:65123-1750876200-1750881600@visitpikeville.com
SUMMARY:Trivia Night
DESCRIPTION:@ The Mine 606
URL:https://visitpikeville.com/event/trivia-night-9-2/
LOCATION:The Mine 606\, 121 Main St\, Pikeville\, KY\, 41501\, United States
CATEGORIES:Other
ATTACH;FMTTYPE=image/jpeg:https://visitpikeville.com/wp-content/uploads/2025/06/mine.jpg
END:VEVENT
BEGIN:VEVENT
DTSTART;VALUE=DATE:20250626
DTEND;VALUE=DATE:20250627
DTSTAMP:20260422T091027
CREATED:20250609T140559Z
LAST-MODIFIED:20250609T140559Z
UID:65127-1750896000-1750982399@visitpikeville.com
SUMMARY:Thirsty Thursday
DESCRIPTION:@ The Mine 606
URL:https://visitpikeville.com/event/thirsty-thursday-2-2/
LOCATION:The Mine 606\, 121 Main St\, Pikeville\, KY\, 41501\, United States
CATEGORIES:Other
ATTACH;FMTTYPE=image/jpeg:https://visitpikeville.com/wp-content/uploads/2025/06/mine.jpg
END:VEVENT
BEGIN:VEVENT
DTSTART;TZID=America/Kentucky/Louisville:20250627T180000
DTEND;TZID=America/Kentucky/Louisville:20250627T200000
DTSTAMP:20260422T091027
CREATED:20241104T150127Z
LAST-MODIFIED:20250609T141046Z
UID:59304-1751047200-1751054400@visitpikeville.com
SUMMARY:Pikeville Creative Community Book Club
DESCRIPTION:@ FaithLife Market
URL:https://visitpikeville.com/event/pikeville-creative-community-book-club/
LOCATION:Faith Life Market\, 130 Division St\,\, Pikeville\, KY\, 41501\, United States
CATEGORIES:Other
ATTACH;FMTTYPE=image/png:https://visitpikeville.com/wp-content/uploads/2024/11/Screenshot-2024-11-04-at-10.00.46 AM.png
END:VEVENT
BEGIN:VEVENT
DTSTART;TZID=America/Kentucky/Louisville:20250627T193000
DTEND;TZID=America/Kentucky/Louisville:20250627T223000
DTSTAMP:20260422T091027
CREATED:20250609T135233Z
LAST-MODIFIED:20250609T135233Z
UID:65097-1751052600-1751063400@visitpikeville.com
SUMMARY:Live Music at Bank 253
DESCRIPTION:7:30 – 10:30 pm
URL:https://visitpikeville.com/event/live-music-at-bank-253-3-2-2-2-2-2-2-2-2-2-2-2-2-2-2-2-2-2-2-2-2-2-2/
LOCATION:Bank 253\, 253 2nd St\,\, Pikeville\, KY\, 41501\, United States
CATEGORIES:Other
ATTACH;FMTTYPE=image/jpeg:https://visitpikeville.com/wp-content/uploads/2025/02/bank253.jpg
END:VEVENT
BEGIN:VEVENT
DTSTART;TZID=America/Kentucky/Louisville:20250628T170000
DTEND;TZID=America/Kentucky/Louisville:20250628T220000
DTSTAMP:20260422T091027
CREATED:20250609T143216Z
LAST-MODIFIED:20250609T143216Z
UID:65140-1751130000-1751148000@visitpikeville.com
SUMMARY:Rockin A Rodeo
DESCRIPTION:Event #2 is fast approaching\, this will be one you won’t wanna miss. As promised barrel racing will be starting this month!!
URL:https://visitpikeville.com/event/rockin-a-rodeo-2/
LOCATION:Rockin’ A Ranch\, 3381 KY-194\,\, Pikeville\, KY\, 41501\, United States
CATEGORIES:Other
ATTACH;FMTTYPE=image/jpeg:https://visitpikeville.com/wp-content/uploads/2025/06/rodeo.jpg
END:VEVENT
BEGIN:VEVENT
DTSTART;TZID=America/Kentucky/Louisville:20250628T193000
DTEND;TZID=America/Kentucky/Louisville:20250628T223000
DTSTAMP:20260422T091027
CREATED:20250609T135259Z
LAST-MODIFIED:20250609T135259Z
UID:65099-1751139000-1751149800@visitpikeville.com
SUMMARY:Live Music at Bank 253
DESCRIPTION:7:30 – 10:30 pm
URL:https://visitpikeville.com/event/live-music-at-bank-253-3-2-2-2-2-2-2-2-2-2-2-2-2-2-2-2-2-2-2-2-2-2-2-2/
LOCATION:Bank 253\, 253 2nd St\,\, Pikeville\, KY\, 41501\, United States
CATEGORIES:Other
ATTACH;FMTTYPE=image/jpeg:https://visitpikeville.com/wp-content/uploads/2025/02/bank253.jpg
END:VEVENT
END:VCALENDAR