BEGIN:VCALENDAR
VERSION:2.0
PRODID:-//Visit Pikeville - ECPv6.15.20//NONSGML v1.0//EN
CALSCALE:GREGORIAN
METHOD:PUBLISH
X-WR-CALNAME:Visit Pikeville
X-ORIGINAL-URL:https://visitpikeville.com
X-WR-CALDESC:Events for Visit Pikeville
REFRESH-INTERVAL;VALUE=DURATION:PT1H
X-Robots-Tag:noindex
X-PUBLISHED-TTL:PT1H
BEGIN:VTIMEZONE
TZID:America/Kentucky/Louisville
BEGIN:DAYLIGHT
TZOFFSETFROM:-0500
TZOFFSETTO:-0400
TZNAME:EDT
DTSTART:20230312T070000
END:DAYLIGHT
BEGIN:STANDARD
TZOFFSETFROM:-0400
TZOFFSETTO:-0500
TZNAME:EST
DTSTART:20231105T060000
END:STANDARD
BEGIN:DAYLIGHT
TZOFFSETFROM:-0500
TZOFFSETTO:-0400
TZNAME:EDT
DTSTART:20240310T070000
END:DAYLIGHT
BEGIN:STANDARD
TZOFFSETFROM:-0400
TZOFFSETTO:-0500
TZNAME:EST
DTSTART:20241103T060000
END:STANDARD
BEGIN:DAYLIGHT
TZOFFSETFROM:-0500
TZOFFSETTO:-0400
TZNAME:EDT
DTSTART:20250309T070000
END:DAYLIGHT
BEGIN:STANDARD
TZOFFSETFROM:-0400
TZOFFSETTO:-0500
TZNAME:EST
DTSTART:20251102T060000
END:STANDARD
END:VTIMEZONE
BEGIN:VEVENT
DTSTART;TZID=America/Kentucky/Louisville:20240702T163000
DTEND;TZID=America/Kentucky/Louisville:20240702T190000
DTSTAMP:20260424T213556
CREATED:20240513T172718Z
LAST-MODIFIED:20240513T172718Z
UID:51235-1719937800-1719946800@visitpikeville.com
SUMMARY:Pikeville Farmer's Market
DESCRIPTION:Tuesday from 4:30-7:00 \nSaturday 9:00-1:00 \n 
URL:https://visitpikeville.com/event/pikeville-farmers-market-5-3-2-2-3-2-2/
LOCATION:Pikeville Farmer’s Market\, 130 Adams Lane\, Pikeville\, Ky
CATEGORIES:Other
ATTACH;FMTTYPE=image/jpeg:https://visitpikeville.com/wp-content/uploads/2024/05/farmers-market.jpeg
END:VEVENT
BEGIN:VEVENT
DTSTART;TZID=America/Kentucky/Louisville:20240706T090000
DTEND;TZID=America/Kentucky/Louisville:20240706T130000
DTSTAMP:20260424T213556
CREATED:20240513T172824Z
LAST-MODIFIED:20240513T172824Z
UID:51237-1720256400-1720270800@visitpikeville.com
SUMMARY:Pikeville Farmer's Market
DESCRIPTION:Tuesday from 4:30-7:00 \nSaturday 9:00-1:00 \n 
URL:https://visitpikeville.com/event/pikeville-farmers-market-5-2-2-2-2-2-2-2-2/
LOCATION:Pikeville Farmer’s Market\, 130 Adams Lane\, Pikeville\, Ky
CATEGORIES:Other
ATTACH;FMTTYPE=image/jpeg:https://visitpikeville.com/wp-content/uploads/2024/05/farmers-market.jpeg
END:VEVENT
BEGIN:VEVENT
DTSTART;TZID=America/Kentucky/Louisville:20240706T193000
DTEND;TZID=America/Kentucky/Louisville:20240706T213000
DTSTAMP:20260424T213556
CREATED:20240701T145055Z
LAST-MODIFIED:20240701T145055Z
UID:53095-1720294200-1720301400@visitpikeville.com
SUMMARY:Bank 253 Acoustic Series
DESCRIPTION:Experience an unforgettable night of delicious cuisine and live entertainment
URL:https://visitpikeville.com/event/bank-253-acoustic-series/
LOCATION:Bank 253\, 253 2nd St\,\, Pikeville\, KY\, 41501\, United States
CATEGORIES:Other
ATTACH;FMTTYPE=image/png:https://visitpikeville.com/wp-content/uploads/2024/07/Screen-Shot-2024-07-01-at-10.45.32-AM.png
END:VEVENT
BEGIN:VEVENT
DTSTART;TZID=America/Kentucky/Louisville:20240709T163000
DTEND;TZID=America/Kentucky/Louisville:20240709T190000
DTSTAMP:20260424T213556
CREATED:20240513T172910Z
LAST-MODIFIED:20240513T172910Z
UID:51239-1720542600-1720551600@visitpikeville.com
SUMMARY:Pikeville Farmer's Market
DESCRIPTION:Tuesday from 4:30-7:00 \nSaturday 9:00-1:00 \n 
URL:https://visitpikeville.com/event/pikeville-farmers-market-5-3-2-2-3-2-2-2/
LOCATION:Pikeville Farmer’s Market\, 130 Adams Lane\, Pikeville\, Ky
CATEGORIES:Other
ATTACH;FMTTYPE=image/jpeg:https://visitpikeville.com/wp-content/uploads/2024/05/farmers-market.jpeg
END:VEVENT
BEGIN:VEVENT
DTSTART;TZID=America/Kentucky/Louisville:20240713T090000
DTEND;TZID=America/Kentucky/Louisville:20240713T130000
DTSTAMP:20260424T213556
CREATED:20240513T172956Z
LAST-MODIFIED:20240513T172956Z
UID:51241-1720861200-1720875600@visitpikeville.com
SUMMARY:Pikeville Farmer's Market
DESCRIPTION:Tuesday from 4:30-7:00 \nSaturday 9:00-1:00 \n 
URL:https://visitpikeville.com/event/pikeville-farmers-market-5-2-2-2-2-2-2-2-2-2/
LOCATION:Pikeville Farmer’s Market\, 130 Adams Lane\, Pikeville\, Ky
CATEGORIES:Other
ATTACH;FMTTYPE=image/jpeg:https://visitpikeville.com/wp-content/uploads/2024/05/farmers-market.jpeg
END:VEVENT
BEGIN:VEVENT
DTSTART;TZID=America/Kentucky/Louisville:20240716T163000
DTEND;TZID=America/Kentucky/Louisville:20240716T190000
DTSTAMP:20260424T213556
CREATED:20240513T173112Z
LAST-MODIFIED:20240513T173112Z
UID:51245-1721147400-1721156400@visitpikeville.com
SUMMARY:Pikeville Farmer's Market
DESCRIPTION:Tuesday from 4:30-7:00 \nSaturday 9:00-1:00 \n 
URL:https://visitpikeville.com/event/pikeville-farmers-market-5-3-2-2-3-2-2-2-2/
LOCATION:Pikeville Farmer’s Market\, 130 Adams Lane\, Pikeville\, Ky
CATEGORIES:Other
ATTACH;FMTTYPE=image/jpeg:https://visitpikeville.com/wp-content/uploads/2024/05/farmers-market.jpeg
END:VEVENT
BEGIN:VEVENT
DTSTART;TZID=America/Kentucky/Louisville:20240720T090000
DTEND;TZID=America/Kentucky/Louisville:20240720T130000
DTSTAMP:20260424T213556
CREATED:20240513T173224Z
LAST-MODIFIED:20240513T173224Z
UID:51247-1721466000-1721480400@visitpikeville.com
SUMMARY:Pikeville Farmer's Market
DESCRIPTION:Tuesday from 4:30-7:00 \nSaturday 9:00-1:00 \n 
URL:https://visitpikeville.com/event/pikeville-farmers-market-5-2-2-2-2-2-2-2-2-2-2/
LOCATION:Pikeville Farmer’s Market\, 130 Adams Lane\, Pikeville\, Ky
CATEGORIES:Other
ATTACH;FMTTYPE=image/jpeg:https://visitpikeville.com/wp-content/uploads/2024/05/farmers-market.jpeg
END:VEVENT
BEGIN:VEVENT
DTSTART;TZID=America/Kentucky/Louisville:20240723T163000
DTEND;TZID=America/Kentucky/Louisville:20240723T190000
DTSTAMP:20260424T213556
CREATED:20240513T173329Z
LAST-MODIFIED:20240513T173329Z
UID:51249-1721752200-1721761200@visitpikeville.com
SUMMARY:Pikeville Farmer's Market
DESCRIPTION:Tuesday from 4:30-7:00 \nSaturday 9:00-1:00 \n 
URL:https://visitpikeville.com/event/pikeville-farmers-market-5-3-2-2-3-2-2-2-2-2/
LOCATION:Pikeville Farmer’s Market\, 130 Adams Lane\, Pikeville\, Ky
CATEGORIES:Other
ATTACH;FMTTYPE=image/jpeg:https://visitpikeville.com/wp-content/uploads/2024/05/farmers-market.jpeg
END:VEVENT
BEGIN:VEVENT
DTSTART;TZID=America/Kentucky/Louisville:20240724T130000
DTEND;TZID=America/Kentucky/Louisville:20240724T170000
DTSTAMP:20260424T213556
CREATED:20240722T181942Z
LAST-MODIFIED:20240722T181942Z
UID:53767-1721826000-1721840400@visitpikeville.com
SUMMARY:Blood Drive
DESCRIPTION:We will be partnering with the KY Blood Center this Wednesday July 24 1p-5p for our 2nd blood drive of the year.\n\n\nDonors will receive a $15 gift card from Walmart and all donors members or nonmembers will be entered to win 3 months of membership.\n\n\nAll blood donations stay in our area for local use\n\n\nSee you Wednesday
URL:https://visitpikeville.com/event/blood-drive/
LOCATION:Pikeville YMCA\, 424 Bob Amos Dr\,\, Pikeville\, Ky\, 41501
CATEGORIES:Other
ATTACH;FMTTYPE=image/jpeg:https://visitpikeville.com/wp-content/uploads/2024/07/BLOOD-DRIVE.jpg
END:VEVENT
BEGIN:VEVENT
DTSTART;TZID=America/Kentucky/Louisville:20240727T090000
DTEND;TZID=America/Kentucky/Louisville:20240727T130000
DTSTAMP:20260424T213556
CREATED:20240513T173436Z
LAST-MODIFIED:20240513T173436Z
UID:51251-1722070800-1722085200@visitpikeville.com
SUMMARY:Pikeville Farmer's Market
DESCRIPTION:Tuesday from 4:30-7:00 \nSaturday 9:00-1:00 \n 
URL:https://visitpikeville.com/event/pikeville-farmers-market-5-2-2-2-2-2-2-2-2-2-2-2/
LOCATION:Pikeville Farmer’s Market\, 130 Adams Lane\, Pikeville\, Ky
CATEGORIES:Other
ATTACH;FMTTYPE=image/jpeg:https://visitpikeville.com/wp-content/uploads/2024/05/farmers-market.jpeg
END:VEVENT
BEGIN:VEVENT
DTSTART;TZID=America/Kentucky/Louisville:20240727T180000
DTEND;TZID=America/Kentucky/Louisville:20240727T200000
DTSTAMP:20260424T213556
CREATED:20240722T135815Z
LAST-MODIFIED:20240722T135815Z
UID:53744-1722103200-1722110400@visitpikeville.com
SUMMARY:Rockin A Bucking Bulls Rodeo: Kick Off the 2024 Buckle Series
DESCRIPTION:Experience the thrill of the rodeo at the Rockin A Bucking Bulls Rodeo\, the first event of the 2024 Buckle Series! Scheduled for July 27th at 6 p.m.\, this action-packed event promises an evening of adrenaline-pumping excitement and family-friendly fun. \nEvent Details: \n\nDate & Time: July 27th\, 2024\, starting at 6 p.m.\nLocation: 3381 St. Hwy. 194 W.\, Pikeville\, K.Y. 41501 (Lower Johns Crk.)\nGates Open: 4 p.m.\n\nHighlights: \n\n$500 Added Prize: Compete for the added prize money in various rodeo events.\nSpectator Entry Fee: Enjoy the thrill from the stands.\n\nAges 10 & up: $10\nKids 6-9: $5\nKids 5 and Under: Free admission\n\n\n\n \n\nEvents & Fees: \n\nBull Riders: Registration fee of $50.\nMutton Busting: For kids under 60 lbs\, entry fee is $10.\nRider Call-in: July 22nd\, 6 p.m. – 9 p.m.\, 606-794-6906\n\nSpecial Instructions: \n\nCash Only Event: Please bring cash as no other forms of payment will be accepted.\nBring Your Own Chairs: Ensure your comfort during the event.\n\nDownload The Flyer: \n \n  \nThank Our Sponsors: \n\nFaith Tax\nStudio 23\nPrecision Hydraulics\nVarneys Carpet & Flooring LLC\nThe Spa on Second\nShawn’s Roofing\nSB Farm Gates\nEast KY Mobile Movers INC.\nPinch Aesthetics\nRobinette’s Gun & Archery\nMuddy Boots\nSESCO Builders\nRae Rae’s\nFreddie Lewis\, Candidate for Pike County Commissioner\nJ17 Cattle Co.\nPaul Howard\, Pike County Attorney\nFazolis of Pikeville\nJames Group Spray Foam Insulation\n\nDon’t miss out on this exciting event filled with daring feats and family entertainment! Mark your calendars for July 27th and join us at the Rockin A Bucking Bulls Rodeo. For more information\, contact 606-794-6906.
URL:https://visitpikeville.com/event/rockin-a-bucking-bulls-rodeo-kick-off-the-2024-buckle-series/
LOCATION:Rockin’ A Ranch\, 3381 KY-194\,\, Pikeville\, KY\, 41501\, United States
CATEGORIES:Other
ATTACH;FMTTYPE=image/webp:https://visitpikeville.com/wp-content/uploads/2024/07/Rodeo-Splash.webp
END:VEVENT
BEGIN:VEVENT
DTSTART;TZID=America/Kentucky/Louisville:20240729T173000
DTEND;TZID=America/Kentucky/Louisville:20240729T193000
DTSTAMP:20260424T213556
CREATED:20240729T133613Z
LAST-MODIFIED:20240729T133613Z
UID:54180-1722274200-1722281400@visitpikeville.com
SUMMARY:Painting of Pumpkin Tweet
DESCRIPTION:Come learn basic painting techniques and celebrate fall.
URL:https://visitpikeville.com/event/painting-of-pumpkin-tweet/
LOCATION:2 Broke Art Teachers\, 4505 Weddington Square\,\, Pikeville\, KY\, 41501\, United States
CATEGORIES:Other
ATTACH;FMTTYPE=image/jpeg:https://visitpikeville.com/wp-content/uploads/2024/07/pumpkin.jpg
END:VEVENT
BEGIN:VEVENT
DTSTART;TZID=America/Kentucky/Louisville:20240730T163000
DTEND;TZID=America/Kentucky/Louisville:20240730T190000
DTSTAMP:20260424T213556
CREATED:20240513T173520Z
LAST-MODIFIED:20240513T173520Z
UID:51253-1722357000-1722366000@visitpikeville.com
SUMMARY:Pikeville Farmer's Market
DESCRIPTION:Tuesday from 4:30-7:00 \nSaturday 9:00-1:00 \n 
URL:https://visitpikeville.com/event/pikeville-farmers-market-5-3-2-2-3-2-2-2-2-2-2/
LOCATION:Pikeville Farmer’s Market\, 130 Adams Lane\, Pikeville\, Ky
CATEGORIES:Other
ATTACH;FMTTYPE=image/jpeg:https://visitpikeville.com/wp-content/uploads/2024/05/farmers-market.jpeg
END:VEVENT
BEGIN:VEVENT
DTSTART;TZID=America/Kentucky/Louisville:20240730T173000
DTEND;TZID=America/Kentucky/Louisville:20240730T193000
DTSTAMP:20260424T213556
CREATED:20240729T133852Z
LAST-MODIFIED:20240729T133852Z
UID:54184-1722360600-1722367800@visitpikeville.com
SUMMARY:Blue Truck with Pumpkins
DESCRIPTION:The blue truck that doesn’t have to be blue . Come celebrate fall while learning basic painting techniques.
URL:https://visitpikeville.com/event/blue-truck-with-pumpkins/
LOCATION:2 Broke Art Teachers\, 4505 Weddington Square\,\, Pikeville\, KY\, 41501\, United States
CATEGORIES:Other
ATTACH;FMTTYPE=image/jpeg:https://visitpikeville.com/wp-content/uploads/2024/07/blue-truck.jpg
END:VEVENT
END:VCALENDAR