BEGIN:VCALENDAR
VERSION:2.0
PRODID:-//Visit Pikeville - ECPv6.15.20//NONSGML v1.0//EN
CALSCALE:GREGORIAN
METHOD:PUBLISH
X-WR-CALNAME:Visit Pikeville
X-ORIGINAL-URL:https://visitpikeville.com
X-WR-CALDESC:Events for Visit Pikeville
REFRESH-INTERVAL;VALUE=DURATION:PT1H
X-Robots-Tag:noindex
X-PUBLISHED-TTL:PT1H
BEGIN:VTIMEZONE
TZID:America/Kentucky/Louisville
BEGIN:DAYLIGHT
TZOFFSETFROM:-0500
TZOFFSETTO:-0400
TZNAME:EDT
DTSTART:20200308T070000
END:DAYLIGHT
BEGIN:STANDARD
TZOFFSETFROM:-0400
TZOFFSETTO:-0500
TZNAME:EST
DTSTART:20201101T060000
END:STANDARD
BEGIN:DAYLIGHT
TZOFFSETFROM:-0500
TZOFFSETTO:-0400
TZNAME:EDT
DTSTART:20210314T070000
END:DAYLIGHT
BEGIN:STANDARD
TZOFFSETFROM:-0400
TZOFFSETTO:-0500
TZNAME:EST
DTSTART:20211107T060000
END:STANDARD
BEGIN:DAYLIGHT
TZOFFSETFROM:-0500
TZOFFSETTO:-0400
TZNAME:EDT
DTSTART:20220313T070000
END:DAYLIGHT
BEGIN:STANDARD
TZOFFSETFROM:-0400
TZOFFSETTO:-0500
TZNAME:EST
DTSTART:20221106T060000
END:STANDARD
END:VTIMEZONE
BEGIN:VEVENT
DTSTART;TZID=America/Kentucky/Louisville:20210618T190000
DTEND;TZID=America/Kentucky/Louisville:20210618T220000
DTSTAMP:20260422T041754
CREATED:20210426T140106Z
LAST-MODIFIED:20210521T190309Z
UID:3650-1624042800-1624053600@visitpikeville.com
SUMMARY:The Past Time Band
DESCRIPTION:7-10pm FREE entertainment on the Mountain Top Media Stage!
URL:https://visitpikeville.com/event/the-past-time-band/
LOCATION:Mountain Top Media Stage\, 126 Main St\,\, Pikeville\, KY\, 41501\, United States
CATEGORIES:Appalachian Wireless Arena,Mountain Top Media
ATTACH;FMTTYPE=image/jpeg:https://visitpikeville.com/wp-content/uploads/2021/04/past-time.jpeg
END:VEVENT
BEGIN:VEVENT
DTSTART;TZID=America/Kentucky/Louisville:20210604T190000
DTEND;TZID=America/Kentucky/Louisville:20210604T220000
DTSTAMP:20260422T041754
CREATED:20210426T135141Z
LAST-MODIFIED:20210521T190309Z
UID:3647-1622833200-1622844000@visitpikeville.com
SUMMARY:Full House Band
DESCRIPTION:7-10pm FREE entertainment on the Mountain Top Media Stage!
URL:https://visitpikeville.com/event/full-house-band/
LOCATION:Mountain Top Media Stage\, 126 Main St\,\, Pikeville\, KY\, 41501\, United States
CATEGORIES:Appalachian Wireless Arena,Mountain Top Media
ATTACH;FMTTYPE=image/jpeg:https://visitpikeville.com/wp-content/uploads/2021/04/full-house.jpeg
END:VEVENT
BEGIN:VEVENT
DTSTART;TZID=America/Kentucky/Louisville:20210508T110000
DTEND;TZID=America/Kentucky/Louisville:20210508T130000
DTSTAMP:20260422T041754
CREATED:20210503T135328Z
LAST-MODIFIED:20210521T190309Z
UID:3737-1620471600-1620478800@visitpikeville.com
SUMMARY:Pikeville Vs Corbin
DESCRIPTION:Watch Pikeville vs Corbin Baseball live for only $5
URL:https://visitpikeville.com/event/pikeville-vs-corbin/
LOCATION:Pay Per View Event\, Pikeville\, KY\, 41501\, United States
CATEGORIES:Mountain Top Media
ATTACH;FMTTYPE=image/jpeg:https://visitpikeville.com/wp-content/uploads/2021/05/pikevillevscorbin.jpeg
END:VEVENT
BEGIN:VEVENT
DTSTART;TZID=America/Kentucky/Louisville:20210503T180000
DTEND;TZID=America/Kentucky/Louisville:20210503T200000
DTSTAMP:20260422T041754
CREATED:20210503T133351Z
LAST-MODIFIED:20210521T190309Z
UID:3734-1620064800-1620072000@visitpikeville.com
SUMMARY:Pikeville Vs. Paintsville
DESCRIPTION:Watch Pikeville vs Paintsville Baseball live for only $5
URL:https://visitpikeville.com/event/pikeville-vs-paintsville/
LOCATION:Pay Per View Event\, Pikeville\, KY\, 41501\, United States
CATEGORIES:Mountain Top Media
ATTACH;FMTTYPE=image/jpeg:https://visitpikeville.com/wp-content/uploads/2021/05/pikevillevspaintsville.jpeg
END:VEVENT
BEGIN:VEVENT
DTSTART;TZID=America/Kentucky/Louisville:20210416T180000
DTEND;TZID=America/Kentucky/Louisville:20210416T210000
DTSTAMP:20260422T041754
CREATED:20210322T144635Z
LAST-MODIFIED:20210521T190309Z
UID:3114-1618596000-1618606800@visitpikeville.com
SUMMARY:Best in the Mountains Benefit Show
DESCRIPTION:Come out and join us for the Best in the Mountains Benefit Show! Two days of live music from the Mountain Top Media stage in downtown Pikeville. A portion of proceeds goes to the Shriners – bring a few extra dollars to donate if you can! Friday evening will be free\, limited seating\, first come first served from 6-9 pm. Saturday will be a ticketed event. Stay tuned for updates on ticket availability. Masks will be required\, food and drink will be available for purchase.
URL:https://visitpikeville.com/event/best-in-the-mountains-benefit-show/
LOCATION:Mountain Top Media Stage\, 126 Main St\,\, Pikeville\, KY\, 41501\, United States
CATEGORIES:Mountain Top Media
ATTACH;FMTTYPE=image/jpeg:https://visitpikeville.com/wp-content/uploads/2021/03/best.jpeg
END:VEVENT
BEGIN:VEVENT
DTSTART;TZID=America/Kentucky/Louisville:20210403T120000
DTEND;TZID=America/Kentucky/Louisville:20210403T140000
DTSTAMP:20260422T041754
CREATED:20210330T172851Z
LAST-MODIFIED:20210521T190310Z
UID:3258-1617451200-1617458400@visitpikeville.com
SUMMARY:The 2021 Easter Caravan
DESCRIPTION:Join us Saturday April 3 in the Riverfill –\nlineup starts at noon\, we roll out at 1.\nWe’ll drive through town\, Scott Avenue\,\nthe Bowles Addition\, Cedar Creek\, and\nKentucky Avenue to see all the\nEaster Decorations!\nA safe\, socially distant way to\ncelebrate Easter!\nPresented by the City of Pikeville and the stations of Mountain Top Media.
URL:https://visitpikeville.com/event/the-2021-easter-caravan/
LOCATION:Downtown Pikeville\, Pikeville\, Ky\, 41501
CATEGORIES:Mountain Top Media
ATTACH;FMTTYPE=image/jpeg:https://visitpikeville.com/wp-content/uploads/2021/03/caravan.jpeg
END:VEVENT
END:VCALENDAR