BEGIN:VCALENDAR
VERSION:2.0
PRODID:-//Visit Pikeville - ECPv6.15.20//NONSGML v1.0//EN
CALSCALE:GREGORIAN
METHOD:PUBLISH
X-ORIGINAL-URL:https://visitpikeville.com
X-WR-CALDESC:Events for Visit Pikeville
REFRESH-INTERVAL;VALUE=DURATION:PT1H
X-Robots-Tag:noindex
X-PUBLISHED-TTL:PT1H
BEGIN:VTIMEZONE
TZID:America/Kentucky/Louisville
BEGIN:DAYLIGHT
TZOFFSETFROM:-0500
TZOFFSETTO:-0400
TZNAME:EDT
DTSTART:20230312T070000
END:DAYLIGHT
BEGIN:STANDARD
TZOFFSETFROM:-0400
TZOFFSETTO:-0500
TZNAME:EST
DTSTART:20231105T060000
END:STANDARD
BEGIN:DAYLIGHT
TZOFFSETFROM:-0500
TZOFFSETTO:-0400
TZNAME:EDT
DTSTART:20240310T070000
END:DAYLIGHT
BEGIN:STANDARD
TZOFFSETFROM:-0400
TZOFFSETTO:-0500
TZNAME:EST
DTSTART:20241103T060000
END:STANDARD
BEGIN:DAYLIGHT
TZOFFSETFROM:-0500
TZOFFSETTO:-0400
TZNAME:EDT
DTSTART:20250309T070000
END:DAYLIGHT
BEGIN:STANDARD
TZOFFSETFROM:-0400
TZOFFSETTO:-0500
TZNAME:EST
DTSTART:20251102T060000
END:STANDARD
BEGIN:DAYLIGHT
TZOFFSETFROM:-0500
TZOFFSETTO:-0400
TZNAME:EDT
DTSTART:20260308T070000
END:DAYLIGHT
BEGIN:STANDARD
TZOFFSETFROM:-0400
TZOFFSETTO:-0500
TZNAME:EST
DTSTART:20261101T060000
END:STANDARD
BEGIN:DAYLIGHT
TZOFFSETFROM:-0500
TZOFFSETTO:-0400
TZNAME:EDT
DTSTART:20270314T070000
END:DAYLIGHT
BEGIN:STANDARD
TZOFFSETFROM:-0400
TZOFFSETTO:-0500
TZNAME:EST
DTSTART:20271107T060000
END:STANDARD
END:VTIMEZONE
BEGIN:VEVENT
DTSTART;TZID=America/Kentucky/Louisville:20260416T150000
DTEND;TZID=America/Kentucky/Louisville:20260418T170000
DTSTAMP:20260421T160734
CREATED:20260316T122423Z
LAST-MODIFIED:20260316T122423Z
UID:73575-1776351600-1776531600@visitpikeville.com
SUMMARY:Hillbilly Days Festival
DESCRIPTION:@Mountain Top Media Stage
URL:https://visitpikeville.com/event/hillbilly-days-festival/
LOCATION:Mountain Top Media Stage\, 126 Main St\,\, Pikeville\, KY\, 41501\, United States
CATEGORIES:Appalachian Wireless Arena,Mountain Top Media
ATTACH;FMTTYPE=image/jpeg:https://visitpikeville.com/wp-content/uploads/2026/03/hillbilly-days-festival.jpg
END:VEVENT
BEGIN:VEVENT
DTSTART;TZID=America/Kentucky/Louisville:20260321T190000
DTEND;TZID=America/Kentucky/Louisville:20260321T210000
DTSTAMP:20260421T160734
CREATED:20260223T151344Z
LAST-MODIFIED:20260223T151344Z
UID:73163-1774119600-1774126800@visitpikeville.com
SUMMARY:Mountain Superstars
DESCRIPTION:Mountain Superstars\, formerly known as Hillbilly Superstars\, returns for its third year with its biggest show yet. Produced by Mountain Top Media and presented by Bluegrass Precision Wellness\, this live singing competition features talented vocalists ages 13 and up from across the mountains competing for the title of Mountain Superstar and exciting prizes. Enjoy unforgettable performances celebrating local talent\, with winners crowned at the end of the night. \nTickets: $10 All Tickets + Fee
URL:https://visitpikeville.com/event/mountain-superstars/
LOCATION:Appalachian Center for the Arts\, 218 2nd St\,\, Pikeville\, Ky\, 41501
CATEGORIES:Mountain Top Media,The Appalachian Center for the Arts
ATTACH;FMTTYPE=image/jpeg:https://visitpikeville.com/wp-content/uploads/2026/02/mountain-superstars-jr.jpg
END:VEVENT
BEGIN:VEVENT
DTSTART;TZID=America/Kentucky/Louisville:20251206T160000
DTEND;TZID=America/Kentucky/Louisville:20251206T180000
DTSTAMP:20260421T160734
CREATED:20251201T164759Z
LAST-MODIFIED:20251201T164759Z
UID:71902-1765036800-1765044000@visitpikeville.com
SUMMARY:Mountain Top Media’s FIRST-EVER Blizzard Bash!
DESCRIPTION:Get in the Christmas spirit with us as we kick off December Mountain Top style!\n• Saturday\, December 6th• 4–6 PM• Mountain Top Media Stage – 130 Main Street\, Pikeville\, KY 41501\nWhat’s happening:• Take-Home Prizes• Ugly Sweater Contest – brought to you by Lance Lykins at Walters Toyota Nissan!If you need a car\, call 606-356-6940.• Gift Wrapping Race – brought to you by 5.0 Detailing of Raccoon (606) 213-3382\nAnd y’all don’t run off after the fun…The Pikeville Christmas Parade starts at 6 PM right after the Blizzard Bash! You can watch or listen to the parade on 93.1 WDHR\, brought to you by The City of Pikeville.\nWe’ve got more to announce\, so make sure to hit Interested or Going to stay updated on the first-ever Mountain Top Media Blizzard Bash! 
URL:https://visitpikeville.com/event/mountain-top-medias-first-ever-blizzard-bash/
LOCATION:Mountain Top Media Stage\, 126 Main St\,\, Pikeville\, KY\, 41501\, United States
CATEGORIES:Mountain Top Media
ATTACH;FMTTYPE=image/jpeg:https://visitpikeville.com/wp-content/uploads/2025/12/blizzard-bash.jpg
END:VEVENT
BEGIN:VEVENT
DTSTART;TZID=America/Kentucky/Louisville:20250905T190000
DTEND;TZID=America/Kentucky/Louisville:20250905T220000
DTSTAMP:20260421T160735
CREATED:20250331T132606Z
LAST-MODIFIED:20250331T132606Z
UID:63700-1757098800-1757109600@visitpikeville.com
SUMMARY:Bedford Band (Bike Night)
DESCRIPTION:@Mountain Top Media Stage
URL:https://visitpikeville.com/event/bedford-band-bike-night/
LOCATION:Mountain Top Media Stage\, 126 Main St\,\, Pikeville\, KY\, 41501\, United States
CATEGORIES:Mountain Top Media
ATTACH;FMTTYPE=image/jpeg:https://visitpikeville.com/wp-content/uploads/2025/03/bedford.jpg
END:VEVENT
BEGIN:VEVENT
DTSTART;TZID=America/Kentucky/Louisville:20250815T190000
DTEND;TZID=America/Kentucky/Louisville:20250815T220000
DTSTAMP:20260421T160735
CREATED:20250331T132414Z
LAST-MODIFIED:20250331T132414Z
UID:63697-1755284400-1755295200@visitpikeville.com
SUMMARY:The Sons of FM (Rat rod and rocks)
DESCRIPTION:@Mountain Top Media Stage
URL:https://visitpikeville.com/event/the-sons-of-fm-rat-rod-and-rocks/
LOCATION:Mountain Top Media Stage\, 126 Main St\,\, Pikeville\, KY\, 41501\, United States
CATEGORIES:Mountain Top Media
ATTACH;FMTTYPE=image/jpeg:https://visitpikeville.com/wp-content/uploads/2025/03/sons.jpg
END:VEVENT
BEGIN:VEVENT
DTSTART;TZID=America/Kentucky/Louisville:20250809T160000
DTEND;TZID=America/Kentucky/Louisville:20250809T220000
DTSTAMP:20260421T160735
CREATED:20250318T184909Z
LAST-MODIFIED:20250318T184909Z
UID:63537-1754755200-1754776800@visitpikeville.com
SUMMARY:Cuffs & Hoses Block Party 5K/10K
DESCRIPTION: Cuffs & Hoses Block Party 5K/10K – Registration is OPEN! Register for the 5K/10K:https://runsignup.com/Race/KY/Pikeville/CUFFSHOSES5K10KJoin us on Saturday\, August 9\, 2025\, for an evening full of fun\, fitness\, and community at the Mountain Top Media Stage!All proceeds benefit Pikeville’s Christmas with a First Responder program\, bringing holiday joy to local children and families. School Competition Alert! We’re excited to host a friendly competition between all local schools! The school with the highest participation—including students\, faculty\, staff\, and coaches—will be recognized and receive a $250 Walmart Gift Card at the event!You must be present at the Cuffs & Hoses 5K/10K Block Party! Virtual registrations will NOT count!Sign up today\, tag your friends\, and let’s make this year’s event the biggest yet! Register for the 5K/10K:https://runsignup.com/Race/KY/Pikeville/CUFFSHOSES5K10K
URL:https://visitpikeville.com/event/cuffs-hoses-block-party-5k-10k/
LOCATION:Mountain Top Media Stage\, 126 Main St\,\, Pikeville\, KY\, 41501\, United States
CATEGORIES:Mountain Top Media
ATTACH;FMTTYPE=image/jpeg:https://visitpikeville.com/wp-content/uploads/2025/03/cuffs-and-hoses.jpg
END:VEVENT
BEGIN:VEVENT
DTSTART;TZID=America/Kentucky/Louisville:20250801T190000
DTEND;TZID=America/Kentucky/Louisville:20250801T220000
DTSTAMP:20260421T160735
CREATED:20250331T131717Z
LAST-MODIFIED:20250331T131717Z
UID:63694-1754074800-1754085600@visitpikeville.com
SUMMARY:Bek and the Starlight Revue (Convertibles at sunset)
DESCRIPTION:@Mountain Top Media Stage
URL:https://visitpikeville.com/event/bek-and-the-starlight-revue-convertibles-at-sunset/
LOCATION:Mountain Top Media Stage\, 126 Main St\,\, Pikeville\, KY\, 41501\, United States
CATEGORIES:Mountain Top Media
ATTACH;FMTTYPE=image/jpeg:https://visitpikeville.com/wp-content/uploads/2025/03/bek.jpg
END:VEVENT
BEGIN:VEVENT
DTSTART;TZID=America/Kentucky/Louisville:20250729T183000
DTEND;TZID=America/Kentucky/Louisville:20250729T203000
DTSTAMP:20260421T160735
CREATED:20250317T141348Z
LAST-MODIFIED:20250317T141348Z
UID:63495-1753813800-1753821000@visitpikeville.com
SUMMARY:Best in the Mountains Bash
DESCRIPTION:You’re Invited to the First-Ever Best in the Mountains Bash!\nRegister now: https://mountaintopmedia.formstack.com/…/bitm_bash… (https://mountaintopmedia.formstack.com/…/bitm_bash…)\nGold and Silver winners\, along with a guest\, are invited to a special evening celebrating the best in the region.• Pick up your official 2025 Best in the Mountains winner’s certificate• Get a free copy of the 2025 Best in the Mountains book• Enjoy great music and a great time• Refreshments available for purchase\n Mountain Top Media Stage Tuesday\, July 29\, 2025 6:30 PM – 8:30 PM\nDon’t miss this chance to celebrate with fellow winners.\n#BestInTheMountains #BITMBash #CelebratingTheBest #2025Winners
URL:https://visitpikeville.com/event/best-in-the-mountains-bash/
LOCATION:Mountain Top Media Stage\, 126 Main St\,\, Pikeville\, KY\, 41501\, United States
CATEGORIES:Mountain Top Media
ATTACH;FMTTYPE=image/jpeg:https://visitpikeville.com/wp-content/uploads/2025/03/BEST.jpg
END:VEVENT
BEGIN:VEVENT
DTSTART;TZID=America/Kentucky/Louisville:20250718T190000
DTEND;TZID=America/Kentucky/Louisville:20250718T223000
DTSTAMP:20260421T160735
CREATED:20250331T131532Z
LAST-MODIFIED:20250331T131532Z
UID:63691-1752865200-1752877800@visitpikeville.com
SUMMARY:The Pastime Band (Chevy VS Ford Night)
DESCRIPTION:@Mountain Top Media Stage
URL:https://visitpikeville.com/event/the-pastime-band-chevy-vs-ford-night/
LOCATION:Mountain Top Media Stage\, 126 Main St\,\, Pikeville\, KY\, 41501\, United States
CATEGORIES:Mountain Top Media
ATTACH;FMTTYPE=image/jpeg:https://visitpikeville.com/wp-content/uploads/2025/03/pastime.jpg
END:VEVENT
BEGIN:VEVENT
DTSTART;TZID=America/Kentucky/Louisville:20250711T190000
DTEND;TZID=America/Kentucky/Louisville:20250711T220000
DTSTAMP:20260421T160735
CREATED:20250331T131339Z
LAST-MODIFIED:20250331T131339Z
UID:63688-1752260400-1752271200@visitpikeville.com
SUMMARY:Midlife Crisis (Muscle Car Madness)
DESCRIPTION:@Mountain Top Media Stage
URL:https://visitpikeville.com/event/midlife-crisis-muscle-car-madness/
LOCATION:Mountain Top Media Stage\, 126 Main St\,\, Pikeville\, KY\, 41501\, United States
CATEGORIES:Mountain Top Media
ATTACH;FMTTYPE=image/jpeg:https://visitpikeville.com/wp-content/uploads/2025/03/mlc.jpg
END:VEVENT
BEGIN:VEVENT
DTSTART;TZID=America/Kentucky/Louisville:20250704T190000
DTEND;TZID=America/Kentucky/Louisville:20250704T220000
DTSTAMP:20260421T160735
CREATED:20250331T131135Z
LAST-MODIFIED:20250331T131135Z
UID:63685-1751655600-1751666400@visitpikeville.com
SUMMARY:Julie Goff and the swagtones (fireworks)
DESCRIPTION:@Mountain Top Media Stage
URL:https://visitpikeville.com/event/julie-goff-and-the-swagtones-fireworks/
LOCATION:Mountain Top Media Stage\, 126 Main St\,\, Pikeville\, KY\, 41501\, United States
CATEGORIES:Mountain Top Media
ATTACH;FMTTYPE=image/jpeg:https://visitpikeville.com/wp-content/uploads/2025/03/swagtones.jpg
END:VEVENT
BEGIN:VEVENT
DTSTART;TZID=America/Kentucky/Louisville:20250620T190000
DTEND;TZID=America/Kentucky/Louisville:20250620T220000
DTSTAMP:20260421T160735
CREATED:20250331T130801Z
LAST-MODIFIED:20250331T130801Z
UID:63682-1750446000-1750456800@visitpikeville.com
SUMMARY:Exit 23 (Off road outlaws)
DESCRIPTION:@Mountain Top Media Stage
URL:https://visitpikeville.com/event/exit-23-off-road-outlaws/
LOCATION:Mountain Top Media Stage\, 126 Main St\,\, Pikeville\, KY\, 41501\, United States
CATEGORIES:Mountain Top Media
ATTACH;FMTTYPE=image/jpeg:https://visitpikeville.com/wp-content/uploads/2025/03/exit-23-1.jpg
END:VEVENT
BEGIN:VEVENT
DTSTART;TZID=America/Kentucky/Louisville:20250613T190000
DTEND;TZID=America/Kentucky/Louisville:20250613T220000
DTSTAMP:20260421T160735
CREATED:20250331T130600Z
LAST-MODIFIED:20250331T130600Z
UID:63679-1749841200-1749852000@visitpikeville.com
SUMMARY:Wildfire (Jeep show and shine)
DESCRIPTION:@Mountain Top Media Stage
URL:https://visitpikeville.com/event/wildfire-jeep-show-and-shine/
LOCATION:Mountain Top Media Stage\, 126 Main St\,\, Pikeville\, KY\, 41501\, United States
CATEGORIES:Mountain Top Media
ATTACH;FMTTYPE=image/jpeg:https://visitpikeville.com/wp-content/uploads/2025/03/wildfire.jpg
END:VEVENT
BEGIN:VEVENT
DTSTART;TZID=America/Kentucky/Louisville:20250606T190000
DTEND;TZID=America/Kentucky/Louisville:20250606T220000
DTSTAMP:20260421T160735
CREATED:20250331T125959Z
LAST-MODIFIED:20250331T125959Z
UID:63676-1749236400-1749247200@visitpikeville.com
SUMMARY:The Hall Brothers Band (Trucks & Tailgates)
DESCRIPTION:@Mountain Top Media Stage
URL:https://visitpikeville.com/event/the-hall-brothers-band-trucks-tailgates/
LOCATION:Mountain Top Media Stage\, 126 Main St\,\, Pikeville\, KY\, 41501\, United States
CATEGORIES:Mountain Top Media
ATTACH;FMTTYPE=image/jpeg:https://visitpikeville.com/wp-content/uploads/2025/03/the-hall-brothers.jpg
END:VEVENT
BEGIN:VEVENT
DTSTART;TZID=America/Kentucky/Louisville:20250516T190000
DTEND;TZID=America/Kentucky/Louisville:20250516T220000
DTSTAMP:20260421T160735
CREATED:20250331T125745Z
LAST-MODIFIED:20250331T125745Z
UID:63673-1747422000-1747432800@visitpikeville.com
SUMMARY:Thoze guyz (Bike Night)
DESCRIPTION:@Mountain Top Media Stage
URL:https://visitpikeville.com/event/thoze-guyz-bike-night/
LOCATION:Mountain Top Media Stage\, 126 Main St\,\, Pikeville\, KY\, 41501\, United States
CATEGORIES:Mountain Top Media
ATTACH;FMTTYPE=image/jpeg:https://visitpikeville.com/wp-content/uploads/2025/03/thoze-guys.jpg
END:VEVENT
BEGIN:VEVENT
DTSTART;TZID=America/Kentucky/Louisville:20250426T120000
DTEND;TZID=America/Kentucky/Louisville:20250426T170000
DTSTAMP:20260421T160735
CREATED:20250310T121439Z
LAST-MODIFIED:20250310T121439Z
UID:63360-1745668800-1745686800@visitpikeville.com
SUMMARY:Mountain Top Media Stage for Hillbilly Days
DESCRIPTION:On the Mountain Top Media Stage for Hillbilly Days!\nBT Media Group
URL:https://visitpikeville.com/event/mountain-top-media-stage-for-hillbilly-days-2-2/
LOCATION:Mountain Top Media Stage\, 126 Main St\,\, Pikeville\, KY\, 41501\, United States
CATEGORIES:Mountain Top Media
ATTACH;FMTTYPE=image/jpeg:https://visitpikeville.com/wp-content/uploads/2025/03/mountain-top-media-stage.jpg
END:VEVENT
BEGIN:VEVENT
DTSTART;TZID=America/Kentucky/Louisville:20250425T140000
DTEND;TZID=America/Kentucky/Louisville:20250425T220000
DTSTAMP:20260421T160735
CREATED:20250310T121344Z
LAST-MODIFIED:20250310T121344Z
UID:63358-1745589600-1745618400@visitpikeville.com
SUMMARY:Mountain Top Media Stage for Hillbilly Days
DESCRIPTION:On the Mountain Top Media Stage for Hillbilly Days!\nBT Media Group
URL:https://visitpikeville.com/event/mountain-top-media-stage-for-hillbilly-days-2/
LOCATION:Mountain Top Media Stage\, 126 Main St\,\, Pikeville\, KY\, 41501\, United States
CATEGORIES:Mountain Top Media
ATTACH;FMTTYPE=image/jpeg:https://visitpikeville.com/wp-content/uploads/2025/03/mountain-top-media-stage.jpg
END:VEVENT
BEGIN:VEVENT
DTSTART;TZID=America/Kentucky/Louisville:20250424T170000
DTEND;TZID=America/Kentucky/Louisville:20250426T120000
DTSTAMP:20260421T160735
CREATED:20250317T141107Z
LAST-MODIFIED:20250324T112553Z
UID:63492-1745514000-1745668800@visitpikeville.com
SUMMARY:Hillbilly Superstars
DESCRIPTION:Hillbilly Superstars – Official Rules & Information \nPRESENTED BY: COMPASSION PEDIATRICS BEHAVIORAL HEALTH SERVICES\n Location: Mountain Top Media Stage on Hambley Blvd (at the bottom of the UPike 99)\n Event Times:• Thursday\, April 24 – 5:00 PM (Hillbilly Superstars Jr. – Winner announced same day)• Friday\, April 25 – 5:00 PM (Hillbilly Superstars)• Saturday\, April 26 – 12:00 PM (Finale)\nAbout the Event:Hillbilly Superstars is back for its second year at the 48th Annual Hillbilly Days\, and you won’t want to miss it! Talented contestants from across the region will take the stage to compete for the title of Hillbilly Superstar.\nWhether you’re cheering on your favorite performer or hoping to take the stage yourself\, this exciting competition promises incredible talent\, unforgettable performances\, and plenty of festival fun.\nHow to Enter: Submit a 30-second to 1-minute video of yourself singing with a backing track or a cappella at hillbillysuperstars.com. Our panel of judges will review submissions. If accepted\, you’ll move on to the voting round. Once accepted\, it’s up to you to secure your votes to advance and perform live at Hillbilly Days!\nPlease Note: No instruments are allowed during auditions or live performances – only backing tracks or a cappella.\nVoting Details: One vote per contestant per hour\nCompetition Categories:Hillbilly Superstars Jr. (Ages 5-12) – The top 10 contestants with the most votes move on to the live competition.Hillbilly Superstars (Ages 12 & up) – The top 15 contestants with the most votes move on to the live competition.\nLive Performances:Finalists will perform one song (maximum 3 minutes and 30 seconds) live on stage in front of a large festival audience and a panel of judges. The event will also be broadcast on TV and other media outlets.\nWhether you’re a contestant chasing the spotlight or a festivalgoer ready to enjoy amazing local talent\, Hillbilly Superstars is a must-see event you won’t want to miss! \nThink you have what it takes?Submit your audition now at hillbillysuperstars.com!
URL:https://visitpikeville.com/event/hillbilly-superstars-2/
LOCATION:Mountain Top Media Stage\, 126 Main St\,\, Pikeville\, KY\, 41501\, United States
CATEGORIES:Mountain Top Media
ATTACH;FMTTYPE=image/jpeg:https://visitpikeville.com/wp-content/uploads/2025/03/HILLBILLY-SUPERSTARS.jpg
END:VEVENT
BEGIN:VEVENT
DTSTART;TZID=America/Kentucky/Louisville:20250424T153000
DTEND;TZID=America/Kentucky/Louisville:20250424T220000
DTSTAMP:20260421T160735
CREATED:20250310T121243Z
LAST-MODIFIED:20250310T121243Z
UID:63355-1745508600-1745532000@visitpikeville.com
SUMMARY:Mountain Top Media Stage for Hillbilly Days
DESCRIPTION:On the Mountain Top Media Stage for Hillbilly Days!\nBT Media Group
URL:https://visitpikeville.com/event/mountain-top-media-stage-for-hillbilly-days/
LOCATION:Mountain Top Media Stage\, 126 Main St\,\, Pikeville\, KY\, 41501\, United States
CATEGORIES:Mountain Top Media
ATTACH;FMTTYPE=image/jpeg:https://visitpikeville.com/wp-content/uploads/2025/03/mountain-top-media-stage.jpg
END:VEVENT
BEGIN:VEVENT
DTSTART;TZID=America/Kentucky/Louisville:20241102T190000
DTEND;TZID=America/Kentucky/Louisville:20241102T220000
DTSTAMP:20260421T160735
CREATED:20240729T130910Z
LAST-MODIFIED:20240729T130910Z
UID:54160-1730574000-1730584800@visitpikeville.com
SUMMARY:Brittany Mullins and The Rizzlers
DESCRIPTION:Free Admissionhttps://www.facebook.com/BrittanyAveryAndTheSassHoles
URL:https://visitpikeville.com/event/brittany-mullins-and-the-rizzlers/
LOCATION:Mountain Top Media Stage\, 126 Main St\,\, Pikeville\, KY\, 41501\, United States
CATEGORIES:Mountain Top Media
ATTACH;FMTTYPE=image/jpeg:https://visitpikeville.com/wp-content/uploads/2024/07/brittany.jpg
END:VEVENT
BEGIN:VEVENT
DTSTART;TZID=America/Kentucky/Louisville:20241102T190000
DTEND;TZID=America/Kentucky/Louisville:20241102T220000
DTSTAMP:20260421T160735
CREATED:20240715T183236Z
LAST-MODIFIED:20240715T183236Z
UID:53407-1730574000-1730584800@visitpikeville.com
SUMMARY:Main Street Live
DESCRIPTION:Part 2 of Main Street Live at the Mountain Top Media StageSaturday Night Special!!!
URL:https://visitpikeville.com/event/main-street-live-2-2-2-2/
LOCATION:Mountain Top Media Stage\, 126 Main St\,\, Pikeville\, KY\, 41501\, United States
CATEGORIES:Mountain Top Media
ATTACH;FMTTYPE=image/jpeg:https://visitpikeville.com/wp-content/uploads/2024/07/main-street.jpg
END:VEVENT
BEGIN:VEVENT
DTSTART;TZID=America/Kentucky/Louisville:20241019T190000
DTEND;TZID=America/Kentucky/Louisville:20241019T220000
DTSTAMP:20260421T160735
CREATED:20240729T131138Z
LAST-MODIFIED:20240729T131138Z
UID:54163-1729364400-1729375200@visitpikeville.com
SUMMARY:Wildfire
DESCRIPTION:Event by Main Street Live at the Mountain Top Media Stage
URL:https://visitpikeville.com/event/wildfire/
LOCATION:Mountain Top Media Stage\, 126 Main St\,\, Pikeville\, KY\, 41501\, United States
CATEGORIES:Mountain Top Media
ATTACH;FMTTYPE=image/jpeg:https://visitpikeville.com/wp-content/uploads/2024/07/wildfire.jpg
END:VEVENT
BEGIN:VEVENT
DTSTART;TZID=America/Kentucky/Louisville:20241019T190000
DTEND;TZID=America/Kentucky/Louisville:20241019T220000
DTSTAMP:20260421T160735
CREATED:20240715T183048Z
LAST-MODIFIED:20240715T183048Z
UID:53404-1729364400-1729375200@visitpikeville.com
SUMMARY:Main Street Live
DESCRIPTION:Part 2 of Main Street Live at the Mountain Top Media StageSaturday Night Special!!!
URL:https://visitpikeville.com/event/main-street-live-2-2-2/
LOCATION:Mountain Top Media Stage\, 126 Main St\,\, Pikeville\, KY\, 41501\, United States
CATEGORIES:Mountain Top Media
ATTACH;FMTTYPE=image/jpeg:https://visitpikeville.com/wp-content/uploads/2024/07/main-street.jpg
END:VEVENT
BEGIN:VEVENT
DTSTART;TZID=America/Kentucky/Louisville:20241005T190000
DTEND;TZID=America/Kentucky/Louisville:20241005T220000
DTSTAMP:20260421T160735
CREATED:20240729T131408Z
LAST-MODIFIED:20240729T131408Z
UID:54166-1728154800-1728165600@visitpikeville.com
SUMMARY:2nd Shift
DESCRIPTION:Event by Main Street Live at the Mountain Top Media Stage
URL:https://visitpikeville.com/event/2nd-shift/
LOCATION:Mountain Top Media Stage\, 126 Main St\,\, Pikeville\, KY\, 41501\, United States
CATEGORIES:Mountain Top Media
ATTACH;FMTTYPE=image/jpeg:https://visitpikeville.com/wp-content/uploads/2024/07/2nd.jpg
END:VEVENT
BEGIN:VEVENT
DTSTART;TZID=America/Kentucky/Louisville:20241005T190000
DTEND;TZID=America/Kentucky/Louisville:20241005T220000
DTSTAMP:20260421T160735
CREATED:20240715T182945Z
LAST-MODIFIED:20240715T182945Z
UID:53402-1728154800-1728165600@visitpikeville.com
SUMMARY:Main Street Live
DESCRIPTION:Part 2 of Main Street Live at the Mountain Top Media StageSaturday Night Special!!!
URL:https://visitpikeville.com/event/main-street-live-2-2/
LOCATION:Mountain Top Media Stage\, 126 Main St\,\, Pikeville\, KY\, 41501\, United States
CATEGORIES:Mountain Top Media
ATTACH;FMTTYPE=image/jpeg:https://visitpikeville.com/wp-content/uploads/2024/07/main-street.jpg
END:VEVENT
BEGIN:VEVENT
DTSTART;TZID=America/Kentucky/Louisville:20241004T183000
DTEND;TZID=America/Kentucky/Louisville:20241004T213000
DTSTAMP:20260421T160735
CREATED:20240930T143741Z
LAST-MODIFIED:20240930T143741Z
UID:57808-1728066600-1728077400@visitpikeville.com
SUMMARY:University of Pikeville Homecoming\, Pep Rally & Concert
DESCRIPTION:Featuring Cooper Greer with special guest Zoe Howard
URL:https://visitpikeville.com/event/university-of-pikeville-homecoming-pep-rally-concert/
LOCATION:Mountain Top Media Stage\, 126 Main St\,\, Pikeville\, KY\, 41501\, United States
CATEGORIES:Mountain Top Media,Pikeville Main Street
ATTACH;FMTTYPE=image/jpeg:https://visitpikeville.com/wp-content/uploads/2024/09/homecoming-1.jpg
END:VEVENT
BEGIN:VEVENT
DTSTART;TZID=America/Kentucky/Louisville:20240921T190000
DTEND;TZID=America/Kentucky/Louisville:20240921T220000
DTSTAMP:20260421T160735
CREATED:20240729T131703Z
LAST-MODIFIED:20240729T131703Z
UID:54169-1726945200-1726956000@visitpikeville.com
SUMMARY:Sons of FM
DESCRIPTION:Free Entertainmenthttps://www.facebook.com/sonsofFM
URL:https://visitpikeville.com/event/sons-of-fm-2/
LOCATION:Mountain Top Media Stage\, 126 Main St\,\, Pikeville\, KY\, 41501\, United States
CATEGORIES:Mountain Top Media
ATTACH;FMTTYPE=image/jpeg:https://visitpikeville.com/wp-content/uploads/2024/07/SONS.jpg
END:VEVENT
BEGIN:VEVENT
DTSTART;TZID=America/Kentucky/Louisville:20240921T190000
DTEND;TZID=America/Kentucky/Louisville:20240921T220000
DTSTAMP:20260421T160735
CREATED:20240715T135523Z
LAST-MODIFIED:20240715T135523Z
UID:53390-1726945200-1726956000@visitpikeville.com
SUMMARY:Main Street Live
DESCRIPTION:Part 2 of Main Street Live at the Mountain Top Media StageSaturday Night Special!!!
URL:https://visitpikeville.com/event/main-street-live-2/
LOCATION:Mountain Top Media Stage\, 126 Main St\,\, Pikeville\, KY\, 41501\, United States
CATEGORIES:Mountain Top Media
ATTACH;FMTTYPE=image/jpeg:https://visitpikeville.com/wp-content/uploads/2024/07/main-street.jpg
END:VEVENT
BEGIN:VEVENT
DTSTART;TZID=America/Kentucky/Louisville:20240907T200000
DTEND;TZID=America/Kentucky/Louisville:20240907T223000
DTSTAMP:20260421T160735
CREATED:20240528T131119Z
LAST-MODIFIED:20240528T131119Z
UID:52217-1725739200-1725748200@visitpikeville.com
SUMMARY:CUFFS & HOSES 5K/10K BLOCK PARTY
DESCRIPTION:Come and join us for a run and a block party to support a great cause!  Your perfect opportunity is Saturday night\, September 7th\, 8:00pm for the race and 6 pm for the Block Party in downtown Pikeville!!  The streets will be lined with lights and sirens from the Pikeville Police and Fire Department. There will be music at the Mountain Top Media with Midlife Crisis and the Swagtones bringing some amazing music to dance and enjoy! There will also be a dunk booth for you to Dunk a First Responder\, food trucks\, inflatables\, and more!  This year the monies raised along with the registration fees will help with our Christmas with the First Responder program and other community outreach projects for children all throughout Pike County!  The run/walk start/finish line will be at located by the Mountain Top Media Stage on Main Street in downtown Pikeville.  We will follow the 5k route\, but we get to run at night!!   Finisher medals\, t-shirts\, chip timing\, finish line pictures and videos\, 1 free beer token for those who are ages 21+ and 1 free Dunk a First Responder chance for those under the age of 21\, are included in your race fee! 5K Run/Walk registration is $35 10K registration is $35 Virtual Run registration is $35
URL:https://visitpikeville.com/event/cuffs-hoses-5k-10k-block-party-2/
LOCATION:Mountain Top Media Stage\, 126 Main St\,\, Pikeville\, KY\, 41501\, United States
CATEGORIES:Mountain Top Media
ATTACH;FMTTYPE=image/png:https://visitpikeville.com/wp-content/uploads/2024/05/race131815-logo-0.bIQI2b.png
END:VEVENT
BEGIN:VEVENT
DTSTART;TZID=America/Kentucky/Louisville:20240906T190000
DTEND;TZID=America/Kentucky/Louisville:20240906T220000
DTSTAMP:20260421T160735
CREATED:20240729T132445Z
LAST-MODIFIED:20240729T132445Z
UID:54172-1725649200-1725660000@visitpikeville.com
SUMMARY:The Creekers
DESCRIPTION:Free Entertainmenthttps://www.facebook.com/TheCreekersBand
URL:https://visitpikeville.com/event/the-creekers/
LOCATION:Mountain Top Media Stage\, 126 Main St\,\, Pikeville\, KY\, 41501\, United States
CATEGORIES:Mountain Top Media
ATTACH;FMTTYPE=image/jpeg:https://visitpikeville.com/wp-content/uploads/2024/07/creekers.jpg
END:VEVENT
END:VCALENDAR