BEGIN:VCALENDAR
VERSION:2.0
PRODID:-//Visit Pikeville - ECPv6.15.20//NONSGML v1.0//EN
CALSCALE:GREGORIAN
METHOD:PUBLISH
X-WR-CALNAME:Visit Pikeville
X-ORIGINAL-URL:https://visitpikeville.com
X-WR-CALDESC:Events for Visit Pikeville
REFRESH-INTERVAL;VALUE=DURATION:PT1H
X-Robots-Tag:noindex
X-PUBLISHED-TTL:PT1H
BEGIN:VTIMEZONE
TZID:America/Kentucky/Louisville
BEGIN:DAYLIGHT
TZOFFSETFROM:-0500
TZOFFSETTO:-0400
TZNAME:EDT
DTSTART:20240310T070000
END:DAYLIGHT
BEGIN:STANDARD
TZOFFSETFROM:-0400
TZOFFSETTO:-0500
TZNAME:EST
DTSTART:20241103T060000
END:STANDARD
BEGIN:DAYLIGHT
TZOFFSETFROM:-0500
TZOFFSETTO:-0400
TZNAME:EDT
DTSTART:20250309T070000
END:DAYLIGHT
BEGIN:STANDARD
TZOFFSETFROM:-0400
TZOFFSETTO:-0500
TZNAME:EST
DTSTART:20251102T060000
END:STANDARD
BEGIN:DAYLIGHT
TZOFFSETFROM:-0500
TZOFFSETTO:-0400
TZNAME:EDT
DTSTART:20260308T070000
END:DAYLIGHT
BEGIN:STANDARD
TZOFFSETFROM:-0400
TZOFFSETTO:-0500
TZNAME:EST
DTSTART:20261101T060000
END:STANDARD
END:VTIMEZONE
BEGIN:VEVENT
DTSTART;TZID=America/Kentucky/Louisville:20251206T160000
DTEND;TZID=America/Kentucky/Louisville:20251206T180000
DTSTAMP:20260421T221348
CREATED:20251201T164759Z
LAST-MODIFIED:20251201T164759Z
UID:71902-1765036800-1765044000@visitpikeville.com
SUMMARY:Mountain Top Media’s FIRST-EVER Blizzard Bash!
DESCRIPTION:Get in the Christmas spirit with us as we kick off December Mountain Top style!\n• Saturday\, December 6th• 4–6 PM• Mountain Top Media Stage – 130 Main Street\, Pikeville\, KY 41501\nWhat’s happening:• Take-Home Prizes• Ugly Sweater Contest – brought to you by Lance Lykins at Walters Toyota Nissan!If you need a car\, call 606-356-6940.• Gift Wrapping Race – brought to you by 5.0 Detailing of Raccoon (606) 213-3382\nAnd y’all don’t run off after the fun…The Pikeville Christmas Parade starts at 6 PM right after the Blizzard Bash! You can watch or listen to the parade on 93.1 WDHR\, brought to you by The City of Pikeville.\nWe’ve got more to announce\, so make sure to hit Interested or Going to stay updated on the first-ever Mountain Top Media Blizzard Bash! 
URL:https://visitpikeville.com/event/mountain-top-medias-first-ever-blizzard-bash/
LOCATION:Mountain Top Media Stage\, 126 Main St\,\, Pikeville\, KY\, 41501\, United States
CATEGORIES:Mountain Top Media
ATTACH;FMTTYPE=image/jpeg:https://visitpikeville.com/wp-content/uploads/2025/12/blizzard-bash.jpg
END:VEVENT
END:VCALENDAR