BEGIN:VCALENDAR
VERSION:2.0
PRODID:-//Visit Pikeville - ECPv6.15.20//NONSGML v1.0//EN
CALSCALE:GREGORIAN
METHOD:PUBLISH
X-WR-CALNAME:Visit Pikeville
X-ORIGINAL-URL:https://visitpikeville.com
X-WR-CALDESC:Events for Visit Pikeville
REFRESH-INTERVAL;VALUE=DURATION:PT1H
X-Robots-Tag:noindex
X-PUBLISHED-TTL:PT1H
BEGIN:VTIMEZONE
TZID:America/Kentucky/Louisville
BEGIN:DAYLIGHT
TZOFFSETFROM:-0500
TZOFFSETTO:-0400
TZNAME:EDT
DTSTART:20240310T070000
END:DAYLIGHT
BEGIN:STANDARD
TZOFFSETFROM:-0400
TZOFFSETTO:-0500
TZNAME:EST
DTSTART:20241103T060000
END:STANDARD
BEGIN:DAYLIGHT
TZOFFSETFROM:-0500
TZOFFSETTO:-0400
TZNAME:EDT
DTSTART:20250309T070000
END:DAYLIGHT
BEGIN:STANDARD
TZOFFSETFROM:-0400
TZOFFSETTO:-0500
TZNAME:EST
DTSTART:20251102T060000
END:STANDARD
BEGIN:DAYLIGHT
TZOFFSETFROM:-0500
TZOFFSETTO:-0400
TZNAME:EDT
DTSTART:20260308T070000
END:DAYLIGHT
BEGIN:STANDARD
TZOFFSETFROM:-0400
TZOFFSETTO:-0500
TZNAME:EST
DTSTART:20261101T060000
END:STANDARD
BEGIN:DAYLIGHT
TZOFFSETFROM:-0500
TZOFFSETTO:-0400
TZNAME:EDT
DTSTART:20270314T070000
END:DAYLIGHT
BEGIN:STANDARD
TZOFFSETFROM:-0400
TZOFFSETTO:-0500
TZNAME:EST
DTSTART:20271107T060000
END:STANDARD
END:VTIMEZONE
BEGIN:VEVENT
DTSTART;TZID=America/Kentucky/Louisville:20251219T150000
DTEND;TZID=America/Kentucky/Louisville:20251219T220000
DTSTAMP:20260423T121414
CREATED:20251124T142140Z
LAST-MODIFIED:20251124T142140Z
UID:71638-1766156400-1766181600@visitpikeville.com
SUMMARY:Ice Skating Rink
DESCRIPTION:Get ready to glide into the holidays!  The Winterfest Simulated Ice Skating Rink is OPENING SOON at Pikeville City Park!Lace up those skates and make some magical memories with the whole family. Whether you’re a seasoned skater or trying it for the first time\, join us for some festive fun! Dates: November 29 – December 31  Location: Pikeville City ParkHours Opening Weekend:Saturday: 11 AM – 10 PMSunday: 2 PM – 6 PM Admission (includes skate rental!):Adults: $10/hrChildren 6 & Under: $6/hrPLUS! Look out for Carriage Rides and the Whitewater Shrine Mini-Train Rides on select dates!Come create your perfect winter moment in Pikeville! We can’t wait to see you there!
URL:https://visitpikeville.com/event/ice-skating-rink-3-2-2-2-2-2-2-2-2/
LOCATION:Pikeville City Park\, 101 Cumberland Ct\,\, Pikeville\, KY\, 41501
CATEGORIES:City of Pikeville,Pikeville Tourism
ATTACH;FMTTYPE=image/jpeg:https://visitpikeville.com/wp-content/uploads/2025/11/ice-skating.jpg
END:VEVENT
BEGIN:VEVENT
DTSTART;TZID=America/Kentucky/Louisville:20251220T110000
DTEND;TZID=America/Kentucky/Louisville:20251220T220000
DTSTAMP:20260423T121414
CREATED:20251124T142233Z
LAST-MODIFIED:20251124T142233Z
UID:71640-1766228400-1766268000@visitpikeville.com
SUMMARY:Ice Skating Rink
DESCRIPTION:Get ready to glide into the holidays!  The Winterfest Simulated Ice Skating Rink is OPENING SOON at Pikeville City Park!Lace up those skates and make some magical memories with the whole family. Whether you’re a seasoned skater or trying it for the first time\, join us for some festive fun! Dates: November 29 – December 31  Location: Pikeville City ParkHours Opening Weekend:Saturday: 11 AM – 10 PMSunday: 2 PM – 6 PM Admission (includes skate rental!):Adults: $10/hrChildren 6 & Under: $6/hrPLUS! Look out for Carriage Rides and the Whitewater Shrine Mini-Train Rides on select dates!Come create your perfect winter moment in Pikeville! We can’t wait to see you there!
URL:https://visitpikeville.com/event/ice-skating-rink-3-2-2-2-2-2-2-2-2-2/
LOCATION:Pikeville City Park\, 101 Cumberland Ct\,\, Pikeville\, KY\, 41501
CATEGORIES:City of Pikeville,Pikeville Tourism
ATTACH;FMTTYPE=image/jpeg:https://visitpikeville.com/wp-content/uploads/2025/11/ice-skating.jpg
END:VEVENT
BEGIN:VEVENT
DTSTART;TZID=America/Kentucky/Louisville:20251221T140000
DTEND;TZID=America/Kentucky/Louisville:20251221T180000
DTSTAMP:20260423T121414
CREATED:20251124T142326Z
LAST-MODIFIED:20251124T142326Z
UID:71642-1766325600-1766340000@visitpikeville.com
SUMMARY:Ice Skating Rink
DESCRIPTION:Get ready to glide into the holidays!  The Winterfest Simulated Ice Skating Rink is OPENING SOON at Pikeville City Park!Lace up those skates and make some magical memories with the whole family. Whether you’re a seasoned skater or trying it for the first time\, join us for some festive fun! Dates: November 29 – December 31  Location: Pikeville City ParkHours Opening Weekend:Saturday: 11 AM – 10 PMSunday: 2 PM – 6 PM Admission (includes skate rental!):Adults: $10/hrChildren 6 & Under: $6/hrPLUS! Look out for Carriage Rides and the Whitewater Shrine Mini-Train Rides on select dates!Come create your perfect winter moment in Pikeville! We can’t wait to see you there!
URL:https://visitpikeville.com/event/ice-skating-rink-3-2-2-2-2-2-2-2-2-2-2/
LOCATION:Pikeville City Park\, 101 Cumberland Ct\,\, Pikeville\, KY\, 41501
CATEGORIES:City of Pikeville,Pikeville Tourism
ATTACH;FMTTYPE=image/jpeg:https://visitpikeville.com/wp-content/uploads/2025/11/ice-skating.jpg
END:VEVENT
BEGIN:VEVENT
DTSTART;TZID=America/Kentucky/Louisville:20251222T180000
DTEND;TZID=America/Kentucky/Louisville:20251222T190000
DTSTAMP:20260423T121414
CREATED:20251203T182315Z
LAST-MODIFIED:20251203T182315Z
UID:71970-1766426400-1766430000@visitpikeville.com
SUMMARY:City Commission Meeting
DESCRIPTION:6pm @ City Hall
URL:https://visitpikeville.com/event/city-commission-meeting-2-2-2-2-2-2-2-2-2-2-2-2-2-2-2-2-2-2-2-2-2-2-2-2-2-2-2-2-2-2-2-2-2-2-2-2-2-2-2-2-2-2-2-2-2-2/
LOCATION:Pikeville City Hall\, 243 Main St #1786\,\, Pikeville\, KY\, 41501\, United States
CATEGORIES:City of Pikeville
ATTACH;FMTTYPE=image/png:https://visitpikeville.com/wp-content/uploads/2023/09/image001.png
END:VEVENT
BEGIN:VEVENT
DTSTART;TZID=America/Kentucky/Louisville:20251226T150000
DTEND;TZID=America/Kentucky/Louisville:20251226T220000
DTSTAMP:20260423T121414
CREATED:20251124T142428Z
LAST-MODIFIED:20251124T142428Z
UID:71644-1766761200-1766786400@visitpikeville.com
SUMMARY:Ice Skating Rink
DESCRIPTION:Get ready to glide into the holidays!  The Winterfest Simulated Ice Skating Rink is OPENING SOON at Pikeville City Park!Lace up those skates and make some magical memories with the whole family. Whether you’re a seasoned skater or trying it for the first time\, join us for some festive fun! Dates: November 29 – December 31  Location: Pikeville City ParkHours Opening Weekend:Saturday: 11 AM – 10 PMSunday: 2 PM – 6 PM Admission (includes skate rental!):Adults: $10/hrChildren 6 & Under: $6/hrPLUS! Look out for Carriage Rides and the Whitewater Shrine Mini-Train Rides on select dates!Come create your perfect winter moment in Pikeville! We can’t wait to see you there!
URL:https://visitpikeville.com/event/ice-skating-rink-3-2-2-2-2-2-2-2-2-2-2-2/
LOCATION:Pikeville City Park\, 101 Cumberland Ct\,\, Pikeville\, KY\, 41501
CATEGORIES:City of Pikeville,Pikeville Tourism
ATTACH;FMTTYPE=image/jpeg:https://visitpikeville.com/wp-content/uploads/2025/11/ice-skating.jpg
END:VEVENT
BEGIN:VEVENT
DTSTART;TZID=America/Kentucky/Louisville:20251227T110000
DTEND;TZID=America/Kentucky/Louisville:20251227T220000
DTSTAMP:20260423T121414
CREATED:20251124T142516Z
LAST-MODIFIED:20251124T142516Z
UID:71646-1766833200-1766872800@visitpikeville.com
SUMMARY:Ice Skating Rink
DESCRIPTION:Get ready to glide into the holidays!  The Winterfest Simulated Ice Skating Rink is OPENING SOON at Pikeville City Park!Lace up those skates and make some magical memories with the whole family. Whether you’re a seasoned skater or trying it for the first time\, join us for some festive fun! Dates: November 29 – December 31  Location: Pikeville City ParkHours Opening Weekend:Saturday: 11 AM – 10 PMSunday: 2 PM – 6 PM Admission (includes skate rental!):Adults: $10/hrChildren 6 & Under: $6/hrPLUS! Look out for Carriage Rides and the Whitewater Shrine Mini-Train Rides on select dates!Come create your perfect winter moment in Pikeville! We can’t wait to see you there!
URL:https://visitpikeville.com/event/ice-skating-rink-3-2-2-2-2-2-2-2-2-2-2-2-2/
LOCATION:Pikeville City Park\, 101 Cumberland Ct\,\, Pikeville\, KY\, 41501
CATEGORIES:City of Pikeville,Pikeville Tourism
ATTACH;FMTTYPE=image/jpeg:https://visitpikeville.com/wp-content/uploads/2025/11/ice-skating.jpg
END:VEVENT
BEGIN:VEVENT
DTSTART;TZID=America/Kentucky/Louisville:20251228T140000
DTEND;TZID=America/Kentucky/Louisville:20251228T180000
DTSTAMP:20260423T121414
CREATED:20251124T142609Z
LAST-MODIFIED:20251124T142609Z
UID:71648-1766930400-1766944800@visitpikeville.com
SUMMARY:Ice Skating Rink
DESCRIPTION:Get ready to glide into the holidays!  The Winterfest Simulated Ice Skating Rink is OPENING SOON at Pikeville City Park!Lace up those skates and make some magical memories with the whole family. Whether you’re a seasoned skater or trying it for the first time\, join us for some festive fun! Dates: November 29 – December 31  Location: Pikeville City ParkHours Opening Weekend:Saturday: 11 AM – 10 PMSunday: 2 PM – 6 PM Admission (includes skate rental!):Adults: $10/hrChildren 6 & Under: $6/hrPLUS! Look out for Carriage Rides and the Whitewater Shrine Mini-Train Rides on select dates!Come create your perfect winter moment in Pikeville! We can’t wait to see you there!
URL:https://visitpikeville.com/event/ice-skating-rink-3-2-2-2-2-2-2-2-2-2-2-2-2-2/
LOCATION:Pikeville City Park\, 101 Cumberland Ct\,\, Pikeville\, KY\, 41501
CATEGORIES:City of Pikeville,Pikeville Tourism
ATTACH;FMTTYPE=image/jpeg:https://visitpikeville.com/wp-content/uploads/2025/11/ice-skating.jpg
END:VEVENT
BEGIN:VEVENT
DTSTART;TZID=America/Kentucky/Louisville:20260112T180000
DTEND;TZID=America/Kentucky/Louisville:20260112T190000
DTSTAMP:20260423T121414
CREATED:20260106T184350Z
LAST-MODIFIED:20260106T184350Z
UID:72390-1768240800-1768244400@visitpikeville.com
SUMMARY:City Commission Meeting
DESCRIPTION:6pm @ City Hall
URL:https://visitpikeville.com/event/city-commission-meeting-2-2-2-2-2-2-2-2-2-2-2-2-2-2-2-2-2-2-2-2-2-2-2-2-2-2-2-2-2-2-2-2-2-2-2-2-2-2-2-2-2-2-2-2-2-2-2/
LOCATION:Pikeville City Hall\, 243 Main St #1786\,\, Pikeville\, KY\, 41501\, United States
CATEGORIES:City of Pikeville
ATTACH;FMTTYPE=image/png:https://visitpikeville.com/wp-content/uploads/2023/09/image001.png
END:VEVENT
BEGIN:VEVENT
DTSTART;TZID=America/Kentucky/Louisville:20260113T173000
DTEND;TZID=America/Kentucky/Louisville:20260113T193000
DTSTAMP:20260423T121414
CREATED:20260112T152105Z
LAST-MODIFIED:20260112T152105Z
UID:72412-1768325400-1768332600@visitpikeville.com
SUMMARY:Pike County Fiscal Court Meeting
DESCRIPTION:Special Called Meeting \n05:30pm @ Pike County Courthouse
URL:https://visitpikeville.com/event/pike-county-fiscal-court-meeting-2-2-2-2-2-2-2-2-3-2-2-2-2-2-2-2-2-2-2-2-2-2-2-2-2-2-2-2-2-2-2-2/
LOCATION:Courthouse\, 175 Main St.\, Pikeville\, KY\, 41501\, United States
CATEGORIES:City of Pikeville
ATTACH;FMTTYPE=image/png:https://visitpikeville.com/wp-content/uploads/2023/09/image001.png
END:VEVENT
BEGIN:VEVENT
DTSTART;TZID=America/Kentucky/Louisville:20260120T100000
DTEND;TZID=America/Kentucky/Louisville:20260120T120000
DTSTAMP:20260423T121414
CREATED:20260112T152729Z
LAST-MODIFIED:20260112T152729Z
UID:72417-1768903200-1768910400@visitpikeville.com
SUMMARY:Pike County Fiscal Court Meeting
DESCRIPTION:  \n10:00am @ Pike County Courthouse
URL:https://visitpikeville.com/event/pike-county-fiscal-court-meeting-2-2-2-2-2-2-2-2-3-2-2-2-2-2-2-2-2-2-2-2-2-2-2-2-2-2-2-2-2-2-2-3/
LOCATION:Pike County Clerk\, 146 Main St\,\, Pikeville\, 41501\, United States
CATEGORIES:City of Pikeville
ATTACH;FMTTYPE=image/png:https://visitpikeville.com/wp-content/uploads/2023/09/image001.png
END:VEVENT
BEGIN:VEVENT
DTSTART;TZID=America/Kentucky/Louisville:20260126T180000
DTEND;TZID=America/Kentucky/Louisville:20260126T190000
DTSTAMP:20260423T121414
CREATED:20260112T153440Z
LAST-MODIFIED:20260112T153440Z
UID:72422-1769450400-1769454000@visitpikeville.com
SUMMARY:City Commission Meeting
DESCRIPTION:6pm @ City Hall
URL:https://visitpikeville.com/event/city-commission-meeting-2-2-2-2-2-2-2-2-2-2-2-2-2-2-2-2-2-2-2-2-2-2-2-2-2-2-2-2-2-2-2-2-2-2-2-2-2-2-2-2-2-2-2-2-2-2-2-2/
LOCATION:Pikeville City Hall\, 243 Main St #1786\,\, Pikeville\, KY\, 41501\, United States
CATEGORIES:City of Pikeville
ATTACH;FMTTYPE=image/png:https://visitpikeville.com/wp-content/uploads/2023/09/image001.png
END:VEVENT
BEGIN:VEVENT
DTSTART;TZID=America/Kentucky/Louisville:20260209T180000
DTEND;TZID=America/Kentucky/Louisville:20260209T190000
DTSTAMP:20260423T121414
CREATED:20260209T160640Z
LAST-MODIFIED:20260209T160640Z
UID:72913-1770660000-1770663600@visitpikeville.com
SUMMARY:City Commission Meeting
DESCRIPTION:6pm @ City Hall
URL:https://visitpikeville.com/event/city-commission-meeting-2-2-2-2-2-2-2-2-2-2-2-2-2-2-2-2-2-2-2-2-2-2-2-2-2-2-2-2-2-2-2-2-2-2-2-2-2-2-2-2-2-2-2-2-2-2-2-2-2/
LOCATION:Pikeville City Hall\, 243 Main St #1786\,\, Pikeville\, KY\, 41501\, United States
CATEGORIES:City of Pikeville
ATTACH;FMTTYPE=image/png:https://visitpikeville.com/wp-content/uploads/2023/09/image001.png
END:VEVENT
BEGIN:VEVENT
DTSTART;TZID=America/Kentucky/Louisville:20260217T100000
DTEND;TZID=America/Kentucky/Louisville:20260217T120000
DTSTAMP:20260423T121414
CREATED:20260209T162645Z
LAST-MODIFIED:20260209T162645Z
UID:72926-1771322400-1771329600@visitpikeville.com
SUMMARY:Pike County Fiscal Court Meeting
DESCRIPTION:  \n10:00am @ Pike County Courthouse
URL:https://visitpikeville.com/event/pike-county-fiscal-court-meeting-2-2-2-2-2-2-2-2-3-2-2-2-2-2-2-2-2-2-2-2-2-2-2-2-2-2-2-2-2-2-2-3-2/
LOCATION:Pike County Clerk\, 146 Main St\,\, Pikeville\, 41501\, United States
CATEGORIES:City of Pikeville
ATTACH;FMTTYPE=image/png:https://visitpikeville.com/wp-content/uploads/2023/09/image001.png
END:VEVENT
BEGIN:VEVENT
DTSTART;TZID=America/Kentucky/Louisville:20260223T180000
DTEND;TZID=America/Kentucky/Louisville:20260223T190000
DTSTAMP:20260423T121414
CREATED:20260209T160736Z
LAST-MODIFIED:20260209T160736Z
UID:72915-1771869600-1771873200@visitpikeville.com
SUMMARY:City Commission Meeting
DESCRIPTION:6pm @ City Hall
URL:https://visitpikeville.com/event/city-commission-meeting-2-2-2-2-2-2-2-2-2-2-2-2-2-2-2-2-2-2-2-2-2-2-2-2-2-2-2-2-2-2-2-2-2-2-2-2-2-2-2-2-2-2-2-2-2-2-2-2-2-2/
LOCATION:Pikeville City Hall\, 243 Main St #1786\,\, Pikeville\, KY\, 41501\, United States
CATEGORIES:City of Pikeville
ATTACH;FMTTYPE=image/png:https://visitpikeville.com/wp-content/uploads/2023/09/image001.png
END:VEVENT
BEGIN:VEVENT
DTSTART;TZID=America/Kentucky/Louisville:20260309T180000
DTEND;TZID=America/Kentucky/Louisville:20260309T190000
DTSTAMP:20260423T121414
CREATED:20260309T133621Z
LAST-MODIFIED:20260309T133621Z
UID:73485-1773079200-1773082800@visitpikeville.com
SUMMARY:City Commission Meeting
DESCRIPTION:6pm @ City Hall
URL:https://visitpikeville.com/event/city-commission-meeting-2-2-2-2-2-2-2-2-2-2-2-2-2-2-2-2-2-2-2-2-2-2-2-2-2-2-2-2-2-2-2-2-2-2-2-2-2-2-2-2-2-2-2-2-2-2-2-2-2-2-2/
LOCATION:Pikeville City Hall\, 243 Main St #1786\,\, Pikeville\, KY\, 41501\, United States
CATEGORIES:City of Pikeville
ATTACH;FMTTYPE=image/png:https://visitpikeville.com/wp-content/uploads/2023/09/image001.png
END:VEVENT
BEGIN:VEVENT
DTSTART;TZID=America/Kentucky/Louisville:20260317T100000
DTEND;TZID=America/Kentucky/Louisville:20260317T120000
DTSTAMP:20260423T121414
CREATED:20260309T140303Z
LAST-MODIFIED:20260309T140303Z
UID:73501-1773741600-1773748800@visitpikeville.com
SUMMARY:Pike County Fiscal Court Meeting
DESCRIPTION:  \n10:00am @ Pike County Courthouse
URL:https://visitpikeville.com/event/pike-county-fiscal-court-meeting-2-2-2-2-2-2-2-2-3-2-2-2-2-2-2-2-2-2-2-2-2-2-2-2-2-2-2-2-2-2-2-3-2-2/
LOCATION:Pike County Clerk\, 146 Main St\,\, Pikeville\, 41501\, United States
CATEGORIES:City of Pikeville
ATTACH;FMTTYPE=image/png:https://visitpikeville.com/wp-content/uploads/2023/09/image001.png
END:VEVENT
BEGIN:VEVENT
DTSTART;TZID=America/Kentucky/Louisville:20260323T180000
DTEND;TZID=America/Kentucky/Louisville:20260323T190000
DTSTAMP:20260423T121414
CREATED:20260309T141633Z
LAST-MODIFIED:20260309T141633Z
UID:73507-1774288800-1774292400@visitpikeville.com
SUMMARY:City Commission Meeting
DESCRIPTION:6pm @ City Hall
URL:https://visitpikeville.com/event/city-commission-meeting-2-2-2-2-2-2-2-2-2-2-2-2-2-2-2-2-2-2-2-2-2-2-2-2-2-2-2-2-2-2-2-2-2-2-2-2-2-2-2-2-2-2-2-2-2-2-2-2-2-2-2-2/
LOCATION:Pikeville City Hall\, 243 Main St #1786\,\, Pikeville\, KY\, 41501\, United States
CATEGORIES:City of Pikeville
ATTACH;FMTTYPE=image/png:https://visitpikeville.com/wp-content/uploads/2023/09/image001.png
END:VEVENT
BEGIN:VEVENT
DTSTART;TZID=America/Kentucky/Louisville:20260403T170000
DTEND;TZID=America/Kentucky/Louisville:20260403T190000
DTSTAMP:20260423T121414
CREATED:20260323T154538Z
LAST-MODIFIED:20260323T154538Z
UID:73768-1775235600-1775242800@visitpikeville.com
SUMMARY:Pictures with Sassy The Bunny
DESCRIPTION:Get ready to giggle\, Pikeville!  He’s fluffy\, he’s photogenic\, and yes\, he’s got a little bit of attitude!Grab the kids\, your friends\, and even your pets\, and come get SASSSY with the coolest bunny around. You won’t want to miss this free unique photo op with the big chair!  WHEN: Friday\, April 3\, 2026 from 5pm – 7pm WHERE: Pikeville City ParkStrike a pose and let’s see your best “sassy” face! See you at the park!
URL:https://visitpikeville.com/event/pictures-with-sassy-the-bunny/
LOCATION:Pikeville City Park\, 101 Cumberland Ct\,\, Pikeville\, KY\, 41501
CATEGORIES:City of Pikeville,Pikeville Main Street,Pikeville Tourism
ATTACH;FMTTYPE=image/jpeg:https://visitpikeville.com/wp-content/uploads/2026/03/sassy.jpg
END:VEVENT
BEGIN:VEVENT
DTSTART;TZID=America/Kentucky/Louisville:20260413T180000
DTEND;TZID=America/Kentucky/Louisville:20260413T190000
DTSTAMP:20260423T121414
CREATED:20260406T131757Z
LAST-MODIFIED:20260406T131757Z
UID:73881-1776103200-1776106800@visitpikeville.com
SUMMARY:City Commission Meeting
DESCRIPTION:6pm @ City Hall
URL:https://visitpikeville.com/event/city-commission-meeting-2-2-2-2-2-2-2-2-2-2-2-2-2-2-2-2-2-2-2-2-2-2-2-2-2-2-2-2-2-2-2-2-2-2-2-2-2-2-2-2-2-2-2-2-2-2-2-2-2-2-2-2-2/
LOCATION:Pikeville City Hall\, 243 Main St #1786\,\, Pikeville\, KY\, 41501\, United States
CATEGORIES:City of Pikeville
ATTACH;FMTTYPE=image/png:https://visitpikeville.com/wp-content/uploads/2023/09/image001.png
END:VEVENT
BEGIN:VEVENT
DTSTART;TZID=America/Kentucky/Louisville:20260421T100000
DTEND;TZID=America/Kentucky/Louisville:20260421T120000
DTSTAMP:20260423T121414
CREATED:20260406T132144Z
LAST-MODIFIED:20260406T132144Z
UID:73885-1776765600-1776772800@visitpikeville.com
SUMMARY:Pike County Fiscal Court Meeting
DESCRIPTION:  \n10:00am @ Pike County Courthouse
URL:https://visitpikeville.com/event/pike-county-fiscal-court-meeting-2-2-2-2-2-2-2-2-3-2-2-2-2-2-2-2-2-2-2-2-2-2-2-2-2-2-2-2-2-2-2-3-2-2-2/
LOCATION:Pike County Clerk\, 146 Main St\,\, Pikeville\, 41501\, United States
CATEGORIES:City of Pikeville
ATTACH;FMTTYPE=image/png:https://visitpikeville.com/wp-content/uploads/2023/09/image001.png
END:VEVENT
BEGIN:VEVENT
DTSTART;TZID=America/Kentucky/Louisville:20260426T150000
DTEND;TZID=America/Kentucky/Louisville:20260426T180000
DTSTAMP:20260423T121414
CREATED:20260406T141225Z
LAST-MODIFIED:20260406T141225Z
UID:73891-1777215600-1777226400@visitpikeville.com
SUMMARY:3rd Annual Celebration for Child Abuse Prevention Kids Day
DESCRIPTION:@City Park
URL:https://visitpikeville.com/event/3rd-annual-celebration-for-child-abuse-prevention-kids-day/
LOCATION:Pikeville City Park\, 101 Cumberland Ct\,\, Pikeville\, KY\, 41501
CATEGORIES:City of Pikeville
END:VEVENT
BEGIN:VEVENT
DTSTART;TZID=America/Kentucky/Louisville:20260427T180000
DTEND;TZID=America/Kentucky/Louisville:20260427T190000
DTSTAMP:20260423T121414
CREATED:20260406T131937Z
LAST-MODIFIED:20260406T131937Z
UID:73883-1777312800-1777316400@visitpikeville.com
SUMMARY:City Commission Meeting
DESCRIPTION:6pm @ City Hall
URL:https://visitpikeville.com/event/city-commission-meeting-2-2-2-2-2-2-2-2-2-2-2-2-2-2-2-2-2-2-2-2-2-2-2-2-2-2-2-2-2-2-2-2-2-2-2-2-2-2-2-2-2-2-2-2-2-2-2-2-2-2-2-2-2-2/
LOCATION:Pikeville City Hall\, 243 Main St #1786\,\, Pikeville\, KY\, 41501\, United States
CATEGORIES:City of Pikeville
ATTACH;FMTTYPE=image/png:https://visitpikeville.com/wp-content/uploads/2023/09/image001.png
END:VEVENT
END:VCALENDAR