BEGIN:VCALENDAR
VERSION:2.0
PRODID:-//Visit Pikeville - ECPv6.15.20//NONSGML v1.0//EN
CALSCALE:GREGORIAN
METHOD:PUBLISH
X-ORIGINAL-URL:https://visitpikeville.com
X-WR-CALDESC:Events for Visit Pikeville
REFRESH-INTERVAL;VALUE=DURATION:PT1H
X-Robots-Tag:noindex
X-PUBLISHED-TTL:PT1H
BEGIN:VTIMEZONE
TZID:America/Kentucky/Louisville
BEGIN:DAYLIGHT
TZOFFSETFROM:-0500
TZOFFSETTO:-0400
TZNAME:EDT
DTSTART:20240310T070000
END:DAYLIGHT
BEGIN:STANDARD
TZOFFSETFROM:-0400
TZOFFSETTO:-0500
TZNAME:EST
DTSTART:20241103T060000
END:STANDARD
BEGIN:DAYLIGHT
TZOFFSETFROM:-0500
TZOFFSETTO:-0400
TZNAME:EDT
DTSTART:20250309T070000
END:DAYLIGHT
BEGIN:STANDARD
TZOFFSETFROM:-0400
TZOFFSETTO:-0500
TZNAME:EST
DTSTART:20251102T060000
END:STANDARD
BEGIN:DAYLIGHT
TZOFFSETFROM:-0500
TZOFFSETTO:-0400
TZNAME:EDT
DTSTART:20260308T070000
END:DAYLIGHT
BEGIN:STANDARD
TZOFFSETFROM:-0400
TZOFFSETTO:-0500
TZNAME:EST
DTSTART:20261101T060000
END:STANDARD
END:VTIMEZONE
BEGIN:VEVENT
DTSTART;TZID=America/Kentucky/Louisville:20250922T080000
DTEND;TZID=America/Kentucky/Louisville:20251010T170000
DTSTAMP:20260422T095215
CREATED:20250922T131410Z
LAST-MODIFIED:20250922T131410Z
UID:68731-1758528000-1760115600@visitpikeville.com
SUMMARY:Apply for a Banner to Honor your Hometown Hero
DESCRIPTION: Veterans Day Hometown HERO Banners We’re honored to celebrate our local heroes again this year! We will be accepting only the first 75 applicants who submit a completed form along with a photo of their Veteran. Submit early to ensure your hero is featured! Application form is attached — don’t wait!PLEASE NOTE: Once the banners are taken down after Veterans Day\, you will need to pick yours up. We won’t be able to deliver them. Sadly\, we still have several from the past two years that were never picked up.Let’s come together to recognize the brave men and women who’ve served our country. 
URL:https://visitpikeville.com/event/apply-for-a-banner-to-honor-your-hometown-hero-2/
LOCATION:Pikeville-Pike County Tourism Welcome Center\, 685 Hambley Blvd\, KY\, 41501\, United States
CATEGORIES:City of Pikeville,Pikeville Tourism
ATTACH;FMTTYPE=image/jpeg:https://visitpikeville.com/wp-content/uploads/2025/09/BANNER.jpg
END:VEVENT
BEGIN:VEVENT
DTSTART;TZID=America/Kentucky/Louisville:20251007T170000
DTEND;TZID=America/Kentucky/Louisville:20251007T180000
DTSTAMP:20260422T095215
CREATED:20250922T132304Z
LAST-MODIFIED:20250922T132304Z
UID:68735-1759856400-1759860000@visitpikeville.com
SUMMARY:Zombies at the Story Trail
DESCRIPTION:Attention zombies! Shuffle your way to the Story Trail to read “Peanut Butter and Brains” by Joe McGee and Charles Santoso. Stay and make creepy-cute Zombie Mobiles—the ghoulishly good craft that lets you decorate and assemble your very own dangling zombies to scare (or delight!) all your friends. Costumes encouraged!\nThis program will be held Tuesday\, October 7th at 5:00 at the Story Trail. No registration required.\nWhat is the Story Trail? The Story Trail is a quarter mile\, handicapped accessible trail located at Bob Amos Park between the Overlook Events Center and Muddy Boots horse stable. Along the trail are posts that contain pages of a story book that change regularly\, so families can read a story as they walk the trail.\nWhere is the Story Trail? To best find the Story Trail\, enter the Overlook Events Center into your GPS (891 Bob Amos Dr Pikeville\, KY). The trail is on the road to the Events Center\, just before you come to their parking lot. Look for our sign on the right!
URL:https://visitpikeville.com/event/zombies-at-the-story-trail/
LOCATION:The Story Trail\, 424 Bob Amos Dr\,\, Pikeville\, KY\, 41501\, United States
CATEGORIES:City of Pikeville,Pike County Public Library
ATTACH;FMTTYPE=image/jpeg:https://visitpikeville.com/wp-content/uploads/2025/09/zombies.jpg
END:VEVENT
BEGIN:VEVENT
DTSTART;TZID=America/Kentucky/Louisville:20251007T170000
DTEND;TZID=America/Kentucky/Louisville:20251007T183000
DTSTAMP:20260422T095215
CREATED:20251006T122422Z
LAST-MODIFIED:20251006T122422Z
UID:69290-1759856400-1759861800@visitpikeville.com
SUMMARY:Pike County Fiscal Court Meeting
DESCRIPTION:  \n5:30pm @ Old Courthouse
URL:https://visitpikeville.com/event/pike-county-fiscal-court-meeting-2-2-2-2-2-2-2-2-3-2-2-2-2-2-2-2-2-2-2-2-2-2-2-2-2-2-2-2/
LOCATION:Pike County Clerk\, 146 Main St\,\, Pikeville\, 41501\, United States
CATEGORIES:City of Pikeville
ATTACH;FMTTYPE=image/png:https://visitpikeville.com/wp-content/uploads/2023/09/image001.png
END:VEVENT
BEGIN:VEVENT
DTSTART;TZID=America/Kentucky/Louisville:20251013T180000
DTEND;TZID=America/Kentucky/Louisville:20251013T190000
DTSTAMP:20260422T095215
CREATED:20251006T133336Z
LAST-MODIFIED:20251006T133336Z
UID:69359-1760378400-1760382000@visitpikeville.com
SUMMARY:City Commission Meeting
DESCRIPTION:6pm @ City Hall
URL:https://visitpikeville.com/event/city-commission-meeting-2-2-2-2-2-2-2-2-2-2-2-2-2-2-2-2-2-2-2-2-2-2-2-2-2-2-2-2-2-2-2-2-2-2-2-2-2-2-2-2-2/
LOCATION:Pikeville City Hall\, 243 Main St #1786\,\, Pikeville\, KY\, 41501\, United States
CATEGORIES:City of Pikeville
ATTACH;FMTTYPE=image/png:https://visitpikeville.com/wp-content/uploads/2023/09/image001.png
END:VEVENT
BEGIN:VEVENT
DTSTART;VALUE=DATE:20251017
DTEND;VALUE=DATE:20251019
DTSTAMP:20260422T095215
CREATED:20250915T123258Z
LAST-MODIFIED:20250915T123258Z
UID:68444-1760659200-1760831999@visitpikeville.com
SUMMARY:The Mountain Grrl Experience
DESCRIPTION:The Mountain Grrl Experience – October 17–18\, 2025 | Pikeville\, KY \n\n\nOne of Kentucky’s best intimate music festivals returns to downtown Pikeville this October—and admission is FREE!\n\n\nEnjoy two days of live performances from artists like Kelsey Waldon\, Coaltown Dixie\, Magnolia Boulevard\, Chelsea Nolan\, Carla Gover\, and many more. Explore workshops\, artisan vendors\, and a curated art gallery celebrating Appalachian creativity.\n\n\nThis year’s charitable partner is the Pikeville Domestic Violence Coalition\, with proceeds supporting vital services for women in need. Don’t miss the Front Porch Panel: The Power of the Appalachian Woman\, hosted at Booth Auditorium and sponsored by the University of Pikeville College of Arts & Sciences.\n\n\nCome celebrate Appalachian women\, music\, and community in the heart of Pikeville.  #mountaingrrl #pikevilleky #pikecountyky
URL:https://visitpikeville.com/event/the-mountain-grrl-experience-3/
LOCATION:Downtown Pikeville\, Pikeville\, Ky\, 41501
CATEGORIES:Appalachian Wireless Arena,City of Pikeville,UPike
ATTACH;FMTTYPE=image/jpeg:https://visitpikeville.com/wp-content/uploads/2025/09/Mountain-Grrl-2025-flyer-thumb.jpg
END:VEVENT
BEGIN:VEVENT
DTSTART;TZID=America/Kentucky/Louisville:20251021T100000
DTEND;TZID=America/Kentucky/Louisville:20251021T110000
DTSTAMP:20260422T095215
CREATED:20251006T122520Z
LAST-MODIFIED:20251006T122520Z
UID:69292-1761040800-1761044400@visitpikeville.com
SUMMARY:Pike County Fiscal Court Meeting
DESCRIPTION:  \n10:00am @ Old Courthouse
URL:https://visitpikeville.com/event/pike-county-fiscal-court-meeting-2-2-2-2-2-2-2-2-3-2-2-2-2-2-2-2-2-2-2-2-2-2-2-2-2-2-2-2-2/
LOCATION:Pike County Clerk\, 146 Main St\,\, Pikeville\, 41501\, United States
CATEGORIES:City of Pikeville
ATTACH;FMTTYPE=image/png:https://visitpikeville.com/wp-content/uploads/2023/09/image001.png
END:VEVENT
BEGIN:VEVENT
DTSTART;TZID=America/Kentucky/Louisville:20251025T180000
DTEND;TZID=America/Kentucky/Louisville:20251025T210000
DTSTAMP:20260422T095215
CREATED:20250929T140050Z
LAST-MODIFIED:20250929T140050Z
UID:69028-1761415200-1761426000@visitpikeville.com
SUMMARY:Nightmare on Main Street
DESCRIPTION:Calling all local businesses\, churches\, and community members!  We need YOUR help to bring the 15th Annual Nightmare on Main Street to life! The booths are the heartbeat of this incredible community event.\n*What can you do? Set up a booth to hand out candy\, showcase your organization\, and connect with thousands of local families. It’s a fantastic way to give back and have a blast.\n*Ready to make a difference? Sign up now: https://bit.ly/2025NightmareOnMain\n#VisitPikeville #NightmareOnMainStreet #CommunityPartners #PikevilleBusinesses #CommunityLove #SpookyFun
URL:https://visitpikeville.com/event/nightmare-on-main-street-2/
LOCATION:Main Street\, Main Street\, Pikeville\, KY\, 41501\, United States
CATEGORIES:City of Pikeville
ATTACH;FMTTYPE=image/jpeg:https://visitpikeville.com/wp-content/uploads/2025/09/nightmare.jpg
END:VEVENT
BEGIN:VEVENT
DTSTART;TZID=America/Kentucky/Louisville:20251027T180000
DTEND;TZID=America/Kentucky/Louisville:20251027T190000
DTSTAMP:20260422T095215
CREATED:20251006T133519Z
LAST-MODIFIED:20251006T133519Z
UID:69361-1761588000-1761591600@visitpikeville.com
SUMMARY:City Commission Meeting
DESCRIPTION:6pm @ City Hall
URL:https://visitpikeville.com/event/city-commission-meeting-2-2-2-2-2-2-2-2-2-2-2-2-2-2-2-2-2-2-2-2-2-2-2-2-2-2-2-2-2-2-2-2-2-2-2-2-2-2-2-2-2-2/
LOCATION:Pikeville City Hall\, 243 Main St #1786\,\, Pikeville\, KY\, 41501\, United States
CATEGORIES:City of Pikeville
ATTACH;FMTTYPE=image/png:https://visitpikeville.com/wp-content/uploads/2023/09/image001.png
END:VEVENT
BEGIN:VEVENT
DTSTART;TZID=America/Kentucky/Louisville:20251028T110000
DTEND;TZID=America/Kentucky/Louisville:20251028T130000
DTSTAMP:20260422T095215
CREATED:20251006T140537Z
LAST-MODIFIED:20251006T140537Z
UID:69384-1761649200-1761656400@visitpikeville.com
SUMMARY:First Responders Day!
DESCRIPTION:October 28th is National First Responders Day!  Help us celebrate our First Responders for their outstanding service and dedication and for all they do! “Greater love hath no man than this\, that a man lay down his life for his friends” (John 15:13)So from now to Oct 28th please continue to join us in celebrating our First Responders by sending cards\, and letters of Appreciations! Let us hear your story about your favorite hero or heroes and why? Share a pic\, and submit a drawing! We would love to hear & see them all! We will pick one contestant to Win $100 and announce it here! Deadline is Oct 27th at 6pm. First Responders Departments:Pikeville Police DepartmentPikeville Fire Department & EMS\, Station 1Coal Run Village\, Kentucky Police DepartmentCoal Run Village Fire DepartmentCity of Elkhorn Police DepartmentElkhorn City Fire DepartmentPike County Sheriff’s Office-KYPike County Firefighters AssociationIsland Creek Volunteer Fire DepartmentKy Department of fish and wildlife HQFishtrap Lake\, US Army Corps of EngineersUS Armed ForcesVFW Post 3769 Pikeville KyFadi Al Akhrass PMCPike County Health DepartmentThank you to all our Sponsors for making this possible City of PikevilleExecutive Judge Ray JonesPike County Tourism CVBFadi Al AkhrassUnisign CorporationWalmart Pikeville SupercenterTD’s Sporting GoodsAppalachian WirelessCommunity Trust BankPikeville Community KitchenFaithLife MarketPike County LibraryDomino’s If you would like to help sponsor this event\, please PM us or comment below to let us know.Email us at: firstrespondersdaypikevilleky@gmail.comCall: 606-234-9467You can also make your donation at Pikeville City Police or Community Trust BankAll proceeds go to the “Christmas with a First Responder” “Christmas with a First Responder” is a part of our community outreach programs\, providing Christmas presents\, food boxes\, clothes\, and other items to children throughout the area!For more information contact the Pikeville Police Department at\, (606) 437-5111.*In the event of inclement weather conditions that day\, the Appreciation Ceremony will be moved inside.
URL:https://visitpikeville.com/event/first-responders-day-2/
LOCATION:Pikeville City Park\, 101 Cumberland Ct\,\, Pikeville\, KY\, 41501
CATEGORIES:City of Pikeville
ATTACH;FMTTYPE=image/jpeg:https://visitpikeville.com/wp-content/uploads/2025/10/first-responders.jpg
END:VEVENT
END:VCALENDAR