BEGIN:VCALENDAR
VERSION:2.0
PRODID:-//Visit Pikeville - ECPv6.15.20//NONSGML v1.0//EN
CALSCALE:GREGORIAN
METHOD:PUBLISH
X-ORIGINAL-URL:https://visitpikeville.com
X-WR-CALDESC:Events for Visit Pikeville
REFRESH-INTERVAL;VALUE=DURATION:PT1H
X-Robots-Tag:noindex
X-PUBLISHED-TTL:PT1H
BEGIN:VTIMEZONE
TZID:America/Kentucky/Louisville
BEGIN:DAYLIGHT
TZOFFSETFROM:-0500
TZOFFSETTO:-0400
TZNAME:EDT
DTSTART:20250309T070000
END:DAYLIGHT
BEGIN:STANDARD
TZOFFSETFROM:-0400
TZOFFSETTO:-0500
TZNAME:EST
DTSTART:20251102T060000
END:STANDARD
BEGIN:DAYLIGHT
TZOFFSETFROM:-0500
TZOFFSETTO:-0400
TZNAME:EDT
DTSTART:20260308T070000
END:DAYLIGHT
BEGIN:STANDARD
TZOFFSETFROM:-0400
TZOFFSETTO:-0500
TZNAME:EST
DTSTART:20261101T060000
END:STANDARD
BEGIN:DAYLIGHT
TZOFFSETFROM:-0500
TZOFFSETTO:-0400
TZNAME:EDT
DTSTART:20270314T070000
END:DAYLIGHT
BEGIN:STANDARD
TZOFFSETFROM:-0400
TZOFFSETTO:-0500
TZNAME:EST
DTSTART:20271107T060000
END:STANDARD
END:VTIMEZONE
BEGIN:VEVENT
DTSTART;TZID=America/Kentucky/Louisville:20260404T090000
DTEND;TZID=America/Kentucky/Louisville:20260404T160000
DTSTAMP:20260421T165850
CREATED:20260203T152156Z
LAST-MODIFIED:20260203T152156Z
UID:72839-1775293200-1775318400@visitpikeville.com
SUMMARY:Country Roads Card & Trade Show
DESCRIPTION:We are back! April 4th\, 2026 at the Appalachian Wireless Arena with over 200+ tables available with\nSports Cards\nMagic\nPokémon\nDisney\nOne Piece and much more!!\n\n\nHit the like and share button and let’s keep the momentum and excitement rolling for another banging good time!\n\n\nStay turned for some cool announcements\, we will be posting up the vendor sign up code today also! Remember\, first come first serve\, we were completely full last time and tables went fast!
URL:https://visitpikeville.com/event/country-roads-card-trade-show-3/
LOCATION:Appalachian Wireless Arena\, 126 Main Street\, Pikeville\, Ky\, 41501
CATEGORIES:Appalachian Wireless Arena
ATTACH;FMTTYPE=image/jpeg:https://visitpikeville.com/wp-content/uploads/2026/02/card-show.jpg
END:VEVENT
END:VCALENDAR