BEGIN:VCALENDAR
VERSION:2.0
PRODID:-//Visit Pikeville - ECPv6.15.20//NONSGML v1.0//EN
CALSCALE:GREGORIAN
METHOD:PUBLISH
X-ORIGINAL-URL:https://visitpikeville.com
X-WR-CALDESC:Events for Visit Pikeville
REFRESH-INTERVAL;VALUE=DURATION:PT1H
X-Robots-Tag:noindex
X-PUBLISHED-TTL:PT1H
BEGIN:VTIMEZONE
TZID:America/Kentucky/Louisville
BEGIN:DAYLIGHT
TZOFFSETFROM:-0500
TZOFFSETTO:-0400
TZNAME:EDT
DTSTART:20240310T070000
END:DAYLIGHT
BEGIN:STANDARD
TZOFFSETFROM:-0400
TZOFFSETTO:-0500
TZNAME:EST
DTSTART:20241103T060000
END:STANDARD
BEGIN:DAYLIGHT
TZOFFSETFROM:-0500
TZOFFSETTO:-0400
TZNAME:EDT
DTSTART:20250309T070000
END:DAYLIGHT
BEGIN:STANDARD
TZOFFSETFROM:-0400
TZOFFSETTO:-0500
TZNAME:EST
DTSTART:20251102T060000
END:STANDARD
BEGIN:DAYLIGHT
TZOFFSETFROM:-0500
TZOFFSETTO:-0400
TZNAME:EDT
DTSTART:20260308T070000
END:DAYLIGHT
BEGIN:STANDARD
TZOFFSETFROM:-0400
TZOFFSETTO:-0500
TZNAME:EST
DTSTART:20261101T060000
END:STANDARD
END:VTIMEZONE
BEGIN:VEVENT
DTSTART;TZID=America/Kentucky/Louisville:20251002T193000
DTEND;TZID=America/Kentucky/Louisville:20251002T223000
DTSTAMP:20260422T065013
CREATED:20250630T121115Z
LAST-MODIFIED:20250630T121115Z
UID:65307-1759433400-1759444200@visitpikeville.com
SUMMARY:The Red Clay Strays
DESCRIPTION:On sale NOW!Pikeville! Don’t miss The Red Clay Strays LIVE at The Appalachian Wireless Arena on Oct 2nd at 7:30pm! Tickets are $52.50\, $72.50\, $82.50\, $102.50\, $132.50#HBYCOhttps://www.ticketmaster.com/the…/event/160062BE08948AA2
URL:https://visitpikeville.com/event/the-red-clay-strays/
LOCATION:Appalachian Wireless Arena\, 126 Main Street\, Pikeville\, Ky\, 41501
CATEGORIES:Appalachian Wireless Arena
ATTACH;FMTTYPE=image/jpeg:https://visitpikeville.com/wp-content/uploads/2025/06/strays.jpg
END:VEVENT
BEGIN:VEVENT
DTSTART;TZID=America/Kentucky/Louisville:20251009T190000
DTEND;TZID=America/Kentucky/Louisville:20251009T220000
DTSTAMP:20260422T065013
CREATED:20250519T132304Z
LAST-MODIFIED:20250519T132304Z
UID:64647-1760036400-1760047200@visitpikeville.com
SUMMARY:The Turnpike Troubadours
DESCRIPTION:The Turnpike Troubadours’ Wild America Tour is coming to Pikeville\, Ky on October 9th with Dawes and Rattlesnake Milk! Tickets on sale now!\nhttps://www.ticketmaster.com/event/160062A9971C1A25
URL:https://visitpikeville.com/event/the-turnpike-troubadours/
LOCATION:Appalachian Wireless Arena\, 126 Main Street\, Pikeville\, Ky\, 41501
CATEGORIES:Appalachian Wireless Arena
ATTACH;FMTTYPE=image/jpeg:https://visitpikeville.com/wp-content/uploads/2025/05/wild-america.jpg
END:VEVENT
BEGIN:VEVENT
DTSTART;TZID=America/Kentucky/Louisville:20251011T190000
DTEND;TZID=America/Kentucky/Louisville:20251011T220000
DTSTAMP:20260422T065013
CREATED:20250602T124120Z
LAST-MODIFIED:20250616T120003Z
UID:64838-1760209200-1760220000@visitpikeville.com
SUMMARY:(CANCELLED) Upchurch & the Dixielanders: The Civil Tour
DESCRIPTION:TICKETS ON SALE NOW! \nUpchurch and thedixielanders are bringing The Civil Tour to Pikeville\, Ky on October 11th!\n Tickets are officially on-sale — get yours NOW before they’re gone!\nThis is your shot to see one of the wildest shows of the year.\nLet’s raise some hell and get rowdy! \n#TheCivilTour #Upchurch #Dixielanders
URL:https://visitpikeville.com/event/upchurch-the-dixielanders-the-civil-tour/
LOCATION:Appalachian Wireless Arena\, 126 Main Street\, Pikeville\, Ky\, 41501
CATEGORIES:Appalachian Wireless Arena
ATTACH;FMTTYPE=image/jpeg:https://visitpikeville.com/wp-content/uploads/2025/06/upchurch.jpg
END:VEVENT
BEGIN:VEVENT
DTSTART;VALUE=DATE:20251017
DTEND;VALUE=DATE:20251019
DTSTAMP:20260422T065013
CREATED:20250915T123258Z
LAST-MODIFIED:20250915T123258Z
UID:68444-1760659200-1760831999@visitpikeville.com
SUMMARY:The Mountain Grrl Experience
DESCRIPTION:The Mountain Grrl Experience – October 17–18\, 2025 | Pikeville\, KY \n\n\nOne of Kentucky’s best intimate music festivals returns to downtown Pikeville this October—and admission is FREE!\n\n\nEnjoy two days of live performances from artists like Kelsey Waldon\, Coaltown Dixie\, Magnolia Boulevard\, Chelsea Nolan\, Carla Gover\, and many more. Explore workshops\, artisan vendors\, and a curated art gallery celebrating Appalachian creativity.\n\n\nThis year’s charitable partner is the Pikeville Domestic Violence Coalition\, with proceeds supporting vital services for women in need. Don’t miss the Front Porch Panel: The Power of the Appalachian Woman\, hosted at Booth Auditorium and sponsored by the University of Pikeville College of Arts & Sciences.\n\n\nCome celebrate Appalachian women\, music\, and community in the heart of Pikeville.  #mountaingrrl #pikevilleky #pikecountyky
URL:https://visitpikeville.com/event/the-mountain-grrl-experience-3/
LOCATION:Downtown Pikeville\, Pikeville\, Ky\, 41501
CATEGORIES:Appalachian Wireless Arena,City of Pikeville,UPike
ATTACH;FMTTYPE=image/jpeg:https://visitpikeville.com/wp-content/uploads/2025/09/Mountain-Grrl-2025-flyer-thumb.jpg
END:VEVENT
BEGIN:VEVENT
DTSTART;TZID=America/Kentucky/Louisville:20251017T200000
DTEND;TZID=America/Kentucky/Louisville:20251017T230000
DTSTAMP:20260422T065013
CREATED:20250714T140231Z
LAST-MODIFIED:20250714T140231Z
UID:65921-1760731200-1760742000@visitpikeville.com
SUMMARY:Gary Allan
DESCRIPTION:Sale Dates and Times:\nPublic Onsale : Fri\, 18 Jul 2025 at 10:00 AM\nArtist Presale : Mon\, 14 Jul 2025 at 10:00 AM\nRadio Presale : Wed\, 16 Jul 2025 at 10:00 AM\nVenue Presale : Thu\, 17 Jul 2025 at 10:00 AM
URL:https://visitpikeville.com/event/gary-allan-2/
LOCATION:Appalachian Wireless Arena\, 126 Main Street\, Pikeville\, Ky\, 41501
CATEGORIES:Appalachian Wireless Arena
ATTACH;FMTTYPE=image/jpeg:https://visitpikeville.com/wp-content/uploads/2025/07/gary-allan.jpg
END:VEVENT
BEGIN:VEVENT
DTSTART;TZID=America/Kentucky/Louisville:20251028T090000
DTEND;TZID=America/Kentucky/Louisville:20251028T110000
DTSTAMP:20260422T065013
CREATED:20251006T140018Z
LAST-MODIFIED:20251006T140018Z
UID:69381-1761642000-1761649200@visitpikeville.com
SUMMARY:Safe Kids Halloween 2025
DESCRIPTION:Safe Kids Halloween 2025 is right around the corner\, on Tuesday\, October 28th! We can wait to see all those amazing costumes and smiling faces this year. Please check with your schools FMD director to see if your school is participating in this years event.We are currently looking for sponsors and volunteers to make this event possible. If you are a business would be interested in either of these opportunities please reach out to DeAnna Childers at (606) 433-9622 or deanna@pikevilleymca.org.
URL:https://visitpikeville.com/event/safe-kids-halloween-2025/
LOCATION:Appalachian Wireless Arena\, 126 Main Street\, Pikeville\, Ky\, 41501
CATEGORIES:Appalachian Wireless Arena
ATTACH;FMTTYPE=image/jpeg:https://visitpikeville.com/wp-content/uploads/2025/10/safe.jpg
END:VEVENT
BEGIN:VEVENT
DTSTART;TZID=America/Kentucky/Louisville:20251031T190000
DTEND;TZID=America/Kentucky/Louisville:20251031T230000
DTSTAMP:20260422T065013
CREATED:20251006T133200Z
LAST-MODIFIED:20251006T133200Z
UID:69356-1761937200-1761951600@visitpikeville.com
SUMMARY:Halloween Party with Wildfire!
DESCRIPTION:Get ready for a spooky good time as Wildfire lights up the stage at the Appalachian Wireless Arena Ballroom on Halloween Night! \n\n\n Date: Halloween Night\n Time: 7 PM – 11 PM\n Location: Appalachian Wireless Arena Ballroom
URL:https://visitpikeville.com/event/halloween-party-with-wildfire/
LOCATION:Appalachian Wireless Arena\, 126 Main Street\, Pikeville\, Ky\, 41501
CATEGORIES:Appalachian Wireless Arena
ATTACH;FMTTYPE=image/jpeg:https://visitpikeville.com/wp-content/uploads/2025/10/halloween-party.jpg
END:VEVENT
END:VCALENDAR