BEGIN:VCALENDAR
VERSION:2.0
PRODID:-//Visit Pikeville - ECPv6.15.20//NONSGML v1.0//EN
CALSCALE:GREGORIAN
METHOD:PUBLISH
X-WR-CALNAME:Visit Pikeville
X-ORIGINAL-URL:https://visitpikeville.com
X-WR-CALDESC:Events for Visit Pikeville
REFRESH-INTERVAL;VALUE=DURATION:PT1H
X-Robots-Tag:noindex
X-PUBLISHED-TTL:PT1H
BEGIN:VTIMEZONE
TZID:America/Kentucky/Louisville
BEGIN:DAYLIGHT
TZOFFSETFROM:-0500
TZOFFSETTO:-0400
TZNAME:EDT
DTSTART:20240310T070000
END:DAYLIGHT
BEGIN:STANDARD
TZOFFSETFROM:-0400
TZOFFSETTO:-0500
TZNAME:EST
DTSTART:20241103T060000
END:STANDARD
BEGIN:DAYLIGHT
TZOFFSETFROM:-0500
TZOFFSETTO:-0400
TZNAME:EDT
DTSTART:20250309T070000
END:DAYLIGHT
BEGIN:STANDARD
TZOFFSETFROM:-0400
TZOFFSETTO:-0500
TZNAME:EST
DTSTART:20251102T060000
END:STANDARD
BEGIN:DAYLIGHT
TZOFFSETFROM:-0500
TZOFFSETTO:-0400
TZNAME:EDT
DTSTART:20260308T070000
END:DAYLIGHT
BEGIN:STANDARD
TZOFFSETFROM:-0400
TZOFFSETTO:-0500
TZNAME:EST
DTSTART:20261101T060000
END:STANDARD
END:VTIMEZONE
BEGIN:VEVENT
DTSTART;TZID=America/Kentucky/Louisville:20250801T110000
DTEND;TZID=America/Kentucky/Louisville:20250801T220000
DTSTAMP:20260422T095929
CREATED:20250728T180311Z
LAST-MODIFIED:20250728T180311Z
UID:66417-1754046000-1754085600@visitpikeville.com
SUMMARY:Food Truck Friday
DESCRIPTION:Who’s hungry? Our Food Truck Friday is back on Friday\, August 1st\, kicking off the Convertibles at Sunset festivities! From 11 AM to 10 PM\, indulge in a delicious array of local flavors right here in Pikeville. Fuel up before you admire the cars and enjoy the music. It’s the perfect start to a perfect evening. Don’t miss out on the culinary delights! #VisitPikeville #FoodTruckFridayPikeville #PikevilleFood #LocalEats #ConvertiblesAtSunset #August1st
URL:https://visitpikeville.com/event/food-truck-friday-4/
LOCATION:Appalachian Wireless Arena\, 126 Main Street\, Pikeville\, Ky\, 41501
CATEGORIES:Appalachian Wireless Arena,Pikeville Tourism
ATTACH;FMTTYPE=image/jpeg:https://visitpikeville.com/wp-content/uploads/2025/07/food-truck.jpg
END:VEVENT
BEGIN:VEVENT
DTSTART;TZID=America/Kentucky/Louisville:20250809T100000
DTEND;TZID=America/Kentucky/Louisville:20250809T193000
DTSTAMP:20260422T095929
CREATED:20250527T120150Z
LAST-MODIFIED:20250527T120150Z
UID:64744-1754733600-1754767800@visitpikeville.com
SUMMARY:Country Roads Card & Trade Show
DESCRIPTION:Sports Trading CardsPokémonMagicAs always\, FREE ADMISSION!More big announcements coming soon!$85 per 8 foot table$150 for 2\, 8 foot tablesWe provide the tables!
URL:https://visitpikeville.com/event/country-roads-card-trade-show/
LOCATION:Appalachian Wireless Arena\, 126 Main Street\, Pikeville\, Ky\, 41501
CATEGORIES:Appalachian Wireless Arena
ATTACH;FMTTYPE=image/jpeg:https://visitpikeville.com/wp-content/uploads/2025/05/country-roads.jpg
END:VEVENT
BEGIN:VEVENT
DTSTART;TZID=America/Kentucky/Louisville:20250822T120000
DTEND;TZID=America/Kentucky/Louisville:20250822T170000
DTSTAMP:20260422T095929
CREATED:20250310T120624Z
LAST-MODIFIED:20250310T120624Z
UID:63348-1755864000-1755882000@visitpikeville.com
SUMMARY:Coal Country Tattoo Expo
DESCRIPTION:$25
URL:https://visitpikeville.com/event/coal-country-tattoo-expo/
LOCATION:Appalachian Wireless Arena\, 126 Main Street\, Pikeville\, Ky\, 41501
CATEGORIES:Appalachian Wireless Arena
ATTACH;FMTTYPE=image/jpeg:https://visitpikeville.com/wp-content/uploads/2025/03/coal-country.jpg
END:VEVENT
BEGIN:VEVENT
DTSTART;TZID=America/Kentucky/Louisville:20250823T100000
DTEND;TZID=America/Kentucky/Louisville:20250823T170000
DTSTAMP:20260422T095929
CREATED:20250310T120740Z
LAST-MODIFIED:20250310T120740Z
UID:63351-1755943200-1755968400@visitpikeville.com
SUMMARY:Coal Country Tattoo Expo
DESCRIPTION:$25
URL:https://visitpikeville.com/event/coal-country-tattoo-expo-2/
LOCATION:Appalachian Wireless Arena\, 126 Main Street\, Pikeville\, Ky\, 41501
CATEGORIES:Appalachian Wireless Arena
ATTACH;FMTTYPE=image/jpeg:https://visitpikeville.com/wp-content/uploads/2025/03/coal-country.jpg
END:VEVENT
BEGIN:VEVENT
DTSTART;TZID=America/Kentucky/Louisville:20250824T100000
DTEND;TZID=America/Kentucky/Louisville:20250824T170000
DTSTAMP:20260422T095929
CREATED:20250310T120832Z
LAST-MODIFIED:20250310T120832Z
UID:63353-1756029600-1756054800@visitpikeville.com
SUMMARY:Coal Country Tattoo Expo
DESCRIPTION:$25
URL:https://visitpikeville.com/event/coal-country-tattoo-expo-2-2/
LOCATION:Appalachian Wireless Arena\, 126 Main Street\, Pikeville\, Ky\, 41501
CATEGORIES:Appalachian Wireless Arena
ATTACH;FMTTYPE=image/jpeg:https://visitpikeville.com/wp-content/uploads/2025/03/coal-country.jpg
END:VEVENT
BEGIN:VEVENT
DTSTART;TZID=America/Kentucky/Louisville:20250830T200000
DTEND;TZID=America/Kentucky/Louisville:20250830T220000
DTSTAMP:20260422T095929
CREATED:20250609T130803Z
LAST-MODIFIED:20250609T130803Z
UID:65047-1756584000-1756591200@visitpikeville.com
SUMMARY:Gavin Adcock
DESCRIPTION:On sale now!\nGavin Adcock\nNeed to Tour\nWith support from\nBraxton Keith\n& Lanie Gardner\nSaturday\, August 30th\nPikeville\, Ky\nAppalachian Wireless Arena\nVisit The Community Trust Bank Box Office or Ticketmaster.com\nTickets are $42.50\, $47.50\, $57.50\, $67.50\, and $82.50\n\n\nhttps://www.ticketmaster.com/gavin…/event/160062BDA1E25881
URL:https://visitpikeville.com/event/gavin-adcock/
LOCATION:Appalachian Wireless Arena\, 126 Main Street\, Pikeville\, Ky\, 41501
CATEGORIES:Appalachian Wireless Arena
ATTACH;FMTTYPE=image/jpeg:https://visitpikeville.com/wp-content/uploads/2025/06/gavin.jpg
END:VEVENT
END:VCALENDAR