BEGIN:VCALENDAR
VERSION:2.0
PRODID:-//Visit Pikeville - ECPv6.15.20//NONSGML v1.0//EN
CALSCALE:GREGORIAN
METHOD:PUBLISH
X-ORIGINAL-URL:https://visitpikeville.com
X-WR-CALDESC:Events for Visit Pikeville
REFRESH-INTERVAL;VALUE=DURATION:PT1H
X-Robots-Tag:noindex
X-PUBLISHED-TTL:PT1H
BEGIN:VTIMEZONE
TZID:America/Kentucky/Louisville
BEGIN:DAYLIGHT
TZOFFSETFROM:-0500
TZOFFSETTO:-0400
TZNAME:EDT
DTSTART:20240310T070000
END:DAYLIGHT
BEGIN:STANDARD
TZOFFSETFROM:-0400
TZOFFSETTO:-0500
TZNAME:EST
DTSTART:20241103T060000
END:STANDARD
BEGIN:DAYLIGHT
TZOFFSETFROM:-0500
TZOFFSETTO:-0400
TZNAME:EDT
DTSTART:20250309T070000
END:DAYLIGHT
BEGIN:STANDARD
TZOFFSETFROM:-0400
TZOFFSETTO:-0500
TZNAME:EST
DTSTART:20251102T060000
END:STANDARD
BEGIN:DAYLIGHT
TZOFFSETFROM:-0500
TZOFFSETTO:-0400
TZNAME:EDT
DTSTART:20260308T070000
END:DAYLIGHT
BEGIN:STANDARD
TZOFFSETFROM:-0400
TZOFFSETTO:-0500
TZNAME:EST
DTSTART:20261101T060000
END:STANDARD
END:VTIMEZONE
BEGIN:VEVENT
DTSTART;TZID=America/Kentucky/Louisville:20250602T150000
DTEND;TZID=America/Kentucky/Louisville:20250602T190000
DTSTAMP:20260424T104703
CREATED:20250602T124312Z
LAST-MODIFIED:20250602T124312Z
UID:64841-1748876400-1748890800@visitpikeville.com
SUMMARY:Job Fair
DESCRIPTION:Monday\, June 2\n3pm-7pm\nPart-time positions available\nSecurity\, Operations\, Events\, and Food & Beverage\nLocation- Outside Huffman avenue\nCommunity Trust Bank Box Office across from big sandy college
URL:https://visitpikeville.com/event/job-fair-4/
LOCATION:Appalachian Wireless Arena\, 126 Main Street\, Pikeville\, Ky\, 41501
CATEGORIES:Appalachian Wireless Arena
ATTACH;FMTTYPE=image/jpeg:https://visitpikeville.com/wp-content/uploads/2025/06/hiring.jpg
END:VEVENT
BEGIN:VEVENT
DTSTART;TZID=America/Kentucky/Louisville:20250607T190000
DTEND;TZID=America/Kentucky/Louisville:20250607T220000
DTSTAMP:20260424T104703
CREATED:20250331T124554Z
LAST-MODIFIED:20250331T124554Z
UID:63667-1749322800-1749333600@visitpikeville.com
SUMMARY:Clay Walker
DESCRIPTION:Clay WalkerHillbilly Christmas in July ConcertJune 7\, 2025Tickets on sale Tuesday\, 4/1/25 at 10amVisit the Community Trust Bank Box Office or Ticketmaster.comTickets are $27\, $42.25\, $52.25 $62\,25https://www.ticketmaster.com/appalachian…/venue/180784
URL:https://visitpikeville.com/event/clay-walker/
LOCATION:Appalachian Wireless Arena\, 126 Main Street\, Pikeville\, Ky\, 41501
CATEGORIES:Appalachian Wireless Arena
ATTACH;FMTTYPE=image/jpeg:https://visitpikeville.com/wp-content/uploads/2025/03/clay-walker.jpg
END:VEVENT
BEGIN:VEVENT
DTSTART;TZID=America/Kentucky/Louisville:20250614T100000
DTEND;TZID=America/Kentucky/Louisville:20250614T180000
DTSTAMP:20260424T104703
CREATED:20240812T130045Z
LAST-MODIFIED:20250331T125139Z
UID:55079-1749895200-1749924000@visitpikeville.com
SUMMARY:Hollers and Heroes Con
DESCRIPTION:Save the dateJune 14th\, 2025Toys\, Cards\, Comics\, Sports\, Wrestling\, Cosplay\, and Pop CulturePlus\, Celebrity GuestsTime Warp AshlandDP Sports SolutionsDoc’s Dungeon of cards & collectibles
URL:https://visitpikeville.com/event/appalachian-ultra-con/
LOCATION:Appalachian Wireless Arena\, 126 Main Street\, Pikeville\, Ky\, 41501
CATEGORIES:Appalachian Wireless Arena
ATTACH;FMTTYPE=image/jpeg:https://visitpikeville.com/wp-content/uploads/2024/08/hollers.jpg
END:VEVENT
BEGIN:VEVENT
DTSTART;TZID=America/Kentucky/Louisville:20250619T180000
DTEND;TZID=America/Kentucky/Louisville:20250619T210000
DTSTAMP:20260424T104703
CREATED:20250224T191926Z
LAST-MODIFIED:20250519T131354Z
UID:63039-1750356000-1750366800@visitpikeville.com
SUMMARY:CoComelon (Event Canceled)
DESCRIPTION:CoComelon\nSING- A- LONG  LIVE\nJune 19\nAppalachian Wireless Arena\nPikeville\, KY\nTickets on sale Friday at the Community Trust Bank Box Office or Ticketmaster.com\nTickets are $29.50\, $35\, $45\, $49.50\, and $65\n#cocomelon
URL:https://visitpikeville.com/event/cocomelon/
LOCATION:Appalachian Wireless Arena\, 126 Main Street\, Pikeville\, Ky\, 41501
CATEGORIES:Appalachian Wireless Arena
ATTACH;FMTTYPE=image/jpeg:https://visitpikeville.com/wp-content/uploads/2025/02/cocomelon.jpg
END:VEVENT
END:VCALENDAR