BEGIN:VCALENDAR
VERSION:2.0
PRODID:-//Visit Pikeville - ECPv6.15.20//NONSGML v1.0//EN
CALSCALE:GREGORIAN
METHOD:PUBLISH
X-WR-CALNAME:Visit Pikeville
X-ORIGINAL-URL:https://visitpikeville.com
X-WR-CALDESC:Events for Visit Pikeville
REFRESH-INTERVAL;VALUE=DURATION:PT1H
X-Robots-Tag:noindex
X-PUBLISHED-TTL:PT1H
BEGIN:VTIMEZONE
TZID:America/Kentucky/Louisville
BEGIN:DAYLIGHT
TZOFFSETFROM:-0500
TZOFFSETTO:-0400
TZNAME:EDT
DTSTART:20240310T070000
END:DAYLIGHT
BEGIN:STANDARD
TZOFFSETFROM:-0400
TZOFFSETTO:-0500
TZNAME:EST
DTSTART:20241103T060000
END:STANDARD
BEGIN:DAYLIGHT
TZOFFSETFROM:-0500
TZOFFSETTO:-0400
TZNAME:EDT
DTSTART:20250309T070000
END:DAYLIGHT
BEGIN:STANDARD
TZOFFSETFROM:-0400
TZOFFSETTO:-0500
TZNAME:EST
DTSTART:20251102T060000
END:STANDARD
BEGIN:DAYLIGHT
TZOFFSETFROM:-0500
TZOFFSETTO:-0400
TZNAME:EDT
DTSTART:20260308T070000
END:DAYLIGHT
BEGIN:STANDARD
TZOFFSETFROM:-0400
TZOFFSETTO:-0500
TZNAME:EST
DTSTART:20261101T060000
END:STANDARD
END:VTIMEZONE
BEGIN:VEVENT
DTSTART;TZID=America/Kentucky/Louisville:20250502T180000
DTEND;TZID=America/Kentucky/Louisville:20250502T210000
DTSTAMP:20260424T121913
CREATED:20250210T132506Z
LAST-MODIFIED:20250210T132506Z
UID:62742-1746208800-1746219600@visitpikeville.com
SUMMARY:We Are Messengers- Live Concert!
DESCRIPTION:Sale Dates and Times:\nPublic Onsale : Fri\, 14 Jun 2024 at 10:00 AM\nPresale : Wed\, 12 Jun 2024 at 02:00 PM
URL:https://visitpikeville.com/event/we-are-messengers-live-concert/
LOCATION:Appalachian Wireless Arena\, 126 Main Street\, Pikeville\, Ky\, 41501
CATEGORIES:Appalachian Wireless Arena
ATTACH;FMTTYPE=image/jpeg:https://visitpikeville.com/wp-content/uploads/2025/02/wearemessengers.jpg
END:VEVENT
BEGIN:VEVENT
DTSTART;TZID=America/Kentucky/Louisville:20250515T193000
DTEND;TZID=America/Kentucky/Louisville:20250515T213000
DTSTAMP:20260424T121913
CREATED:20241118T153716Z
LAST-MODIFIED:20241118T153716Z
UID:59935-1747337400-1747344600@visitpikeville.com
SUMMARY:Zach Top
DESCRIPTION:Just AnnouncedCold beer and country music tour!!!Zach TopWith special guest Lauren WatkinsMay 15thAppalachian Wireless ArenaPikeville\, KYTickets on sale Friday\, November 22!Get your tickets at the community trust bank box office or Ticketmaster.com.Prices $39.75\, $49.75\, $59.75\, $75https://www.ticketmaster.com/appalachian…/venue/180784
URL:https://visitpikeville.com/event/zach-top/
LOCATION:Appalachian Wireless Arena\, 126 Main Street\, Pikeville\, Ky\, 41501
CATEGORIES:Appalachian Wireless Arena
ATTACH;FMTTYPE=image/jpeg:https://visitpikeville.com/wp-content/uploads/2024/11/zach-top.jpg
END:VEVENT
BEGIN:VEVENT
DTSTART;TZID=America/Kentucky/Louisville:20250523T190000
DTEND;TZID=America/Kentucky/Louisville:20250523T220000
DTSTAMP:20260424T121913
CREATED:20250203T135203Z
LAST-MODIFIED:20250203T135203Z
UID:62670-1748026800-1748037600@visitpikeville.com
SUMMARY:Brantley Gilbert
DESCRIPTION:The Tattoos Tour 2025\nSpecial guest coming soon\nFriday\, May 23\, 2025\nTickets go on sale Friday. Feb 7th at 10am\nVisit the Community Trust Bank Box Office or Ticketmaster.com.\nTickets are $42.50\, $49.50\, $59.50\, $75\, and $95\nhttps://www.ticketmaster.com/event/1600623D8FF61461
URL:https://visitpikeville.com/event/brantley-gilbert/
LOCATION:Appalachian Wireless Arena\, 126 Main Street\, Pikeville\, Ky\, 41501
CATEGORIES:Appalachian Wireless Arena
ATTACH;FMTTYPE=image/jpeg:https://visitpikeville.com/wp-content/uploads/2025/02/brantley-gilbert.jpg
END:VEVENT
END:VCALENDAR