BEGIN:VCALENDAR
VERSION:2.0
PRODID:-//Visit Pikeville - ECPv6.15.20//NONSGML v1.0//EN
CALSCALE:GREGORIAN
METHOD:PUBLISH
X-WR-CALNAME:Visit Pikeville
X-ORIGINAL-URL:https://visitpikeville.com
X-WR-CALDESC:Events for Visit Pikeville
REFRESH-INTERVAL;VALUE=DURATION:PT1H
X-Robots-Tag:noindex
X-PUBLISHED-TTL:PT1H
BEGIN:VTIMEZONE
TZID:America/Kentucky/Louisville
BEGIN:DAYLIGHT
TZOFFSETFROM:-0500
TZOFFSETTO:-0400
TZNAME:EDT
DTSTART:20250309T070000
END:DAYLIGHT
BEGIN:STANDARD
TZOFFSETFROM:-0400
TZOFFSETTO:-0500
TZNAME:EST
DTSTART:20251102T060000
END:STANDARD
BEGIN:DAYLIGHT
TZOFFSETFROM:-0500
TZOFFSETTO:-0400
TZNAME:EDT
DTSTART:20260308T070000
END:DAYLIGHT
BEGIN:STANDARD
TZOFFSETFROM:-0400
TZOFFSETTO:-0500
TZNAME:EST
DTSTART:20261101T060000
END:STANDARD
BEGIN:DAYLIGHT
TZOFFSETFROM:-0500
TZOFFSETTO:-0400
TZNAME:EDT
DTSTART:20270314T070000
END:DAYLIGHT
BEGIN:STANDARD
TZOFFSETFROM:-0400
TZOFFSETTO:-0500
TZNAME:EST
DTSTART:20271107T060000
END:STANDARD
END:VTIMEZONE
BEGIN:VEVENT
DTSTART;VALUE=DATE:20260706
DTEND;VALUE=DATE:20260725
DTSTAMP:20260421T163004
CREATED:20260413T152422Z
LAST-MODIFIED:20260413T152422Z
UID:73992-1783296000-1784937599@visitpikeville.com
SUMMARY:the Allegheny Civic Fellowship.
DESCRIPTION:The UPIKE Center for Public Service is now accepting applications for the Allegheny Civic Fellowship.\n\n\nThe program\, open to high school students\, will allow participants the opportunity to spend three weeks strengthening their academic writing and critical thinking skills through reading foundational texts and discussing democracy\, justice\, and America’s ideals. Led by Yale graduates and UPIKE faculty\, the program invites students to UPIKE’s campus for three weeks. Meals\, books\, and other costs are covered by the Fellowship at no charge for students.\n\n\nLearn more & apply at upike.edu/public-service/allegheny-civic-fellowship\n\n\n#SEKChamber #UPIKE #CivicEducation #civicengagement
URL:https://visitpikeville.com/event/the-allegheny-civic-fellowship/
LOCATION:University Of Pikeville\, 147 Sycamore St\,\, Pikeville\, KY\, 41501\, United States
CATEGORIES:Southeast Kentucky Chamber
ATTACH;FMTTYPE=image/jpeg:https://visitpikeville.com/wp-content/uploads/2026/04/civic.jpg
END:VEVENT
BEGIN:VEVENT
DTSTART;TZID=America/Kentucky/Louisville:20260718T150000
DTEND;TZID=America/Kentucky/Louisville:20260718T170000
DTSTAMP:20260421T163004
CREATED:20260203T142244Z
LAST-MODIFIED:20260203T142244Z
UID:72774-1784386800-1784394000@visitpikeville.com
SUMMARY:Madagascar Jr. 2
DESCRIPTION:July 17th\, 2026 | 7:30PM\nJuly 18th\, 2026 | 3:00PM\, 7:30PM \nBased on the smash DreamWorks animated motion picture\, Madagascar – A Musical Adventure JR. follows all of your favorite crack-a-lackin’ friends as they escape from their home in New York’s Central Park Zoo and find themselves on an unexpected journey to the madcap world of King Julien’s Madagascar. \nTickets: $18 Adults\, $13 Seniors\, $12 Kids
URL:https://visitpikeville.com/event/madagascar-jr-2-2/
LOCATION:Appalachian Center for the Arts\, 218 2nd St\,\, Pikeville\, Ky\, 41501
CATEGORIES:The Appalachian Center for the Arts
ATTACH;FMTTYPE=image/jpeg:https://visitpikeville.com/wp-content/uploads/2026/02/madagascar-2.jpg
END:VEVENT
BEGIN:VEVENT
DTSTART;TZID=America/Kentucky/Louisville:20260718T193000
DTEND;TZID=America/Kentucky/Louisville:20260718T213000
DTSTAMP:20260421T163004
CREATED:20260203T142312Z
LAST-MODIFIED:20260203T142312Z
UID:72776-1784403000-1784410200@visitpikeville.com
SUMMARY:Madagascar Jr. 2
DESCRIPTION:July 17th\, 2026 | 7:30PM\nJuly 18th\, 2026 | 3:00PM\, 7:30PM \nBased on the smash DreamWorks animated motion picture\, Madagascar – A Musical Adventure JR. follows all of your favorite crack-a-lackin’ friends as they escape from their home in New York’s Central Park Zoo and find themselves on an unexpected journey to the madcap world of King Julien’s Madagascar. \nTickets: $18 Adults\, $13 Seniors\, $12 Kids
URL:https://visitpikeville.com/event/madagascar-jr-2-2-2/
LOCATION:Appalachian Center for the Arts\, 218 2nd St\,\, Pikeville\, Ky\, 41501
CATEGORIES:The Appalachian Center for the Arts
ATTACH;FMTTYPE=image/jpeg:https://visitpikeville.com/wp-content/uploads/2026/02/madagascar-2.jpg
END:VEVENT
END:VCALENDAR