BEGIN:VCALENDAR
VERSION:2.0
PRODID:-//Visit Pikeville - ECPv6.15.20//NONSGML v1.0//EN
CALSCALE:GREGORIAN
METHOD:PUBLISH
X-WR-CALNAME:Visit Pikeville
X-ORIGINAL-URL:https://visitpikeville.com
X-WR-CALDESC:Events for Visit Pikeville
REFRESH-INTERVAL;VALUE=DURATION:PT1H
X-Robots-Tag:noindex
X-PUBLISHED-TTL:PT1H
BEGIN:VTIMEZONE
TZID:America/Kentucky/Louisville
BEGIN:DAYLIGHT
TZOFFSETFROM:-0500
TZOFFSETTO:-0400
TZNAME:EDT
DTSTART:20250309T070000
END:DAYLIGHT
BEGIN:STANDARD
TZOFFSETFROM:-0400
TZOFFSETTO:-0500
TZNAME:EST
DTSTART:20251102T060000
END:STANDARD
BEGIN:DAYLIGHT
TZOFFSETFROM:-0500
TZOFFSETTO:-0400
TZNAME:EDT
DTSTART:20260308T070000
END:DAYLIGHT
BEGIN:STANDARD
TZOFFSETFROM:-0400
TZOFFSETTO:-0500
TZNAME:EST
DTSTART:20261101T060000
END:STANDARD
BEGIN:DAYLIGHT
TZOFFSETFROM:-0500
TZOFFSETTO:-0400
TZNAME:EDT
DTSTART:20270314T070000
END:DAYLIGHT
BEGIN:STANDARD
TZOFFSETFROM:-0400
TZOFFSETTO:-0500
TZNAME:EST
DTSTART:20271107T060000
END:STANDARD
END:VTIMEZONE
BEGIN:VEVENT
DTSTART;TZID=America/Kentucky/Louisville:20260522T090000
DTEND;TZID=America/Kentucky/Louisville:20260605T150000
DTSTAMP:20260421T085441
CREATED:20260203T145952Z
LAST-MODIFIED:20260203T145952Z
UID:72816-1779440400-1780671600@visitpikeville.com
SUMMARY:Newsies Jr. Summer Camp
DESCRIPTION:May 22nd\, 26th – June 5th | $265\nWeekdays\, 9:00am – 3:00pm (excluding May 25th)\nPerformance: June 5th\, 2026 7:30PM and June 6th\, 2026 3:00PM & 7:30PM \nWhen powerful newspaper publishers raise prices at the newsboys’ expense\, the charismatic Jack Kelly rallies newsies from across the city to strike against the unfair conditions. Together\, the newsies learn that they are stronger united and create a movement to fight for what’s right. \nNote: Children must be present for every day of camp and all performances on June 5th and 6th.
URL:https://visitpikeville.com/event/newsies-jr-summer-camp/
LOCATION:Appalachian Center for the Arts\, 218 2nd St\,\, Pikeville\, Ky\, 41501
CATEGORIES:The Appalachian Center for the Arts
ATTACH;FMTTYPE=image/jpeg:https://visitpikeville.com/wp-content/uploads/2026/02/newsies-camp.jpg
END:VEVENT
BEGIN:VEVENT
DTSTART;TZID=America/Kentucky/Louisville:20260523T193000
DTEND;TZID=America/Kentucky/Louisville:20260523T220000
DTSTAMP:20260421T085441
CREATED:20251208T151027Z
LAST-MODIFIED:20251208T151027Z
UID:72016-1779564600-1779573600@visitpikeville.com
SUMMARY:Alison Krauss and Union Station
DESCRIPTION:Featuring Jerry Douglas\nwith Special Guest Theo Lawrence\nSat\, May 23rd 7:30pm\ntickets on sale Friday\, Dec 12th at 10am\nVisit the Community Trust Bank Box Office or Ticketmaster.com\nTickets Start at $79.50!\nhttps://www.ticketmaster.com/event/160063819A0755B9
URL:https://visitpikeville.com/event/alison-krauss-and-union-station/
LOCATION:Appalachian Wireless Arena\, 126 Main Street\, Pikeville\, Ky\, 41501
CATEGORIES:Appalachian Wireless Arena
ATTACH;FMTTYPE=image/jpeg:https://visitpikeville.com/wp-content/uploads/2025/12/alison.jpg
END:VEVENT
END:VCALENDAR