BEGIN:VCALENDAR
VERSION:2.0
PRODID:-//Visit Pikeville - ECPv6.15.20//NONSGML v1.0//EN
CALSCALE:GREGORIAN
METHOD:PUBLISH
X-ORIGINAL-URL:https://visitpikeville.com
X-WR-CALDESC:Events for Visit Pikeville
REFRESH-INTERVAL;VALUE=DURATION:PT1H
X-Robots-Tag:noindex
X-PUBLISHED-TTL:PT1H
BEGIN:VTIMEZONE
TZID:America/Kentucky/Louisville
BEGIN:DAYLIGHT
TZOFFSETFROM:-0500
TZOFFSETTO:-0400
TZNAME:EDT
DTSTART:20250309T070000
END:DAYLIGHT
BEGIN:STANDARD
TZOFFSETFROM:-0400
TZOFFSETTO:-0500
TZNAME:EST
DTSTART:20251102T060000
END:STANDARD
BEGIN:DAYLIGHT
TZOFFSETFROM:-0500
TZOFFSETTO:-0400
TZNAME:EDT
DTSTART:20260308T070000
END:DAYLIGHT
BEGIN:STANDARD
TZOFFSETFROM:-0400
TZOFFSETTO:-0500
TZNAME:EST
DTSTART:20261101T060000
END:STANDARD
BEGIN:DAYLIGHT
TZOFFSETFROM:-0500
TZOFFSETTO:-0400
TZNAME:EDT
DTSTART:20270314T070000
END:DAYLIGHT
BEGIN:STANDARD
TZOFFSETFROM:-0400
TZOFFSETTO:-0500
TZNAME:EST
DTSTART:20271107T060000
END:STANDARD
END:VTIMEZONE
BEGIN:VEVENT
DTSTART;VALUE=DATE:20260401
DTEND;VALUE=DATE:20260501
DTSTAMP:20260421T074610
CREATED:20260413T172518Z
LAST-MODIFIED:20260413T172518Z
UID:74065-1775001600-1777593599@visitpikeville.com
SUMMARY:Where the Sidewalk Ends
DESCRIPTION:This month at the Story Trail\, read selections from “Where the Sidewalk Ends\,” a celebrated 1974 children’s poetry collection written and illustrated by Shel Silverstein. It features whimsical\, imaginative poems and drawings\, including the title poem which describes a imaginative\, peaceful place away from the city\, and popular poems like “Sarah Cynthia Sylvia Stout Would Not Take the Garbage Out.”It will be posted all month long in celebration of National Poetry Month! Enjoy it at the Story Trail located at Bob Amos Park\, just below the Overlook Events Center. Look for our sign on the right at the head of the trail.
URL:https://visitpikeville.com/event/where-the-sidewalk-ends/
LOCATION:The Story Trail\, 424 Bob Amos Dr\,\, Pikeville\, KY\, 41501\, United States
CATEGORIES:Pike County Public Library
ATTACH;FMTTYPE=image/jpeg:https://visitpikeville.com/wp-content/uploads/2026/04/sidewalk.jpg
END:VEVENT
BEGIN:VEVENT
DTSTART;TZID=America/Kentucky/Louisville:20260415T180000
DTEND;TZID=America/Kentucky/Louisville:20260418T230000
DTSTAMP:20260421T074610
CREATED:20260413T141351Z
LAST-MODIFIED:20260413T141351Z
UID:73989-1776276000-1776553200@visitpikeville.com
SUMMARY:The Hillbilly Days Carnival
DESCRIPTION:Get your Unlimited Ride Armbands right now for a discount at https://bigrockamusements.com/events/39 April 15–18 OPENING NIGHT: Wednesday | 6PM–11PM FESTIVAL DAYS: Thursday–Saturday | 11AM–11PM Unlimited Ride Armbands:• Wednesday: $27 (the BEST value)• Thursday–Saturday: $32From the Ferris wheel views to your favorite fried foods\, this is what Hillbilly Days is all about  Tell us… what’s your MUST-DO at the carnival? Rides Food GamesTag your festival crew & start making those plans now!
URL:https://visitpikeville.com/event/the-hillbilly-days-carnival/
LOCATION:Riverfill Arena\, 214 S Riverfill Dr\,\, Pikeville\, Ky\, 41501
CATEGORIES:Southeast Kentucky Chamber
ATTACH;FMTTYPE=image/jpeg:https://visitpikeville.com/wp-content/uploads/2026/04/carnival.jpg
END:VEVENT
BEGIN:VEVENT
DTSTART;VALUE=DATE:20260416
DTEND;VALUE=DATE:20260419
DTSTAMP:20260421T074610
CREATED:20260302T122321Z
LAST-MODIFIED:20260302T122321Z
UID:73268-1776297600-1776556799@visitpikeville.com
SUMMARY:Hillbilly Days Quilt Show at The App
DESCRIPTION:THE APP IS NOW TAKING QUILT AND CROCHET PROJECT SUBMISSIONS FOR THE HILLBILLY DAYS QUILT SHOW!
URL:https://visitpikeville.com/event/hillbilly-days-quilt-show-at-the-app/
LOCATION:Appalachian Center for the Arts\, 218 2nd St\,\, Pikeville\, Ky\, 41501
CATEGORIES:The Appalachian Center for the Arts
ATTACH;FMTTYPE=image/webp:https://visitpikeville.com/wp-content/uploads/2026/03/quilt.webp
END:VEVENT
BEGIN:VEVENT
DTSTART;TZID=America/Kentucky/Louisville:20260416T110000
DTEND;TZID=America/Kentucky/Louisville:20260418T170000
DTSTAMP:20260421T074610
CREATED:20260323T151742Z
LAST-MODIFIED:20260323T151742Z
UID:73756-1776337200-1776531600@visitpikeville.com
SUMMARY:The Hillbilly Days 2026 Pike County Courthouse Stage Schedule
DESCRIPTION:The Hillbilly Days 2026 Pike County Courthouse Stage Schedule is now available! Hillbilly Days 2026 will be April 16\, 17 and 18 in Downtown Pikeville\, KY.
URL:https://visitpikeville.com/event/the-hillbilly-days-2026-pike-county-courthouse-stage-schedule/
LOCATION:Courthouse\, 175 Main St.\, Pikeville\, KY\, 41501\, United States
CATEGORIES:Other
ATTACH;FMTTYPE=image/jpeg:https://visitpikeville.com/wp-content/uploads/2026/03/courthouse-stage.jpg
END:VEVENT
BEGIN:VEVENT
DTSTART;TZID=America/Kentucky/Louisville:20260416T150000
DTEND;TZID=America/Kentucky/Louisville:20260418T170000
DTSTAMP:20260421T074610
CREATED:20260316T122423Z
LAST-MODIFIED:20260316T122423Z
UID:73575-1776351600-1776531600@visitpikeville.com
SUMMARY:Hillbilly Days Festival
DESCRIPTION:@Mountain Top Media Stage
URL:https://visitpikeville.com/event/hillbilly-days-festival/
LOCATION:Mountain Top Media Stage\, 126 Main St\,\, Pikeville\, KY\, 41501\, United States
CATEGORIES:Appalachian Wireless Arena,Mountain Top Media
ATTACH;FMTTYPE=image/jpeg:https://visitpikeville.com/wp-content/uploads/2026/03/hillbilly-days-festival.jpg
END:VEVENT
BEGIN:VEVENT
DTSTART;TZID=America/Kentucky/Louisville:20260417T130000
DTEND;TZID=America/Kentucky/Louisville:20260418T170000
DTSTAMP:20260421T074610
CREATED:20260413T153336Z
LAST-MODIFIED:20260413T153336Z
UID:73995-1776430800-1776531600@visitpikeville.com
SUMMARY:DINO ROAR
DESCRIPTION:Get ready\, Pikeville! Your favorite prehistoric adventure is BACK! The Dino Roar Tour is bringing life-size dinosaurs (including a T-Rex ) to Hillbilly Days for an unforgettable\, family-friendly experience you won’t want to miss!\n\n\n FREE\n Downtown Pikeville\, KY\n Friday\, April 17: Shows at 1 PM\, 4 PM & 6 PM\n Saturday\, April 18: Shows at 11 AM\, 1 PM & 4 PM\n\n\nStep back in time\, meet some incredible dinos\, and watch your kids’ faces light up!\n\n\n#HillbillyDays #DinoRoar #VisitPikeville #SEKChamber
URL:https://visitpikeville.com/event/dino-roar-2/
LOCATION:KY
CATEGORIES:Southeast Kentucky Chamber
ATTACH;FMTTYPE=image/jpeg:https://visitpikeville.com/wp-content/uploads/2026/04/dino.jpg
END:VEVENT
BEGIN:VEVENT
DTSTART;TZID=America/Kentucky/Louisville:20260418T110000
DTEND;TZID=America/Kentucky/Louisville:20260418T120000
DTSTAMP:20260421T074610
CREATED:20260413T165059Z
LAST-MODIFIED:20260413T165059Z
UID:74026-1776510000-1776513600@visitpikeville.com
SUMMARY:Story Time
DESCRIPTION:Story Time is for children ages 5 and under and features books\, action/movement\, songs\, and a craft. Story Time is held Thursdays at 11:00 and 2:00 and Saturdays at 11:00. \n\n\n\n\n\n\n  \nBesides being fun\, Story Time also helps develop early literacy and school readiness skills through reading\, singing\, listening\, playing\, and social interaction. This program lasts approximately 30 minutes\, and caregivers and children are encouraged to linger in the library afterwards to further socialize and choose books to take home. \n  \nStory Time begins the first week of September and ends the first week of May.
URL:https://visitpikeville.com/event/story-time-2-2-2-2-2-2-2-2-2-2-2-2-2-2-2-2-2-2-2-2-2-2-2-2-2-2-2-2-2-2-2-2-2-2-2-2-2-2-2-2-2-2-2-2-2-2-2-2-2-2-2-2-2-2-2-3-2-2-2-2-2-2-2-2-2-2-2-2-2-2-2-2-2-2-2-2-2-2-2-2-2-2-2-2-2-2-2-2-2-2-2-2-2-6-9/
LOCATION:Pike County Public Library\, 126 Lee Avenue\, Pikeville\, KY\, 41501\, United States
CATEGORIES:Pike County Public Library
ATTACH;FMTTYPE=image/png:https://visitpikeville.com/wp-content/uploads/2025/10/Story_Time_Schedule_25.png
END:VEVENT
BEGIN:VEVENT
DTSTART;TZID=America/Kentucky/Louisville:20260418T110000
DTEND;TZID=America/Kentucky/Louisville:20260418T130000
DTSTAMP:20260421T074610
CREATED:20260119T143940Z
LAST-MODIFIED:20260119T143940Z
UID:72584-1776510000-1776517200@visitpikeville.com
SUMMARY:Women's Tennis vs SCAD-Atlanta
DESCRIPTION:Game Day!
URL:https://visitpikeville.com/event/womens-tennis-vs-scad-atlanta/
LOCATION:Bob Amos Park\, 424 Bob Amos Dr\, Pikeville\, Ky\, 41501
CATEGORIES:UPike
ATTACH;FMTTYPE=image/png:https://visitpikeville.com/wp-content/uploads/2026/01/Screenshot-2026-01-19-at-9.28.21-AM.png
END:VEVENT
BEGIN:VEVENT
DTSTART;TZID=America/Kentucky/Louisville:20260418T110000
DTEND;TZID=America/Kentucky/Louisville:20260418T130000
DTSTAMP:20260421T074610
CREATED:20260119T144048Z
LAST-MODIFIED:20260119T144048Z
UID:72587-1776510000-1776517200@visitpikeville.com
SUMMARY:Men's Tennis vs SCAD-Atlanta
DESCRIPTION:Game Day!
URL:https://visitpikeville.com/event/mens-tennis-vs-scad-atlanta/
LOCATION:Bob Amos Park\, 424 Bob Amos Dr\, Pikeville\, Ky\, 41501
CATEGORIES:UPike
ATTACH;FMTTYPE=image/png:https://visitpikeville.com/wp-content/uploads/2026/01/Screenshot-2026-01-19-at-9.39.19-AM.png
END:VEVENT
BEGIN:VEVENT
DTSTART;TZID=America/Kentucky/Louisville:20260418T130000
DTEND;TZID=America/Kentucky/Louisville:20260418T150000
DTSTAMP:20260421T074610
CREATED:20260413T174329Z
LAST-MODIFIED:20260413T174329Z
UID:74090-1776517200-1776524400@visitpikeville.com
SUMMARY:FAMILY PAINT on SATURDAY
DESCRIPTION:Looking for something fun to do with the family in Pikeville\, Kentucky We’ve got you covered! \n\n\n Family Paint Class\n Saturday April 18th @ 1:00 PM\n Only $20 per painter\n 11×14 canvas\n\n\n Choose your favorite design\n A – Cute Alien & Cow\n B – Bright Bee & Flowers\n C – Teacher\n D – Silly Cow\n E – Softball & Flowers\n F – Sweet Black Kitty\n\n\n No experience necessary\n Perfect for kids & adults to paint together\n\n\n Private message to reserve your seats!
URL:https://visitpikeville.com/event/family-paint-on-saturday/
LOCATION:2 Broke Art Teachers\, 4505 Weddington Square\,\, Pikeville\, KY\, 41501\, United States
CATEGORIES:Other
ATTACH;FMTTYPE=image/jpeg:https://visitpikeville.com/wp-content/uploads/2026/04/FAM-PAINT.jpg
END:VEVENT
BEGIN:VEVENT
DTSTART;TZID=America/Kentucky/Louisville:20260418T140000
DTEND;TZID=America/Kentucky/Louisville:20260418T150000
DTSTAMP:20260421T074610
CREATED:20260413T165207Z
LAST-MODIFIED:20260413T165207Z
UID:74028-1776520800-1776524400@visitpikeville.com
SUMMARY:Story Time
DESCRIPTION:Story Time is for children ages 5 and under and features books\, action/movement\, songs\, and a craft. Story Time is held Thursdays at 11:00 and 2:00 and Saturdays at 11:00. \n\n\n\n\n\n\n  \nBesides being fun\, Story Time also helps develop early literacy and school readiness skills through reading\, singing\, listening\, playing\, and social interaction. This program lasts approximately 30 minutes\, and caregivers and children are encouraged to linger in the library afterwards to further socialize and choose books to take home. \n  \nStory Time begins the first week of September and ends the first week of May.
URL:https://visitpikeville.com/event/story-time-2-2-2-2-2-2-2-2-2-2-2-2-2-2-2-2-2-2-2-2-2-2-2-2-2-2-2-2-2-2-2-2-2-2-2-2-2-2-2-2-2-2-2-2-2-2-2-2-2-2-2-2-2-2-2-3-2-2-2-2-2-2-2-2-2-2-2-2-2-2-2-2-2-2-2-2-2-2-2-2-2-2-2-2-2-2-2-2-2-2-2-2-2-61/
LOCATION:Pike County Public Library\, 126 Lee Avenue\, Pikeville\, KY\, 41501\, United States
CATEGORIES:Pike County Public Library
ATTACH;FMTTYPE=image/png:https://visitpikeville.com/wp-content/uploads/2025/10/Story_Time_Schedule_25.png
END:VEVENT
BEGIN:VEVENT
DTSTART;TZID=America/Kentucky/Louisville:20260418T170000
DTEND;TZID=America/Kentucky/Louisville:20260418T190000
DTSTAMP:20260421T074610
CREATED:20260413T174151Z
LAST-MODIFIED:20260413T174151Z
UID:74086-1776531600-1776538800@visitpikeville.com
SUMMARY:RED BARN PAINT CLASS
DESCRIPTION:Y’all asked for more beginner-friendly classes… and this one is SO cute!! \n\n\nJoin us at 2 Broke Art Teachers in Pikeville\, KY for this step-by-step Red Barn painting—perfect for a fun night out\, date night\, or just some YOU time!\n\n\n Saturday\, April 18th\n 5:00 PM\n $25 per person\n\n\n No experience necessary\n All supplies included\n We guide you step-by-step\n\n\nGrab your friends\, your family\, or come solo and meet some new painting buddies!
URL:https://visitpikeville.com/event/red-barn-paint-class/
LOCATION:2 Broke Art Teachers\, 4505 Weddington Square\,\, Pikeville\, KY\, 41501\, United States
CATEGORIES:Other
ATTACH;FMTTYPE=image/jpeg:https://visitpikeville.com/wp-content/uploads/2026/04/RED-BARN.jpg
END:VEVENT
BEGIN:VEVENT
DTSTART;TZID=America/Kentucky/Louisville:20260418T200000
DTEND;TZID=America/Kentucky/Louisville:20260418T220000
DTSTAMP:20260421T074610
CREATED:20260302T160217Z
LAST-MODIFIED:20260302T160217Z
UID:73441-1776542400-1776549600@visitpikeville.com
SUMMARY:The Marshall Tucker Band
DESCRIPTION:Hillbilly Days 2026\nThe Marshall Tucker Band\nWhile I’m Young Tour\nSaturday\, April 18\, 2026\nTickets on sale this Friday\, March 6!\nTickets available at the Community Trust Bank Box Office or Ticketmaster.com\nTickets start at $35\nhttps://www.ticketmaster.com/event/16006459C778176B
URL:https://visitpikeville.com/event/the-marshall-tucker-band/
LOCATION:Appalachian Wireless Arena\, 126 Main Street\, Pikeville\, Ky\, 41501
CATEGORIES:Appalachian Wireless Arena
ATTACH;FMTTYPE=image/jpeg:https://visitpikeville.com/wp-content/uploads/2026/03/marshal-tucker.jpg
END:VEVENT
BEGIN:VEVENT
DTSTART;TZID=America/Kentucky/Louisville:20260418T200000
DTEND;TZID=America/Kentucky/Louisville:20260419T013000
DTSTAMP:20260421T074610
CREATED:20260406T181355Z
LAST-MODIFIED:20260406T181355Z
UID:73902-1776542400-1776562200@visitpikeville.com
SUMMARY:DJ Party Night
DESCRIPTION:Featuring DJ Mack
URL:https://visitpikeville.com/event/dj-party-night/
LOCATION:Bank 253\, 253 2nd St\,\, Pikeville\, KY\, 41501\, United States
CATEGORIES:Other
ATTACH;FMTTYPE=image/jpeg:https://visitpikeville.com/wp-content/uploads/2026/04/djmac.jpg
END:VEVENT
END:VCALENDAR