BEGIN:VCALENDAR
VERSION:2.0
PRODID:-//Visit Pikeville - ECPv6.15.20//NONSGML v1.0//EN
CALSCALE:GREGORIAN
METHOD:PUBLISH
X-WR-CALNAME:Visit Pikeville
X-ORIGINAL-URL:https://visitpikeville.com
X-WR-CALDESC:Events for Visit Pikeville
REFRESH-INTERVAL;VALUE=DURATION:PT1H
X-Robots-Tag:noindex
X-PUBLISHED-TTL:PT1H
BEGIN:VTIMEZONE
TZID:America/Kentucky/Louisville
BEGIN:DAYLIGHT
TZOFFSETFROM:-0500
TZOFFSETTO:-0400
TZNAME:EDT
DTSTART:20250309T070000
END:DAYLIGHT
BEGIN:STANDARD
TZOFFSETFROM:-0400
TZOFFSETTO:-0500
TZNAME:EST
DTSTART:20251102T060000
END:STANDARD
BEGIN:DAYLIGHT
TZOFFSETFROM:-0500
TZOFFSETTO:-0400
TZNAME:EDT
DTSTART:20260308T070000
END:DAYLIGHT
BEGIN:STANDARD
TZOFFSETFROM:-0400
TZOFFSETTO:-0500
TZNAME:EST
DTSTART:20261101T060000
END:STANDARD
BEGIN:DAYLIGHT
TZOFFSETFROM:-0500
TZOFFSETTO:-0400
TZNAME:EDT
DTSTART:20270314T070000
END:DAYLIGHT
BEGIN:STANDARD
TZOFFSETFROM:-0400
TZOFFSETTO:-0500
TZNAME:EST
DTSTART:20271107T060000
END:STANDARD
END:VTIMEZONE
BEGIN:VEVENT
DTSTART;VALUE=DATE:20260401
DTEND;VALUE=DATE:20260501
DTSTAMP:20260421T085405
CREATED:20260413T172518Z
LAST-MODIFIED:20260413T172518Z
UID:74065-1775001600-1777593599@visitpikeville.com
SUMMARY:Where the Sidewalk Ends
DESCRIPTION:This month at the Story Trail\, read selections from “Where the Sidewalk Ends\,” a celebrated 1974 children’s poetry collection written and illustrated by Shel Silverstein. It features whimsical\, imaginative poems and drawings\, including the title poem which describes a imaginative\, peaceful place away from the city\, and popular poems like “Sarah Cynthia Sylvia Stout Would Not Take the Garbage Out.”It will be posted all month long in celebration of National Poetry Month! Enjoy it at the Story Trail located at Bob Amos Park\, just below the Overlook Events Center. Look for our sign on the right at the head of the trail.
URL:https://visitpikeville.com/event/where-the-sidewalk-ends/
LOCATION:The Story Trail\, 424 Bob Amos Dr\,\, Pikeville\, KY\, 41501\, United States
CATEGORIES:Pike County Public Library
ATTACH;FMTTYPE=image/jpeg:https://visitpikeville.com/wp-content/uploads/2026/04/sidewalk.jpg
END:VEVENT
BEGIN:VEVENT
DTSTART;TZID=America/Kentucky/Louisville:20260411T090000
DTEND;TZID=America/Kentucky/Louisville:20260411T110000
DTSTAMP:20260421T085405
CREATED:20260323T152625Z
LAST-MODIFIED:20260323T152625Z
UID:73762-1775898000-1775905200@visitpikeville.com
SUMMARY:24th Annual Pike County Master Gardener Spring Plant Swap
DESCRIPTION:Call 606- 432-2534 for more information.
URL:https://visitpikeville.com/event/24th-annual-pike-county-master-gardener-spring-plant-swap/
LOCATION:Pike County Extension Office\, 148 Trivette Dr\, Pikeville\, KY\, 41501\, United States
CATEGORIES:Pike County Cooperative Extension Office
ATTACH;FMTTYPE=image/jpeg:https://visitpikeville.com/wp-content/uploads/2026/03/spring-plant.jpg
END:VEVENT
BEGIN:VEVENT
DTSTART;TZID=America/Kentucky/Louisville:20260411T090000
DTEND;TZID=America/Kentucky/Louisville:20260411T160000
DTSTAMP:20260421T085405
CREATED:20260216T140328Z
LAST-MODIFIED:20260216T140328Z
UID:73117-1775898000-1775923200@visitpikeville.com
SUMMARY:Bull Riding School
DESCRIPTION:Rockin A Bucking Bulls will proudly host a thrilling bull riding school at our home ranch in Pikeville\, Kentucky.
URL:https://visitpikeville.com/event/bull-riding-school/
LOCATION:Rockin’ A Ranch\, 3381 KY-194\,\, Pikeville\, KY\, 41501\, United States
CATEGORIES:Other
ATTACH;FMTTYPE=image/jpeg:https://visitpikeville.com/wp-content/uploads/2026/02/BULL-RIDING-SCHOOL.jpg
END:VEVENT
BEGIN:VEVENT
DTSTART;TZID=America/Kentucky/Louisville:20260411T110000
DTEND;TZID=America/Kentucky/Louisville:20260411T170000
DTSTAMP:20260421T085405
CREATED:20260203T152959Z
LAST-MODIFIED:20260203T152959Z
UID:72845-1775905200-1775926800@visitpikeville.com
SUMMARY:Hollers and Heroes Con
DESCRIPTION:Hollers and Heroes 2026!!!\n\n\nApril 10th and 11th at Appalachian Wireless Arena\n\n\nYes that’s right! 2 days!\n\n\nFriday night live Indie Wrestling provided by the best promotion around!!! Appalachian Championship Wrestling!\n\n\nLive music\, maybe?\n\n\nSo excited for this show!!!\n\n\nWe will be announcing talent very soon!
URL:https://visitpikeville.com/event/hollers-and-heroes-con-2/
LOCATION:Appalachian Wireless Arena\, 126 Main Street\, Pikeville\, Ky\, 41501
CATEGORIES:Appalachian Wireless Arena
ATTACH;FMTTYPE=image/jpeg:https://visitpikeville.com/wp-content/uploads/2026/02/hollers.jpg
END:VEVENT
BEGIN:VEVENT
DTSTART;TZID=America/Kentucky/Louisville:20260411T120000
DTEND;TZID=America/Kentucky/Louisville:20260411T140000
DTSTAMP:20260421T085405
CREATED:20251117T190306Z
LAST-MODIFIED:20251117T190306Z
UID:71379-1775908800-1775916000@visitpikeville.com
SUMMARY:Baseball vs Bryan College
DESCRIPTION:Game Day!
URL:https://visitpikeville.com/event/baseball-vs-bryan-college-2/
LOCATION:Johnnie LeMaster Field\, 118 W River Dr\,\, Pikeville\, KY\, 41501\, United States
CATEGORIES:UPike
ATTACH;FMTTYPE=image/png:https://visitpikeville.com/wp-content/uploads/2025/11/Screenshot-2025-11-17-at-1.59.30-PM.png
END:VEVENT
BEGIN:VEVENT
DTSTART;TZID=America/Kentucky/Louisville:20260411T130000
DTEND;TZID=America/Kentucky/Louisville:20260411T140000
DTSTAMP:20260421T085405
CREATED:20260209T155351Z
LAST-MODIFIED:20260209T155351Z
UID:72907-1775912400-1775916000@visitpikeville.com
SUMMARY:Women's Tennis vs SCAD-Atlanta
DESCRIPTION:Game Day!!
URL:https://visitpikeville.com/event/womens-tennis-vs-scad-atlanta-2/
LOCATION:Bob Amos Park\, 424 Bob Amos Dr\, Pikeville\, Ky\, 41501
CATEGORIES:UPike
ATTACH;FMTTYPE=image/png:https://visitpikeville.com/wp-content/uploads/2026/02/Screenshot-2026-02-09-at-10.51.27-AM.png
END:VEVENT
BEGIN:VEVENT
DTSTART;TZID=America/Kentucky/Louisville:20260411T130000
DTEND;TZID=America/Kentucky/Louisville:20260411T140000
DTSTAMP:20260421T085405
CREATED:20260209T155548Z
LAST-MODIFIED:20260209T155548Z
UID:72910-1775912400-1775916000@visitpikeville.com
SUMMARY:Men's Tennis vs SCAD-Atlanta
DESCRIPTION:Game Day!
URL:https://visitpikeville.com/event/mens-tennis-vs-scad-atlanta-2/
LOCATION:Bob Amos Park\, 424 Bob Amos Dr\, Pikeville\, Ky\, 41501
CATEGORIES:UPike
ATTACH;FMTTYPE=image/png:https://visitpikeville.com/wp-content/uploads/2026/02/Screenshot-2026-02-09-at-10.54.06-AM.png
END:VEVENT
BEGIN:VEVENT
DTSTART;TZID=America/Kentucky/Louisville:20260411T130000
DTEND;TZID=America/Kentucky/Louisville:20260411T150000
DTSTAMP:20260421T085405
CREATED:20251027T122017Z
LAST-MODIFIED:20251027T122017Z
UID:70339-1775912400-1775919600@visitpikeville.com
SUMMARY:Softball vs Brenau University (Ga.)
DESCRIPTION:Game Day!
URL:https://visitpikeville.com/event/softball-vs-brenau-university-ga-3/
LOCATION:Paul Butcher Field\, 134 Bank St\,\, Pikeville\, KY\, 41501\, United States
CATEGORIES:UPike
ATTACH;FMTTYPE=image/png:https://visitpikeville.com/wp-content/uploads/2025/10/Screenshot-2025-10-27-at-8.18.58-AM.png
END:VEVENT
BEGIN:VEVENT
DTSTART;TZID=America/Kentucky/Louisville:20260411T150000
DTEND;TZID=America/Kentucky/Louisville:20260411T170000
DTSTAMP:20260421T085405
CREATED:20251027T122059Z
LAST-MODIFIED:20251027T122059Z
UID:70342-1775919600-1775926800@visitpikeville.com
SUMMARY:Softball vs Brenau University (Ga.)
DESCRIPTION:Game Day!
URL:https://visitpikeville.com/event/softball-vs-brenau-university-ga-3-2/
LOCATION:Paul Butcher Field\, 134 Bank St\,\, Pikeville\, KY\, 41501\, United States
CATEGORIES:UPike
ATTACH;FMTTYPE=image/png:https://visitpikeville.com/wp-content/uploads/2025/10/Screenshot-2025-10-27-at-8.18.58-AM.png
END:VEVENT
BEGIN:VEVENT
DTSTART;TZID=America/Kentucky/Louisville:20260411T150000
DTEND;TZID=America/Kentucky/Louisville:20260411T170000
DTSTAMP:20260421T085405
CREATED:20251117T190347Z
LAST-MODIFIED:20251117T190347Z
UID:71381-1775919600-1775926800@visitpikeville.com
SUMMARY:Baseball vs Bryan College
DESCRIPTION:Game Day!
URL:https://visitpikeville.com/event/baseball-vs-bryan-college-2-2/
LOCATION:Johnnie LeMaster Field\, 118 W River Dr\,\, Pikeville\, KY\, 41501\, United States
CATEGORIES:UPike
ATTACH;FMTTYPE=image/png:https://visitpikeville.com/wp-content/uploads/2025/11/Screenshot-2025-11-17-at-1.59.30-PM.png
END:VEVENT
BEGIN:VEVENT
DTSTART;TZID=America/Kentucky/Louisville:20260411T180000
DTEND;TZID=America/Kentucky/Louisville:20260411T210000
DTSTAMP:20260421T085405
CREATED:20260323T135113Z
LAST-MODIFIED:20260323T135113Z
UID:73672-1775930400-1775941200@visitpikeville.com
SUMMARY:Square Dancing
DESCRIPTION:Join us on Saturday\, April 11th for another fun Square Dancing event!
URL:https://visitpikeville.com/event/square-dancing-7/
LOCATION:Pike County Extension Office\, 148 Trivette Dr\, Pikeville\, KY\, 41501\, United States
CATEGORIES:Pike County Cooperative Extension Office
ATTACH;FMTTYPE=image/jpeg:https://visitpikeville.com/wp-content/uploads/2026/03/SQUARE-1.jpg
END:VEVENT
END:VCALENDAR