BEGIN:VCALENDAR
VERSION:2.0
PRODID:-//Visit Pikeville - ECPv6.15.20//NONSGML v1.0//EN
CALSCALE:GREGORIAN
METHOD:PUBLISH
X-ORIGINAL-URL:https://visitpikeville.com
X-WR-CALDESC:Events for Visit Pikeville
REFRESH-INTERVAL;VALUE=DURATION:PT1H
X-Robots-Tag:noindex
X-PUBLISHED-TTL:PT1H
BEGIN:VTIMEZONE
TZID:America/Kentucky/Louisville
BEGIN:DAYLIGHT
TZOFFSETFROM:-0500
TZOFFSETTO:-0400
TZNAME:EDT
DTSTART:20250309T070000
END:DAYLIGHT
BEGIN:STANDARD
TZOFFSETFROM:-0400
TZOFFSETTO:-0500
TZNAME:EST
DTSTART:20251102T060000
END:STANDARD
BEGIN:DAYLIGHT
TZOFFSETFROM:-0500
TZOFFSETTO:-0400
TZNAME:EDT
DTSTART:20260308T070000
END:DAYLIGHT
BEGIN:STANDARD
TZOFFSETFROM:-0400
TZOFFSETTO:-0500
TZNAME:EST
DTSTART:20261101T060000
END:STANDARD
BEGIN:DAYLIGHT
TZOFFSETFROM:-0500
TZOFFSETTO:-0400
TZNAME:EDT
DTSTART:20270314T070000
END:DAYLIGHT
BEGIN:STANDARD
TZOFFSETFROM:-0400
TZOFFSETTO:-0500
TZNAME:EST
DTSTART:20271107T060000
END:STANDARD
END:VTIMEZONE
BEGIN:VEVENT
DTSTART;VALUE=DATE:20260401
DTEND;VALUE=DATE:20260501
DTSTAMP:20260421T145356
CREATED:20260413T172518Z
LAST-MODIFIED:20260413T172518Z
UID:74065-1775001600-1777593599@visitpikeville.com
SUMMARY:Where the Sidewalk Ends
DESCRIPTION:This month at the Story Trail\, read selections from “Where the Sidewalk Ends\,” a celebrated 1974 children’s poetry collection written and illustrated by Shel Silverstein. It features whimsical\, imaginative poems and drawings\, including the title poem which describes a imaginative\, peaceful place away from the city\, and popular poems like “Sarah Cynthia Sylvia Stout Would Not Take the Garbage Out.”It will be posted all month long in celebration of National Poetry Month! Enjoy it at the Story Trail located at Bob Amos Park\, just below the Overlook Events Center. Look for our sign on the right at the head of the trail.
URL:https://visitpikeville.com/event/where-the-sidewalk-ends/
LOCATION:The Story Trail\, 424 Bob Amos Dr\,\, Pikeville\, KY\, 41501\, United States
CATEGORIES:Pike County Public Library
ATTACH;FMTTYPE=image/jpeg:https://visitpikeville.com/wp-content/uploads/2026/04/sidewalk.jpg
END:VEVENT
BEGIN:VEVENT
DTSTART;VALUE=DATE:20260408
DTEND;VALUE=DATE:20260409
DTSTAMP:20260421T145356
CREATED:20260406T125845Z
LAST-MODIFIED:20260406T125845Z
UID:73869-1775606400-1775692799@visitpikeville.com
SUMMARY:PMC Wellness Wednesday
DESCRIPTION:@YMCA
URL:https://visitpikeville.com/event/pmc-wellness-wednesday-2/
LOCATION:Pikeville YMCA\, 424 Bob Amos Dr\,\, Pikeville\, Ky\, 41501
CATEGORIES:Pikeville Medical Center,Pikeville YMCA
END:VEVENT
BEGIN:VEVENT
DTSTART;TZID=America/Kentucky/Louisville:20260408T100000
DTEND;TZID=America/Kentucky/Louisville:20260408T120000
DTSTAMP:20260421T145356
CREATED:20260323T134617Z
LAST-MODIFIED:20260323T134617Z
UID:73669-1775642400-1775649600@visitpikeville.com
SUMMARY:Open Interviews
DESCRIPTION:Join us on April 8th for open interviews\nWe’re hiring Patient Care Tech Trainees!\n\n\n2nd floor Information Desk\n 10:00am – 12:00pm
URL:https://visitpikeville.com/event/open-interviews/
LOCATION:Pikeville Medical Center\, 911 S Bypass Rd\,\, Pikeville\, KY\, 41501\, United States
CATEGORIES:Pikeville Medical Center
ATTACH;FMTTYPE=image/jpeg:https://visitpikeville.com/wp-content/uploads/2026/03/OPEN-INTERVIEWS.jpg
END:VEVENT
BEGIN:VEVENT
DTSTART;TZID=America/Kentucky/Louisville:20260408T100000
DTEND;TZID=America/Kentucky/Louisville:20260408T150000
DTSTAMP:20260421T145356
CREATED:20260309T151430Z
LAST-MODIFIED:20260309T151430Z
UID:73546-1775642400-1775660400@visitpikeville.com
SUMMARY:Mega Hiring Event
DESCRIPTION:@Pike County Library
URL:https://visitpikeville.com/event/mega-hiring-event-2/
LOCATION:Pike County Public Library\, 126 Lee Avenue\, Pikeville\, KY\, 41501\, United States
CATEGORIES:Pike County Public Library
ATTACH;FMTTYPE=image/jpeg:https://visitpikeville.com/wp-content/uploads/2026/03/mega-hiring-event.jpg
END:VEVENT
BEGIN:VEVENT
DTSTART;TZID=America/Kentucky/Louisville:20260408T140000
DTEND;TZID=America/Kentucky/Louisville:20260408T150000
DTSTAMP:20260421T145356
CREATED:20260406T185652Z
LAST-MODIFIED:20260406T185652Z
UID:73920-1775656800-1775660400@visitpikeville.com
SUMMARY:Adult Guitar Class 2
DESCRIPTION:Beginner guitar lessons for patrons ages 18+. This class meets weekly on Wednesdays at 2:00. Please bring your own instrument. Registration required. \n\n\n\n\n\n\n  \nCall the library at 606-437-6001 to check availability.
URL:https://visitpikeville.com/event/adult-guitar-class-4-2-2-2-2-2-2-2-2-2-2-2-2-2-2-2-2-2-2-2-2-2-2-2-2-2-2-2-2-2-2-2-3-2-2-2-2-2-2-2-2-2-2/
LOCATION:Pike County Public Library\, 126 Lee Avenue\, Pikeville\, KY\, 41501\, United States
CATEGORIES:Pike County Public Library
ATTACH;FMTTYPE=image/png:https://visitpikeville.com/wp-content/uploads/2025/05/theory.png
END:VEVENT
BEGIN:VEVENT
DTSTART;TZID=America/Kentucky/Louisville:20260408T163000
DTEND;TZID=America/Kentucky/Louisville:20260408T173000
DTSTAMP:20260421T145356
CREATED:20260406T190533Z
LAST-MODIFIED:20260406T190533Z
UID:73928-1775665800-1775669400@visitpikeville.com
SUMMARY:Teen Guitar Class 1
DESCRIPTION:Beginner guitar lessons for patrons ages 13-17. This class meets weekly on Wednesdays at 4:30. Please bring your own instrument. Registration required.
URL:https://visitpikeville.com/event/teen-guitar-class-1-2-2-2-2-2-2-2-2-2-2/
LOCATION:Pike County Public Library\, 126 Lee Avenue\, Pikeville\, KY\, 41501\, United States
CATEGORIES:Pike County Public Library
ATTACH;FMTTYPE=image/png:https://visitpikeville.com/wp-content/uploads/2026/01/music.png
END:VEVENT
BEGIN:VEVENT
DTSTART;TZID=America/Kentucky/Louisville:20260408T170000
DTEND;TZID=America/Kentucky/Louisville:20260408T174000
DTSTAMP:20260421T145356
CREATED:20260323T144514Z
LAST-MODIFIED:20260323T144514Z
UID:73721-1775667600-1775670000@visitpikeville.com
SUMMARY:Swim Lessons (Swim 101)
DESCRIPTION:YMCA Member Priority Registration for April Swim Lessons is open NOW through March 27th! \n\n\nRegister online using the links below\, or stop by and see us at the Y to get signed up.\n\n\nParent and Tot Class\n\n\nSession #1: https://operations.daxko.com/programs/redirector.aspx…\n\n\nSession # 2: https://operations.daxko.com/programs/redirector.aspx…\n\n\nSwim 101\n\n\nSession #1: https://operations.daxko.com/programs/redirector.aspx…\n\n\nSession 2: https://operations.daxko.com/programs/redirector.aspx…
URL:https://visitpikeville.com/event/swim-lessons-swim-101/
LOCATION:Pikeville YMCA\, 424 Bob Amos Dr\,\, Pikeville\, Ky\, 41501
CATEGORIES:Pikeville YMCA
ATTACH;FMTTYPE=image/jpeg:https://visitpikeville.com/wp-content/uploads/2026/03/swim.jpg
END:VEVENT
BEGIN:VEVENT
DTSTART;TZID=America/Kentucky/Louisville:20260408T180000
DTEND;TZID=America/Kentucky/Louisville:20260408T184000
DTSTAMP:20260421T145356
CREATED:20260323T145315Z
LAST-MODIFIED:20260323T145315Z
UID:73736-1775671200-1775673600@visitpikeville.com
SUMMARY:Swim Lessons (Swim 101)
DESCRIPTION:YMCA Member Priority Registration for April Swim Lessons is open NOW through March 27th! \n\n\nRegister online using the links below\, or stop by and see us at the Y to get signed up.\n\n\nParent and Tot Class\n\n\nSession #1: https://operations.daxko.com/programs/redirector.aspx…\n\n\nSession # 2: https://operations.daxko.com/programs/redirector.aspx…\n\n\nSwim 101\n\n\nSession #1: https://operations.daxko.com/programs/redirector.aspx…\n\n\nSession 2: https://operations.daxko.com/programs/redirector.aspx…
URL:https://visitpikeville.com/event/swim-lessons-swim-101-2-2-2-2-2-2-2/
LOCATION:Pikeville YMCA\, 424 Bob Amos Dr\,\, Pikeville\, Ky\, 41501
CATEGORIES:Pikeville YMCA
ATTACH;FMTTYPE=image/jpeg:https://visitpikeville.com/wp-content/uploads/2026/03/swim.jpg
END:VEVENT
BEGIN:VEVENT
DTSTART;TZID=America/Kentucky/Louisville:20260408T190000
DTEND;TZID=America/Kentucky/Louisville:20260408T210000
DTSTAMP:20260421T145356
CREATED:20250908T142515Z
LAST-MODIFIED:20250908T142515Z
UID:68158-1775674800-1775682000@visitpikeville.com
SUMMARY:Harlem Globetrotters
DESCRIPTION:General public on sale starts on Mon\, Sep 22\, 2025 @ 10:00 am EDT
URL:https://visitpikeville.com/event/harlem-globetrotters-4/
LOCATION:Appalachian Wireless Arena\, 126 Main Street\, Pikeville\, Ky\, 41501
CATEGORIES:Appalachian Wireless Arena
ATTACH;FMTTYPE=image/jpeg:https://visitpikeville.com/wp-content/uploads/2025/09/harlem.jpg
END:VEVENT
BEGIN:VEVENT
DTSTART;TZID=America/Kentucky/Louisville:20260408T193000
DTEND;TZID=America/Kentucky/Louisville:20260408T230000
DTSTAMP:20260421T145356
CREATED:20260316T132950Z
LAST-MODIFIED:20260316T132950Z
UID:73597-1775676600-1775689200@visitpikeville.com
SUMMARY:Weston Robinson @The Mine 606
DESCRIPTION:Come out to The Mine 606 in Pikeville\, Ky from 7:30pm-11pm to see Weston play your favorite country hits along with original music!
URL:https://visitpikeville.com/event/weston-robinson-the-mine-606/
LOCATION:The Mine 606\, 121 Main St\, Pikeville\, KY\, 41501\, United States
CATEGORIES:Other
ATTACH;FMTTYPE=image/jpeg:https://visitpikeville.com/wp-content/uploads/2026/03/weston.jpg
END:VEVENT
END:VCALENDAR