BEGIN:VCALENDAR
VERSION:2.0
PRODID:-//Visit Pikeville - ECPv6.15.20//NONSGML v1.0//EN
CALSCALE:GREGORIAN
METHOD:PUBLISH
X-ORIGINAL-URL:https://visitpikeville.com
X-WR-CALDESC:Events for Visit Pikeville
REFRESH-INTERVAL;VALUE=DURATION:PT1H
X-Robots-Tag:noindex
X-PUBLISHED-TTL:PT1H
BEGIN:VTIMEZONE
TZID:America/Kentucky/Louisville
BEGIN:DAYLIGHT
TZOFFSETFROM:-0500
TZOFFSETTO:-0400
TZNAME:EDT
DTSTART:20250309T070000
END:DAYLIGHT
BEGIN:STANDARD
TZOFFSETFROM:-0400
TZOFFSETTO:-0500
TZNAME:EST
DTSTART:20251102T060000
END:STANDARD
BEGIN:DAYLIGHT
TZOFFSETFROM:-0500
TZOFFSETTO:-0400
TZNAME:EDT
DTSTART:20260308T070000
END:DAYLIGHT
BEGIN:STANDARD
TZOFFSETFROM:-0400
TZOFFSETTO:-0500
TZNAME:EST
DTSTART:20261101T060000
END:STANDARD
BEGIN:DAYLIGHT
TZOFFSETFROM:-0500
TZOFFSETTO:-0400
TZNAME:EDT
DTSTART:20270314T070000
END:DAYLIGHT
BEGIN:STANDARD
TZOFFSETFROM:-0400
TZOFFSETTO:-0500
TZNAME:EST
DTSTART:20271107T060000
END:STANDARD
END:VTIMEZONE
BEGIN:VEVENT
DTSTART;VALUE=DATE:20260401
DTEND;VALUE=DATE:20260501
DTSTAMP:20260421T074540
CREATED:20260413T172518Z
LAST-MODIFIED:20260413T172518Z
UID:74065-1775001600-1777593599@visitpikeville.com
SUMMARY:Where the Sidewalk Ends
DESCRIPTION:This month at the Story Trail\, read selections from “Where the Sidewalk Ends\,” a celebrated 1974 children’s poetry collection written and illustrated by Shel Silverstein. It features whimsical\, imaginative poems and drawings\, including the title poem which describes a imaginative\, peaceful place away from the city\, and popular poems like “Sarah Cynthia Sylvia Stout Would Not Take the Garbage Out.”It will be posted all month long in celebration of National Poetry Month! Enjoy it at the Story Trail located at Bob Amos Park\, just below the Overlook Events Center. Look for our sign on the right at the head of the trail.
URL:https://visitpikeville.com/event/where-the-sidewalk-ends/
LOCATION:The Story Trail\, 424 Bob Amos Dr\,\, Pikeville\, KY\, 41501\, United States
CATEGORIES:Pike County Public Library
ATTACH;FMTTYPE=image/jpeg:https://visitpikeville.com/wp-content/uploads/2026/04/sidewalk.jpg
END:VEVENT
BEGIN:VEVENT
DTSTART;TZID=America/Kentucky/Louisville:20260407T120000
DTEND;TZID=America/Kentucky/Louisville:20260407T130000
DTSTAMP:20260421T074540
CREATED:20260309T123906Z
LAST-MODIFIED:20260309T123906Z
UID:73479-1775563200-1775566800@visitpikeville.com
SUMMARY:Canva Training for Businesses
DESCRIPTION:Tuesday Apr 7\, 2026\n12:00 PM – 1:00 PM EDT
URL:https://visitpikeville.com/event/canva-training-for-businesses/
LOCATION:Garfield House\, 178 College Street\, Pikeville\, KY\, 41501\, United States
CATEGORIES:Southeast Kentucky Chamber
ATTACH;FMTTYPE=image/png:https://visitpikeville.com/wp-content/uploads/2026/03/MainStCanvaTraining.png
END:VEVENT
BEGIN:VEVENT
DTSTART;TZID=America/Kentucky/Louisville:20260407T130000
DTEND;TZID=America/Kentucky/Louisville:20260407T150000
DTSTAMP:20260421T074540
CREATED:20251027T121738Z
LAST-MODIFIED:20251027T121738Z
UID:70334-1775566800-1775574000@visitpikeville.com
SUMMARY:Softball vs Bryan College
DESCRIPTION:Game Day!
URL:https://visitpikeville.com/event/softball-vs-bryan-college-3/
LOCATION:Paul Butcher Field\, 134 Bank St\,\, Pikeville\, KY\, 41501\, United States
CATEGORIES:UPike
ATTACH;FMTTYPE=image/png:https://visitpikeville.com/wp-content/uploads/2025/10/Screenshot-2025-10-27-at-8.16.10-AM.png
END:VEVENT
BEGIN:VEVENT
DTSTART;TZID=America/Kentucky/Louisville:20260407T150000
DTEND;TZID=America/Kentucky/Louisville:20260407T170000
DTSTAMP:20260421T074540
CREATED:20251027T121828Z
LAST-MODIFIED:20251027T121828Z
UID:70337-1775574000-1775581200@visitpikeville.com
SUMMARY:Softball vs Bryan College
DESCRIPTION:Game Day!
URL:https://visitpikeville.com/event/softball-vs-bryan-college-3-2/
LOCATION:Paul Butcher Field\, 134 Bank St\,\, Pikeville\, KY\, 41501\, United States
CATEGORIES:UPike
ATTACH;FMTTYPE=image/png:https://visitpikeville.com/wp-content/uploads/2025/10/Screenshot-2025-10-27-at-8.16.10-AM.png
END:VEVENT
BEGIN:VEVENT
DTSTART;TZID=America/Kentucky/Louisville:20260407T150000
DTEND;TZID=America/Kentucky/Louisville:20260407T170000
DTSTAMP:20260421T074540
CREATED:20251117T185909Z
LAST-MODIFIED:20251117T185909Z
UID:71373-1775574000-1775581200@visitpikeville.com
SUMMARY:Baseball vs WVU-Tech
DESCRIPTION:Game Day!
URL:https://visitpikeville.com/event/baseball-vs-wvu-tech/
LOCATION:Johnnie LeMaster Field\, 118 W River Dr\,\, Pikeville\, KY\, 41501\, United States
CATEGORIES:UPike
ATTACH;FMTTYPE=image/png:https://visitpikeville.com/wp-content/uploads/2025/11/Screenshot-2025-11-17-at-1.57.30-PM.png
END:VEVENT
BEGIN:VEVENT
DTSTART;TZID=America/Kentucky/Louisville:20260407T170000
DTEND;TZID=America/Kentucky/Louisville:20260407T183000
DTSTAMP:20260421T074540
CREATED:20260216T133817Z
LAST-MODIFIED:20260216T133817Z
UID:73109-1775581200-1775586600@visitpikeville.com
SUMMARY:Intermediate ASL course
DESCRIPTION:This 6-week Intermediate ASL course is designed for those who have completed our Beginner ASL class (or have equivalent experience) and want to continue building confidence and fluency.\nParticipants will expand their vocabulary\, practice more complex sentence structures\, and engage in conversational signing through interactive activities and real-world scenarios.\nClasses will meet every Tuesday from 5:00–6:30 PM\, March 3 through April 7. This course builds directly on the concepts introduced in the Beginner ASL class\, which will be offered again in the fall.\nRegistration is required. Click here to register: https://informationplace.libnet.info/event/15772159
URL:https://visitpikeville.com/event/intermediate-asl-course-2-2-2-2-2/
LOCATION:Pike County Public Library\, 126 Lee Avenue\, Pikeville\, KY\, 41501\, United States
CATEGORIES:Pike County Public Library
ATTACH;FMTTYPE=image/jpeg:https://visitpikeville.com/wp-content/uploads/2026/02/sign-language.jpg
END:VEVENT
BEGIN:VEVENT
DTSTART;TZID=America/Kentucky/Louisville:20260407T180000
DTEND;TZID=America/Kentucky/Louisville:20260407T184000
DTSTAMP:20260421T074540
CREATED:20260323T143403Z
LAST-MODIFIED:20260323T143403Z
UID:73703-1775584800-1775587200@visitpikeville.com
SUMMARY:Swim Lessons (Parent & Tots Lessons)
DESCRIPTION:YMCA Member Priority Registration for April Swim Lessons is open NOW through March 27th! \n\n\nRegister online using the links below\, or stop by and see us at the Y to get signed up.\n\n\nParent and Tot Class\n\n\nSession #1: https://operations.daxko.com/programs/redirector.aspx…\n\n\nSession # 2: https://operations.daxko.com/programs/redirector.aspx…\n\n\nSwim 101\n\n\nSession #1: https://operations.daxko.com/programs/redirector.aspx…\n\n\nSession 2: https://operations.daxko.com/programs/redirector.aspx…
URL:https://visitpikeville.com/event/swim-lessons-parent-tots-lessons-2-2-2-2-2-2/
LOCATION:Pikeville YMCA\, 424 Bob Amos Dr\,\, Pikeville\, Ky\, 41501
END:VEVENT
BEGIN:VEVENT
DTSTART;TZID=America/Kentucky/Louisville:20260407T180000
DTEND;TZID=America/Kentucky/Louisville:20260407T190000
DTSTAMP:20260421T074540
CREATED:20260323T133458Z
LAST-MODIFIED:20260323T133458Z
UID:73667-1775584800-1775588400@visitpikeville.com
SUMMARY:2026 Civics Book Club meetings
DESCRIPTION:Mark your calendars for the Spring 2026 Civics Book Club meetings! Moses Man of the Mountain is a thought-provoking retelling of the Exodus story by one of America’s greatest authors\, Zora Neale Hurston. Drawing on an original blend of African folklore and biblical history\, the book asks timeless questions about the demands and ethics of leadership and what it takes to unite a people. Even if you know the Moses story well\, Hurston forces you to see it in an exciting new light.Books will be provided\, but space is limited. You can sign up by following the link: https://forms.cloud.microsoft/r/HttspqCa9A
URL:https://visitpikeville.com/event/2026-civics-book-club-meetings-2-2/
LOCATION:Faith Life Market\, 130 Division St\,\, Pikeville\, KY\, 41501\, United States
CATEGORIES:Other
ATTACH;FMTTYPE=image/jpeg:https://visitpikeville.com/wp-content/uploads/2026/03/civics.jpg
END:VEVENT
END:VCALENDAR