BEGIN:VCALENDAR
VERSION:2.0
PRODID:-//Visit Pikeville - ECPv6.15.20//NONSGML v1.0//EN
CALSCALE:GREGORIAN
METHOD:PUBLISH
X-ORIGINAL-URL:https://visitpikeville.com
X-WR-CALDESC:Events for Visit Pikeville
REFRESH-INTERVAL;VALUE=DURATION:PT1H
X-Robots-Tag:noindex
X-PUBLISHED-TTL:PT1H
BEGIN:VTIMEZONE
TZID:America/Kentucky/Louisville
BEGIN:DAYLIGHT
TZOFFSETFROM:-0500
TZOFFSETTO:-0400
TZNAME:EDT
DTSTART:20250309T070000
END:DAYLIGHT
BEGIN:STANDARD
TZOFFSETFROM:-0400
TZOFFSETTO:-0500
TZNAME:EST
DTSTART:20251102T060000
END:STANDARD
BEGIN:DAYLIGHT
TZOFFSETFROM:-0500
TZOFFSETTO:-0400
TZNAME:EDT
DTSTART:20260308T070000
END:DAYLIGHT
BEGIN:STANDARD
TZOFFSETFROM:-0400
TZOFFSETTO:-0500
TZNAME:EST
DTSTART:20261101T060000
END:STANDARD
BEGIN:DAYLIGHT
TZOFFSETFROM:-0500
TZOFFSETTO:-0400
TZNAME:EDT
DTSTART:20270314T070000
END:DAYLIGHT
BEGIN:STANDARD
TZOFFSETFROM:-0400
TZOFFSETTO:-0500
TZNAME:EST
DTSTART:20271107T060000
END:STANDARD
END:VTIMEZONE
BEGIN:VEVENT
DTSTART;VALUE=DATE:20260401
DTEND;VALUE=DATE:20260501
DTSTAMP:20260421T074451
CREATED:20260413T172518Z
LAST-MODIFIED:20260413T172518Z
UID:74065-1775001600-1777593599@visitpikeville.com
SUMMARY:Where the Sidewalk Ends
DESCRIPTION:This month at the Story Trail\, read selections from “Where the Sidewalk Ends\,” a celebrated 1974 children’s poetry collection written and illustrated by Shel Silverstein. It features whimsical\, imaginative poems and drawings\, including the title poem which describes a imaginative\, peaceful place away from the city\, and popular poems like “Sarah Cynthia Sylvia Stout Would Not Take the Garbage Out.”It will be posted all month long in celebration of National Poetry Month! Enjoy it at the Story Trail located at Bob Amos Park\, just below the Overlook Events Center. Look for our sign on the right at the head of the trail.
URL:https://visitpikeville.com/event/where-the-sidewalk-ends/
LOCATION:The Story Trail\, 424 Bob Amos Dr\,\, Pikeville\, KY\, 41501\, United States
CATEGORIES:Pike County Public Library
ATTACH;FMTTYPE=image/jpeg:https://visitpikeville.com/wp-content/uploads/2026/04/sidewalk.jpg
END:VEVENT
BEGIN:VEVENT
DTSTART;TZID=America/Kentucky/Louisville:20260401T090000
DTEND;TZID=America/Kentucky/Louisville:20260401T150000
DTSTAMP:20260421T074451
CREATED:20260126T120714Z
LAST-MODIFIED:20260126T120714Z
UID:72666-1775034000-1775055600@visitpikeville.com
SUMMARY:The Wizard of Oz Spring Break Camp
DESCRIPTION:March 28th – April 2nd\, 2026 (off on March 29th)\nSat – Thurs | 9:00 AM – 3:00 PM\nPerformance: April 2nd at 7:30PM \nStudents must be available for all camp times and performance. \nWelcome to our 5-day spring break camp! This will have kids exploring the world of theatre by putting together a performance with acting\, teamwork\, and most importantly making friends! Whether your child is going on stage for the first time or is a seasoned veteran\, they will thoroughly enjoy their time here and will cap off their experience with performance at The Appalachian Center for the Arts on the final day of camp. \nJoin Dorothy\, Toto\, and all the characters you know and love as they journey from Kansas to the Emerald City in “The Wizard of Oz”. Performed by our Spring Break Campers ages 5–12 at The Appalachian Center for The Arts. These young artists will bring the timeless story to life with heart\, courage\, brains\, and plenty of fun along the way. From munchkins to monkeys\, scarecrows to witches\, come cheer on our young performers as they discover that there’s no place like home! \nThe Appalachian Center for the Arts is committed to serving the artistic educational needs of our community. No child will ever be turned away due to financial hardship. If you require assistance please email us at education@theapparts.org.
URL:https://visitpikeville.com/event/the-wizard-of-oz-spring-break-camp-2-2-2/
LOCATION:Appalachian Center for the Arts\, 218 2nd St\,\, Pikeville\, Ky\, 41501
CATEGORIES:The Appalachian Center for the Arts
ATTACH;FMTTYPE=image/jpeg:https://visitpikeville.com/wp-content/uploads/2026/01/wizard.jpg
END:VEVENT
BEGIN:VEVENT
DTSTART;TZID=America/Kentucky/Louisville:20260401T130000
DTEND;TZID=America/Kentucky/Louisville:20260401T150000
DTSTAMP:20260421T074451
CREATED:20251027T121520Z
LAST-MODIFIED:20251027T121520Z
UID:70329-1775048400-1775055600@visitpikeville.com
SUMMARY:Softball vs Tennessee Wesleyan University
DESCRIPTION:Game Day!
URL:https://visitpikeville.com/event/softball-vs-tennessee-wesleyan-university-4/
LOCATION:Paul Butcher Field\, 134 Bank St\,\, Pikeville\, KY\, 41501\, United States
CATEGORIES:UPike
ATTACH;FMTTYPE=image/png:https://visitpikeville.com/wp-content/uploads/2025/10/Screenshot-2025-10-27-at-8.13.49-AM.png
END:VEVENT
BEGIN:VEVENT
DTSTART;TZID=America/Kentucky/Louisville:20260401T150000
DTEND;TZID=America/Kentucky/Louisville:20260401T170000
DTSTAMP:20260421T074451
CREATED:20251027T121555Z
LAST-MODIFIED:20251027T121555Z
UID:70332-1775055600-1775062800@visitpikeville.com
SUMMARY:Softball vs Tennessee Wesleyan University
DESCRIPTION:Game Day!
URL:https://visitpikeville.com/event/softball-vs-tennessee-wesleyan-university-4-2/
LOCATION:Paul Butcher Field\, 134 Bank St\,\, Pikeville\, KY\, 41501\, United States
CATEGORIES:UPike
ATTACH;FMTTYPE=image/png:https://visitpikeville.com/wp-content/uploads/2025/10/Screenshot-2025-10-27-at-8.13.49-AM.png
END:VEVENT
END:VCALENDAR