BEGIN:VCALENDAR
VERSION:2.0
PRODID:-//Visit Pikeville - ECPv6.15.20//NONSGML v1.0//EN
CALSCALE:GREGORIAN
METHOD:PUBLISH
X-ORIGINAL-URL:https://visitpikeville.com
X-WR-CALDESC:Events for Visit Pikeville
REFRESH-INTERVAL;VALUE=DURATION:PT1H
X-Robots-Tag:noindex
X-PUBLISHED-TTL:PT1H
BEGIN:VTIMEZONE
TZID:America/Kentucky/Louisville
BEGIN:DAYLIGHT
TZOFFSETFROM:-0500
TZOFFSETTO:-0400
TZNAME:EDT
DTSTART:20250309T070000
END:DAYLIGHT
BEGIN:STANDARD
TZOFFSETFROM:-0400
TZOFFSETTO:-0500
TZNAME:EST
DTSTART:20251102T060000
END:STANDARD
BEGIN:DAYLIGHT
TZOFFSETFROM:-0500
TZOFFSETTO:-0400
TZNAME:EDT
DTSTART:20260308T070000
END:DAYLIGHT
BEGIN:STANDARD
TZOFFSETFROM:-0400
TZOFFSETTO:-0500
TZNAME:EST
DTSTART:20261101T060000
END:STANDARD
BEGIN:DAYLIGHT
TZOFFSETFROM:-0500
TZOFFSETTO:-0400
TZNAME:EDT
DTSTART:20270314T070000
END:DAYLIGHT
BEGIN:STANDARD
TZOFFSETFROM:-0400
TZOFFSETTO:-0500
TZNAME:EST
DTSTART:20271107T060000
END:STANDARD
END:VTIMEZONE
BEGIN:VEVENT
DTSTART;TZID=America/Kentucky/Louisville:20260302T170000
DTEND;TZID=America/Kentucky/Louisville:20260331T180000
DTSTAMP:20260421T085758
CREATED:20260223T160147Z
LAST-MODIFIED:20260223T160147Z
UID:73189-1772470800-1774980000@visitpikeville.com
SUMMARY:Basic Tumblers
DESCRIPTION:Basic Gymnastics for children ages 7\,8\,9 years of age.
URL:https://visitpikeville.com/event/basic-tumblers/
LOCATION:Pikeville YMCA\, 424 Bob Amos Dr\,\, Pikeville\, Ky\, 41501
CATEGORIES:Pikeville YMCA
ATTACH;FMTTYPE=image/jpeg:https://visitpikeville.com/wp-content/uploads/2026/02/tumbling.jpg
END:VEVENT
BEGIN:VEVENT
DTSTART;TZID=America/Kentucky/Louisville:20260302T170000
DTEND;TZID=America/Kentucky/Louisville:20260331T180000
DTSTAMP:20260421T085758
CREATED:20260223T160351Z
LAST-MODIFIED:20260223T160351Z
UID:73192-1772470800-1774980000@visitpikeville.com
SUMMARY:Gymnastics Tiny Tots
DESCRIPTION:Basic Gymnastics for children ages 3-4 years of age.
URL:https://visitpikeville.com/event/gymnastics-tiny-tots/
LOCATION:Pikeville YMCA\, 424 Bob Amos Dr\,\, Pikeville\, Ky\, 41501
CATEGORIES:Pikeville YMCA
ATTACH;FMTTYPE=image/jpeg:https://visitpikeville.com/wp-content/uploads/2026/02/tumbling.jpg
END:VEVENT
BEGIN:VEVENT
DTSTART;TZID=America/Kentucky/Louisville:20260302T180000
DTEND;TZID=America/Kentucky/Louisville:20260331T190000
DTSTAMP:20260421T085758
CREATED:20260223T160522Z
LAST-MODIFIED:20260223T160522Z
UID:73195-1772474400-1774983600@visitpikeville.com
SUMMARY:Gymnastics Tumble Tots
DESCRIPTION:Basic Gymnastics for children ages 5-6 years of age.
URL:https://visitpikeville.com/event/gymnastics-tumble-tots/
LOCATION:Pikeville YMCA\, 424 Bob Amos Dr\,\, Pikeville\, Ky\, 41501
CATEGORIES:Pikeville YMCA
ATTACH;FMTTYPE=image/jpeg:https://visitpikeville.com/wp-content/uploads/2026/02/tumbling.jpg
END:VEVENT
BEGIN:VEVENT
DTSTART;VALUE=DATE:20260320
DTEND;VALUE=DATE:20260322
DTSTAMP:20260421T085758
CREATED:20251208T143842Z
LAST-MODIFIED:20251208T143842Z
UID:72003-1773964800-1774137599@visitpikeville.com
SUMMARY:The East Kentucky Stampede Championship Rodeo
DESCRIPTION:The East Kentucky Stampede Championship Rodeo presented by Muddy Boots LLC and East Kentucky Exterminating! Located at the Appalachian Wireless Arena in Pikeville\, Ky.Join us for Mutton Bustin\, saddle bronc riding\, breakaway roping\, calf roping\, steer wrestling\, and much more! Friday\, March 20 the WAXM 93.5 media night all tickets are $25… Saturday\, March 21 tickets are $26\, $29\, and $34.On sale next Friday\, Dec 12 at 10am!Visit the Community Trust Bank Box Office or ticketmaster.com
URL:https://visitpikeville.com/event/the-east-kentucky-stampede-championship-rodeo-3/
LOCATION:Appalachian Wireless Arena\, 126 Main Street\, Pikeville\, Ky\, 41501
CATEGORIES:Appalachian Wireless Arena
ATTACH;FMTTYPE=image/jpeg:https://visitpikeville.com/wp-content/uploads/2025/12/stampede.jpg
END:VEVENT
BEGIN:VEVENT
DTSTART;TZID=America/Kentucky/Louisville:20260321T060000
DTEND;TZID=America/Kentucky/Louisville:20260321T130000
DTSTAMP:20260421T085758
CREATED:20260309T140951Z
LAST-MODIFIED:20260309T140951Z
UID:73503-1774072800-1774098000@visitpikeville.com
SUMMARY:KYCOM 5K
DESCRIPTION:College Street closed from 6:00am – 1:00pm
URL:https://visitpikeville.com/event/kycom-5k/
LOCATION:Downtown Pikeville\, Pikeville\, Ky\, 41501
CATEGORIES:UPike
END:VEVENT
BEGIN:VEVENT
DTSTART;TZID=America/Kentucky/Louisville:20260321T100000
DTEND;TZID=America/Kentucky/Louisville:20260321T140000
DTSTAMP:20260421T085758
CREATED:20260223T151839Z
LAST-MODIFIED:20260223T151839Z
UID:73168-1774087200-1774101600@visitpikeville.com
SUMMARY:Puppet Building Workshop
DESCRIPTION:March 21st\, 2026 | 10:00 am – 2:00pm\nInstructor: Shannon Daniels\nTicket: $45 (per puppet being made) \nWho’s ready for a super fun\, creative Saturday? Shannon is teaching a puppet making workshop! \nWhat you’ll learn: How to create something from a sewing pattern\, 2 basic hand stitches\, the magic effects that a pair of googly eyes can have on a piece of fabric\, oh yes\, and how to make this adorable puppet! No experience necessary\, just a willingness to learn and have fun! Adults are welcome to accompany their child to help them create their creature\, or sign up for the class and make a puppet of their own! This workshop is great for ages 10-110! All supplies will be provided and at the end\, you get to take home your puppet. \nShannon Daniels is honored to serve as the Executive Director of The Appalachian Center for the Arts. She has also been a props designer for almost 20 years. One of her favorite things to make for the stage is puppets. And now she’d like to share that joy with you!
URL:https://visitpikeville.com/event/puppet-building-workshop/
LOCATION:Appalachian Center for the Arts\, 218 2nd St\,\, Pikeville\, Ky\, 41501
CATEGORIES:The Appalachian Center for the Arts
ATTACH;FMTTYPE=image/jpeg:https://visitpikeville.com/wp-content/uploads/2026/02/puppet.jpg
END:VEVENT
BEGIN:VEVENT
DTSTART;TZID=America/Kentucky/Louisville:20260321T110000
DTEND;TZID=America/Kentucky/Louisville:20260321T120000
DTSTAMP:20260421T085758
CREATED:20260302T151256Z
LAST-MODIFIED:20260302T151256Z
UID:73402-1774090800-1774094400@visitpikeville.com
SUMMARY:Story Time
DESCRIPTION:Story Time is for children ages 5 and under and features books\, action/movement\, songs\, and a craft. Story Time is held Thursdays at 11:00 and 2:00 and Saturdays at 11:00. \n\n\n\n\n\n\n  \nBesides being fun\, Story Time also helps develop early literacy and school readiness skills through reading\, singing\, listening\, playing\, and social interaction. This program lasts approximately 30 minutes\, and caregivers and children are encouraged to linger in the library afterwards to further socialize and choose books to take home. \n  \nStory Time begins the first week of September and ends the first week of May.
URL:https://visitpikeville.com/event/story-time-2-2-2-2-2-2-2-2-2-2-2-2-2-2-2-2-2-2-2-2-2-2-2-2-2-2-2-2-2-2-2-2-2-2-2-2-2-2-2-2-2-2-2-2-2-2-2-2-2-2-2-2-2-2-2-3-2-2-2-2-2-2-2-2-2-2-2-2-2-2-2-2-2-2-2-2-2-2-2-2-2-2-2-2-2-2-2-2-2-2-2-2-2-6-3/
LOCATION:Pike County Public Library\, 126 Lee Avenue\, Pikeville\, KY\, 41501\, United States
CATEGORIES:Pike County Public Library
ATTACH;FMTTYPE=image/png:https://visitpikeville.com/wp-content/uploads/2025/10/Story_Time_Schedule_25.png
END:VEVENT
BEGIN:VEVENT
DTSTART;TZID=America/Kentucky/Louisville:20260321T120000
DTEND;TZID=America/Kentucky/Louisville:20260321T160000
DTSTAMP:20260421T085758
CREATED:20260105T121018Z
LAST-MODIFIED:20260105T124928Z
UID:72144-1774094400-1774108800@visitpikeville.com
SUMMARY:Embodied Poetics
DESCRIPTION:February 16th – March 27th\, 2026\nMeets: Saturdays | 12:00 – 4:00pm\nInstructor: Mark Hatfield \nDiscover the power of devised theatre — a collaborative\, actor-driven approach to creating original performance. In this six-week Saturday course\, you’ll learn how to build theatre from the ground up using improvisation\, physical exploration\, storytelling\, and ensemble techniques. No prior experience with devising is needed: you’ll gain practical acting skills such as presence\, imagination\, adaptability\, and embodied expression while contributing to the creation of a brand-new piece. The course culminates in a final showing of the work developed together\, giving you hands-on experience in the creative process from first spark to performance.
URL:https://visitpikeville.com/event/embodied-poetics-2-2/
LOCATION:Appalachian Center for the Arts\, 218 2nd St\,\, Pikeville\, Ky\, 41501
CATEGORIES:The Appalachian Center for the Arts
ATTACH;FMTTYPE=image/jpeg:https://visitpikeville.com/wp-content/uploads/2026/01/embodied.jpg
END:VEVENT
BEGIN:VEVENT
DTSTART;TZID=America/Kentucky/Louisville:20260321T130000
DTEND;TZID=America/Kentucky/Louisville:20260321T150000
DTSTAMP:20260421T085758
CREATED:20260316T125510Z
LAST-MODIFIED:20260316T125510Z
UID:73581-1774098000-1774105200@visitpikeville.com
SUMMARY:FAMILY PAINT CLASS
DESCRIPTION:Looking for something fun to do with the kids this weekend? Join us for our Family Paint Class at 2 Broke Art Teachers!  Saturday\, March 21 1:00 PM $20 per painter 11×14 CanvasChoose your favoriteOptions include cute ducks\, a sweet lamb\, bunnies\, or even a fun alien friend! This class is perfect for families\, kids\, and beginners. Paint at your own pace and enjoy creating together! Private message us to reserve your seats.Please include:• Name• Number of painters• Painting choice (A–F)Seats are limited\, so grab your spot early!
URL:https://visitpikeville.com/event/family-paint-class-21/
LOCATION:2 Broke Art Teachers\, 4505 Weddington Square\,\, Pikeville\, KY\, 41501\, United States
CATEGORIES:Other
ATTACH;FMTTYPE=image/jpeg:https://visitpikeville.com/wp-content/uploads/2026/03/family-paint-class-march-21.jpg
END:VEVENT
BEGIN:VEVENT
DTSTART;TZID=America/Kentucky/Louisville:20260321T130000
DTEND;TZID=America/Kentucky/Louisville:20260321T170000
DTSTAMP:20260421T085758
CREATED:20260316T145752Z
LAST-MODIFIED:20260316T145752Z
UID:73646-1774098000-1774112400@visitpikeville.com
SUMMARY:RPG Day
DESCRIPTION:Join us for an afternoon of tabletop fun at RPG Day with Steven\, happening from 1:00–5:00 PM! Whether you’re brand new to RPGs or a seasoned adventurer\, Steven will be running games\, teaching rules\, and helping players jump into exciting worlds. Come roll some dice\, meet fellow players\, and enjoy a laid-back\, welcoming RPG session at the shop
URL:https://visitpikeville.com/event/rpg-day/
LOCATION:The Gaming Co.\, 265 Hambley Boulevard\,\, Pikeville\, KY\, 41501\, United States
CATEGORIES:Other
ATTACH;FMTTYPE=image/jpeg:https://visitpikeville.com/wp-content/uploads/2026/03/rpg.jpg
END:VEVENT
BEGIN:VEVENT
DTSTART;TZID=America/Kentucky/Louisville:20260321T150000
DTEND;TZID=America/Kentucky/Louisville:20260321T200000
DTSTAMP:20260421T085758
CREATED:20260316T135102Z
LAST-MODIFIED:20260316T135102Z
UID:73618-1774105200-1774123200@visitpikeville.com
SUMMARY:Pokémon TCG Standard Tournament
DESCRIPTION:Get your decks ready\, Trainers! Join us for our Pokémon TCG Standard Tournament starting at 3:00 PM every Saturday! Entry is $8\, and for every round you win\, you’ll earn $4 in store credit\, so every match counts! This is the perfect way to sharpen your skills and enjoy some competitive Pokémon fun in a friendly environment.
URL:https://visitpikeville.com/event/pokemon-tcg-standard-tournament/
LOCATION:The Gaming Co.\, 265 Hambley Boulevard\,\, Pikeville\, KY\, 41501\, United States
CATEGORIES:Other
ATTACH;FMTTYPE=image/jpeg:https://visitpikeville.com/wp-content/uploads/2026/03/pokemon-tournament.jpg
END:VEVENT
BEGIN:VEVENT
DTSTART;TZID=America/Kentucky/Louisville:20260321T173000
DTEND;TZID=America/Kentucky/Louisville:20260321T210000
DTSTAMP:20260421T085758
CREATED:20260316T135939Z
LAST-MODIFIED:20260316T135939Z
UID:73623-1774114200-1774126800@visitpikeville.com
SUMMARY:Riftbound Night
DESCRIPTION: Blitz into the Rift! \nRiftbound Night at The Gaming Co.! Join us at 5:30 PM for fast-paced\, competitive League of Legends card battles. Whether you’re climbing the ranks or just spinning up fun decks\, it’s your chance to test strategies\, meet other players\, and claim victories!
URL:https://visitpikeville.com/event/riftbound-night/
LOCATION:The Gaming Co.\, 265 Hambley Boulevard\,\, Pikeville\, KY\, 41501\, United States
CATEGORIES:Other
ATTACH;FMTTYPE=image/jpeg:https://visitpikeville.com/wp-content/uploads/2026/03/rift-bound.jpg
END:VEVENT
BEGIN:VEVENT
DTSTART;TZID=America/Kentucky/Louisville:20260321T190000
DTEND;TZID=America/Kentucky/Louisville:20260321T210000
DTSTAMP:20260421T085758
CREATED:20260223T151344Z
LAST-MODIFIED:20260223T151344Z
UID:73163-1774119600-1774126800@visitpikeville.com
SUMMARY:Mountain Superstars
DESCRIPTION:Mountain Superstars\, formerly known as Hillbilly Superstars\, returns for its third year with its biggest show yet. Produced by Mountain Top Media and presented by Bluegrass Precision Wellness\, this live singing competition features talented vocalists ages 13 and up from across the mountains competing for the title of Mountain Superstar and exciting prizes. Enjoy unforgettable performances celebrating local talent\, with winners crowned at the end of the night. \nTickets: $10 All Tickets + Fee
URL:https://visitpikeville.com/event/mountain-superstars/
LOCATION:Appalachian Center for the Arts\, 218 2nd St\,\, Pikeville\, Ky\, 41501
CATEGORIES:Mountain Top Media,The Appalachian Center for the Arts
ATTACH;FMTTYPE=image/jpeg:https://visitpikeville.com/wp-content/uploads/2026/02/mountain-superstars-jr.jpg
END:VEVENT
BEGIN:VEVENT
DTSTART;TZID=America/Kentucky/Louisville:20260321T200000
DTEND;TZID=America/Kentucky/Louisville:20260321T220000
DTSTAMP:20260421T085758
CREATED:20260309T141529Z
LAST-MODIFIED:20260309T141529Z
UID:73505-1774123200-1774130400@visitpikeville.com
SUMMARY:Ethan Allen
DESCRIPTION:@Brother’s Wright Distillery
URL:https://visitpikeville.com/event/ethan-allen/
LOCATION:Brothers Wright Distilling Co.\, 2nd Street\, Pikeville\, KY\, 41501\, United States
CATEGORIES:Other
ATTACH;FMTTYPE=image/jpeg:https://visitpikeville.com/wp-content/uploads/2026/01/bro-wright.jpg
END:VEVENT
END:VCALENDAR