BEGIN:VCALENDAR
VERSION:2.0
PRODID:-//Visit Pikeville - ECPv6.15.20//NONSGML v1.0//EN
CALSCALE:GREGORIAN
METHOD:PUBLISH
X-WR-CALNAME:Visit Pikeville
X-ORIGINAL-URL:https://visitpikeville.com
X-WR-CALDESC:Events for Visit Pikeville
REFRESH-INTERVAL;VALUE=DURATION:PT1H
X-Robots-Tag:noindex
X-PUBLISHED-TTL:PT1H
BEGIN:VTIMEZONE
TZID:America/Kentucky/Louisville
BEGIN:DAYLIGHT
TZOFFSETFROM:-0500
TZOFFSETTO:-0400
TZNAME:EDT
DTSTART:20250309T070000
END:DAYLIGHT
BEGIN:STANDARD
TZOFFSETFROM:-0400
TZOFFSETTO:-0500
TZNAME:EST
DTSTART:20251102T060000
END:STANDARD
BEGIN:DAYLIGHT
TZOFFSETFROM:-0500
TZOFFSETTO:-0400
TZNAME:EDT
DTSTART:20260308T070000
END:DAYLIGHT
BEGIN:STANDARD
TZOFFSETFROM:-0400
TZOFFSETTO:-0500
TZNAME:EST
DTSTART:20261101T060000
END:STANDARD
BEGIN:DAYLIGHT
TZOFFSETFROM:-0500
TZOFFSETTO:-0400
TZNAME:EDT
DTSTART:20270314T070000
END:DAYLIGHT
BEGIN:STANDARD
TZOFFSETFROM:-0400
TZOFFSETTO:-0500
TZNAME:EST
DTSTART:20271107T060000
END:STANDARD
END:VTIMEZONE
BEGIN:VEVENT
DTSTART;TZID=America/Kentucky/Louisville:20260302T170000
DTEND;TZID=America/Kentucky/Louisville:20260331T180000
DTSTAMP:20260421T085416
CREATED:20260223T160147Z
LAST-MODIFIED:20260223T160147Z
UID:73189-1772470800-1774980000@visitpikeville.com
SUMMARY:Basic Tumblers
DESCRIPTION:Basic Gymnastics for children ages 7\,8\,9 years of age.
URL:https://visitpikeville.com/event/basic-tumblers/
LOCATION:Pikeville YMCA\, 424 Bob Amos Dr\,\, Pikeville\, Ky\, 41501
CATEGORIES:Pikeville YMCA
ATTACH;FMTTYPE=image/jpeg:https://visitpikeville.com/wp-content/uploads/2026/02/tumbling.jpg
END:VEVENT
BEGIN:VEVENT
DTSTART;TZID=America/Kentucky/Louisville:20260302T170000
DTEND;TZID=America/Kentucky/Louisville:20260331T180000
DTSTAMP:20260421T085416
CREATED:20260223T160351Z
LAST-MODIFIED:20260223T160351Z
UID:73192-1772470800-1774980000@visitpikeville.com
SUMMARY:Gymnastics Tiny Tots
DESCRIPTION:Basic Gymnastics for children ages 3-4 years of age.
URL:https://visitpikeville.com/event/gymnastics-tiny-tots/
LOCATION:Pikeville YMCA\, 424 Bob Amos Dr\,\, Pikeville\, Ky\, 41501
CATEGORIES:Pikeville YMCA
ATTACH;FMTTYPE=image/jpeg:https://visitpikeville.com/wp-content/uploads/2026/02/tumbling.jpg
END:VEVENT
BEGIN:VEVENT
DTSTART;TZID=America/Kentucky/Louisville:20260302T180000
DTEND;TZID=America/Kentucky/Louisville:20260331T190000
DTSTAMP:20260421T085416
CREATED:20260223T160522Z
LAST-MODIFIED:20260223T160522Z
UID:73195-1772474400-1774983600@visitpikeville.com
SUMMARY:Gymnastics Tumble Tots
DESCRIPTION:Basic Gymnastics for children ages 5-6 years of age.
URL:https://visitpikeville.com/event/gymnastics-tumble-tots/
LOCATION:Pikeville YMCA\, 424 Bob Amos Dr\,\, Pikeville\, Ky\, 41501
CATEGORIES:Pikeville YMCA
ATTACH;FMTTYPE=image/jpeg:https://visitpikeville.com/wp-content/uploads/2026/02/tumbling.jpg
END:VEVENT
BEGIN:VEVENT
DTSTART;TZID=America/Kentucky/Louisville:20260317T100000
DTEND;TZID=America/Kentucky/Louisville:20260317T120000
DTSTAMP:20260421T085416
CREATED:20260309T140303Z
LAST-MODIFIED:20260309T140303Z
UID:73501-1773741600-1773748800@visitpikeville.com
SUMMARY:Pike County Fiscal Court Meeting
DESCRIPTION:  \n10:00am @ Pike County Courthouse
URL:https://visitpikeville.com/event/pike-county-fiscal-court-meeting-2-2-2-2-2-2-2-2-3-2-2-2-2-2-2-2-2-2-2-2-2-2-2-2-2-2-2-2-2-2-2-3-2-2/
LOCATION:Pike County Clerk\, 146 Main St\,\, Pikeville\, 41501\, United States
CATEGORIES:City of Pikeville
ATTACH;FMTTYPE=image/png:https://visitpikeville.com/wp-content/uploads/2023/09/image001.png
END:VEVENT
BEGIN:VEVENT
DTSTART;TZID=America/Kentucky/Louisville:20260317T170000
DTEND;TZID=America/Kentucky/Louisville:20260317T180000
DTSTAMP:20260421T085416
CREATED:20260105T122603Z
LAST-MODIFIED:20260105T122603Z
UID:72169-1773766800-1773770400@visitpikeville.com
SUMMARY:From the Page to the Stage
DESCRIPTION:February 17th-March 27th\, 2026\nMeets: Tuesday / Thursday | 5:00 – 6:00pm\nCommunity Sharing: March 27th\, 2026\nInstructor: Crockett J. Ward \nThis class is perfect for those individuals who want MORE out of a script. In this class\, actors\, writers\, directors\, literary enthusiasts\, all will learn how to dissect a script to the core and build a world full of life. Whether your desire is to be a better actor\, or you just want something to investigate\, we have space for you. The purpose will be developing their own method for analysis through the work of Michael Shurtleff and the 12 guideposts. There will be a performance-based aspect to this class. Community sharing is March 27th\, 2026.
URL:https://visitpikeville.com/event/from-the-page-to-the-stage-2-2-2-2-2-2-2-2/
LOCATION:Appalachian Center for the Arts\, 218 2nd St\,\, Pikeville\, Ky\, 41501
CATEGORIES:The Appalachian Center for the Arts
ATTACH;FMTTYPE=image/jpeg:https://visitpikeville.com/wp-content/uploads/2026/01/page.jpg
END:VEVENT
BEGIN:VEVENT
DTSTART;TZID=America/Kentucky/Louisville:20260317T170000
DTEND;TZID=America/Kentucky/Louisville:20260317T183000
DTSTAMP:20260421T085416
CREATED:20260216T133622Z
LAST-MODIFIED:20260216T133622Z
UID:73103-1773766800-1773772200@visitpikeville.com
SUMMARY:Intermediate ASL course
DESCRIPTION:This 6-week Intermediate ASL course is designed for those who have completed our Beginner ASL class (or have equivalent experience) and want to continue building confidence and fluency.\nParticipants will expand their vocabulary\, practice more complex sentence structures\, and engage in conversational signing through interactive activities and real-world scenarios.\nClasses will meet every Tuesday from 5:00–6:30 PM\, March 3 through April 7. This course builds directly on the concepts introduced in the Beginner ASL class\, which will be offered again in the fall.\nRegistration is required. Click here to register: https://informationplace.libnet.info/event/15772159
URL:https://visitpikeville.com/event/intermediate-asl-course-2-2/
LOCATION:Pike County Public Library\, 126 Lee Avenue\, Pikeville\, KY\, 41501\, United States
CATEGORIES:Pike County Public Library
ATTACH;FMTTYPE=image/jpeg:https://visitpikeville.com/wp-content/uploads/2026/02/sign-language.jpg
END:VEVENT
BEGIN:VEVENT
DTSTART;TZID=America/Kentucky/Louisville:20260317T170000
DTEND;TZID=America/Kentucky/Louisville:20260317T190000
DTSTAMP:20260421T085416
CREATED:20260216T132806Z
LAST-MODIFIED:20260216T132806Z
UID:73089-1773766800-1773774000@visitpikeville.com
SUMMARY:Podcast Workshop
DESCRIPTION:Have you ever wanted to start a podcast? In this hands-on workshop\, tweens and teens ages 12+ will learn the basics of podcasting and create their very own podcast episode\, from idea to recording!\nParticipants will explore how podcasts work\, brainstorm topics\, write a simple script or outline\, and record a brief episode using library equipment. No experience is necessary. By the end of the session\, you’ll have a finished mini podcast and the skills to keep creating on your own.\nThis program will be held March 17th at 5:00 at the Pike County Public Library. No registration required.
URL:https://visitpikeville.com/event/podcast-workshop/
LOCATION:Pike County Public Library\, 126 Lee Avenue\, Pikeville\, KY\, 41501\, United States
CATEGORIES:Pike County Public Library
ATTACH;FMTTYPE=image/jpeg:https://visitpikeville.com/wp-content/uploads/2026/02/podcast.jpg
END:VEVENT
BEGIN:VEVENT
DTSTART;TZID=America/Kentucky/Louisville:20260317T173000
DTEND;TZID=America/Kentucky/Louisville:20260317T184500
DTSTAMP:20260421T085416
CREATED:20260105T131613Z
LAST-MODIFIED:20260105T131613Z
UID:72211-1773768600-1773773100@visitpikeville.com
SUMMARY:Jazz Hands with Jen! (Grades 1-6)
DESCRIPTION:Feb 17th – Mar 27th\, 2026 \nINSTRUCTOR: JENNIFER HARTSOCK \n\n\n\n\n✨ Get ready to sing\, dance\, and shine in Jazz Hands with Jen — a high-energy musical theatre workshop at the Appalachian Center for the Arts Academy! \nThis spring\, we’re bringing the magic of Disney’s High School Musical to life with the anthem “We’re All in This Together.” Students will learn a full production number to perform in our end-of-session Show & Tell Showcase — a celebration of teamwork\, creativity\, and confidence on stage. \nNo experience required — just bring your enthusiasm\, your voice\, your moves\, and your team spirit! 🎶✨
URL:https://visitpikeville.com/event/jazz-hands-with-jen-grades-1-6-2-2-2-2/
LOCATION:Appalachian Center for the Arts\, 218 2nd St\,\, Pikeville\, Ky\, 41501
CATEGORIES:The Appalachian Center for the Arts
ATTACH;FMTTYPE=image/jpeg:https://visitpikeville.com/wp-content/uploads/2026/01/jazz-hands.jpg
END:VEVENT
BEGIN:VEVENT
DTSTART;TZID=America/Kentucky/Louisville:20260317T173000
DTEND;TZID=America/Kentucky/Louisville:20260317T193000
DTSTAMP:20260421T085416
CREATED:20260316T141121Z
LAST-MODIFIED:20260316T141121Z
UID:73631-1773768600-1773775800@visitpikeville.com
SUMMARY:Open Wargaming Nights
DESCRIPTION:Miniatures ready? Dice in hand? Join us for our Open Wargaming Nights every Tuesday\, Thursday\, and Friday at 5:30PM! Where the tables are open and all armies are welcome! Whether you’re deep into a campaign or just learning the ropes\, it’s the perfect night to roll dice\, meet fellow generals\, and get some games in. Casual\, friendly\, and always a good time\, come wage war with us!
URL:https://visitpikeville.com/event/open-wargaming-nights/
LOCATION:The Gaming Co.\, 265 Hambley Boulevard\,\, Pikeville\, KY\, 41501\, United States
CATEGORIES:Other
ATTACH;FMTTYPE=image/jpeg:https://visitpikeville.com/wp-content/uploads/2026/03/open-wargaming-night.jpg
END:VEVENT
BEGIN:VEVENT
DTSTART;TZID=America/Kentucky/Louisville:20260317T183000
DTEND;TZID=America/Kentucky/Louisville:20260317T200000
DTSTAMP:20260421T085416
CREATED:20260105T132845Z
LAST-MODIFIED:20260105T132845Z
UID:72232-1773772200-1773777600@visitpikeville.com
SUMMARY:Classical Scene Study
DESCRIPTION:February 17th-March 27th\, 2026\nMeets: Tuesday / Thursday | 6:30 – 8:00pm\nCommunity Sharing: March 27th\, 2026\nInstructor: Crockett J. Ward \nDive into the classics\, from Shakespeare to Lorraine Hansberry with some Arthur Miller thrown in. This class will revolve around exploring a variety of classical texts with the intention of truthful\, period appropriate responses and performance. If you can learn to cook pasta\, or pay rent\, you can learn how to approach classical texts with grace and supported actions. There will be a performance-based aspect to this class. Community sharing is March 27th\, 2026.
URL:https://visitpikeville.com/event/classical-scene-study-2-2-2-2-2-2-2-2/
LOCATION:Appalachian Center for the Arts\, 218 2nd St\,\, Pikeville\, Ky\, 41501
CATEGORIES:The Appalachian Center for the Arts
ATTACH;FMTTYPE=image/jpeg:https://visitpikeville.com/wp-content/uploads/2026/01/classical.jpg
END:VEVENT
BEGIN:VEVENT
DTSTART;TZID=America/Kentucky/Louisville:20260317T190000
DTEND;TZID=America/Kentucky/Louisville:20260317T203000
DTSTAMP:20260421T085416
CREATED:20260105T142352Z
LAST-MODIFIED:20260105T142352Z
UID:72248-1773774000-1773779400@visitpikeville.com
SUMMARY:Jazz Hands with Jen! (Grades 7-12)
DESCRIPTION:February 17th – March 27th\, 2026\nMeets: Tuesdays | 5:30 – 6:45pm\nInstructor: Jennifer Hartsock \n✨ Get ready to sing\, dance\, and shine in Jazz Hands with Jen — a high-energy musical theatre workshop at the Appalachian Center for the Arts Academy! \nThis spring\, we’re bringing the magic of Disney’s High School Musical to life with the anthem “We’re All in This Together.” Students will learn a full production number to perform in our end-of-session Show & Tell Showcase — a celebration of teamwork\, creativity\, and confidence on stage. \nNo experience required — just bring your enthusiasm\, your voice\, your moves\, and your team spirit! 🎶✨
URL:https://visitpikeville.com/event/jazz-hands-with-jen-grades-7-12-2-2-2-2/
LOCATION:Appalachian Center for the Arts\, 218 2nd St\,\, Pikeville\, Ky\, 41501
CATEGORIES:The Appalachian Center for the Arts
ATTACH;FMTTYPE=image/jpeg:https://visitpikeville.com/wp-content/uploads/2026/01/jazz-hands.jpg
END:VEVENT
END:VCALENDAR