BEGIN:VCALENDAR
VERSION:2.0
PRODID:-//Visit Pikeville - ECPv6.15.20//NONSGML v1.0//EN
CALSCALE:GREGORIAN
METHOD:PUBLISH
X-ORIGINAL-URL:https://visitpikeville.com
X-WR-CALDESC:Events for Visit Pikeville
REFRESH-INTERVAL;VALUE=DURATION:PT1H
X-Robots-Tag:noindex
X-PUBLISHED-TTL:PT1H
BEGIN:VTIMEZONE
TZID:America/Kentucky/Louisville
BEGIN:DAYLIGHT
TZOFFSETFROM:-0500
TZOFFSETTO:-0400
TZNAME:EDT
DTSTART:20250309T070000
END:DAYLIGHT
BEGIN:STANDARD
TZOFFSETFROM:-0400
TZOFFSETTO:-0500
TZNAME:EST
DTSTART:20251102T060000
END:STANDARD
BEGIN:DAYLIGHT
TZOFFSETFROM:-0500
TZOFFSETTO:-0400
TZNAME:EDT
DTSTART:20260308T070000
END:DAYLIGHT
BEGIN:STANDARD
TZOFFSETFROM:-0400
TZOFFSETTO:-0500
TZNAME:EST
DTSTART:20261101T060000
END:STANDARD
BEGIN:DAYLIGHT
TZOFFSETFROM:-0500
TZOFFSETTO:-0400
TZNAME:EDT
DTSTART:20270314T070000
END:DAYLIGHT
BEGIN:STANDARD
TZOFFSETFROM:-0400
TZOFFSETTO:-0500
TZNAME:EST
DTSTART:20271107T060000
END:STANDARD
END:VTIMEZONE
BEGIN:VEVENT
DTSTART;TZID=America/Kentucky/Louisville:20260302T170000
DTEND;TZID=America/Kentucky/Louisville:20260331T180000
DTSTAMP:20260421T074615
CREATED:20260223T160147Z
LAST-MODIFIED:20260223T160147Z
UID:73189-1772470800-1774980000@visitpikeville.com
SUMMARY:Basic Tumblers
DESCRIPTION:Basic Gymnastics for children ages 7\,8\,9 years of age.
URL:https://visitpikeville.com/event/basic-tumblers/
LOCATION:Pikeville YMCA\, 424 Bob Amos Dr\,\, Pikeville\, Ky\, 41501
CATEGORIES:Pikeville YMCA
ATTACH;FMTTYPE=image/jpeg:https://visitpikeville.com/wp-content/uploads/2026/02/tumbling.jpg
END:VEVENT
BEGIN:VEVENT
DTSTART;TZID=America/Kentucky/Louisville:20260302T170000
DTEND;TZID=America/Kentucky/Louisville:20260331T180000
DTSTAMP:20260421T074615
CREATED:20260223T160351Z
LAST-MODIFIED:20260223T160351Z
UID:73192-1772470800-1774980000@visitpikeville.com
SUMMARY:Gymnastics Tiny Tots
DESCRIPTION:Basic Gymnastics for children ages 3-4 years of age.
URL:https://visitpikeville.com/event/gymnastics-tiny-tots/
LOCATION:Pikeville YMCA\, 424 Bob Amos Dr\,\, Pikeville\, Ky\, 41501
CATEGORIES:Pikeville YMCA
ATTACH;FMTTYPE=image/jpeg:https://visitpikeville.com/wp-content/uploads/2026/02/tumbling.jpg
END:VEVENT
BEGIN:VEVENT
DTSTART;TZID=America/Kentucky/Louisville:20260302T180000
DTEND;TZID=America/Kentucky/Louisville:20260331T190000
DTSTAMP:20260421T074615
CREATED:20260223T160522Z
LAST-MODIFIED:20260223T160522Z
UID:73195-1772474400-1774983600@visitpikeville.com
SUMMARY:Gymnastics Tumble Tots
DESCRIPTION:Basic Gymnastics for children ages 5-6 years of age.
URL:https://visitpikeville.com/event/gymnastics-tumble-tots/
LOCATION:Pikeville YMCA\, 424 Bob Amos Dr\,\, Pikeville\, Ky\, 41501
CATEGORIES:Pikeville YMCA
ATTACH;FMTTYPE=image/jpeg:https://visitpikeville.com/wp-content/uploads/2026/02/tumbling.jpg
END:VEVENT
BEGIN:VEVENT
DTSTART;VALUE=DATE:20260307
DTEND;VALUE=DATE:20260308
DTSTAMP:20260421T074615
CREATED:20260119T131853Z
LAST-MODIFIED:20260119T131853Z
UID:72556-1772841600-1772927999@visitpikeville.com
SUMMARY:Men's Tennis vs Ashland University
DESCRIPTION:Game Day!
URL:https://visitpikeville.com/event/mens-tennis-vs-ashland-university/
LOCATION:Bob Amos Park\, 424 Bob Amos Dr\, Pikeville\, Ky\, 41501
CATEGORIES:UPike
ATTACH;FMTTYPE=image/png:https://visitpikeville.com/wp-content/uploads/2026/01/Screenshot-2026-01-19-at-8.15.55-AM.png
END:VEVENT
BEGIN:VEVENT
DTSTART;VALUE=DATE:20260307
DTEND;VALUE=DATE:20260308
DTSTAMP:20260421T074615
CREATED:20260119T132826Z
LAST-MODIFIED:20260119T132826Z
UID:72559-1772841600-1772927999@visitpikeville.com
SUMMARY:Women's Tennis vs King University (Tenn.)
DESCRIPTION:Game Day!
URL:https://visitpikeville.com/event/womens-tennis-vs-king-university-tenn/
LOCATION:Bob Amos Park\, 424 Bob Amos Dr\, Pikeville\, Ky\, 41501
CATEGORIES:UPike
ATTACH;FMTTYPE=image/png:https://visitpikeville.com/wp-content/uploads/2026/01/Screenshot-2026-01-19-at-8.19.09-AM.png
END:VEVENT
BEGIN:VEVENT
DTSTART;VALUE=DATE:20260307
DTEND;VALUE=DATE:20260308
DTSTAMP:20260421T074615
CREATED:20260119T133815Z
LAST-MODIFIED:20260119T133815Z
UID:72562-1772841600-1772927999@visitpikeville.com
SUMMARY:Women's Tennis vs Ashland University
DESCRIPTION:Game Day!
URL:https://visitpikeville.com/event/womens-tennis-vs-ashland-university/
LOCATION:Bob Amos Park\, 424 Bob Amos Dr\, Pikeville\, Ky\, 41501
CATEGORIES:UPike
ATTACH;FMTTYPE=image/png:https://visitpikeville.com/wp-content/uploads/2026/01/Screenshot-2026-01-19-at-8.28.46-AM.png
END:VEVENT
BEGIN:VEVENT
DTSTART;TZID=America/Kentucky/Louisville:20260307T110000
DTEND;TZID=America/Kentucky/Louisville:20260307T120000
DTSTAMP:20260421T074615
CREATED:20260302T150832Z
LAST-MODIFIED:20260302T150832Z
UID:73390-1772881200-1772884800@visitpikeville.com
SUMMARY:Story Time
DESCRIPTION:Story Time is for children ages 5 and under and features books\, action/movement\, songs\, and a craft. Story Time is held Thursdays at 11:00 and 2:00 and Saturdays at 11:00. \n\n\n\n\n\n\n  \nBesides being fun\, Story Time also helps develop early literacy and school readiness skills through reading\, singing\, listening\, playing\, and social interaction. This program lasts approximately 30 minutes\, and caregivers and children are encouraged to linger in the library afterwards to further socialize and choose books to take home. \n  \nStory Time begins the first week of September and ends the first week of May.
URL:https://visitpikeville.com/event/story-time-2-2-2-2-2-2-2-2-2-2-2-2-2-2-2-2-2-2-2-2-2-2-2-2-2-2-2-2-2-2-2-2-2-2-2-2-2-2-2-2-2-2-2-2-2-2-2-2-2-2-2-2-2-2-2-3-2-2-2-2-2-2-2-2-2-2-2-2-2-2-2-2-2-2-2-2-2-2-2-2-2-2-2-2-2-2-2-2-2-2-2-2-2-56/
LOCATION:Pike County Public Library\, 126 Lee Avenue\, Pikeville\, KY\, 41501\, United States
CATEGORIES:Pike County Public Library
ATTACH;FMTTYPE=image/png:https://visitpikeville.com/wp-content/uploads/2025/10/Story_Time_Schedule_25.png
END:VEVENT
BEGIN:VEVENT
DTSTART;TZID=America/Kentucky/Louisville:20260307T120000
DTEND;TZID=America/Kentucky/Louisville:20260307T140000
DTSTAMP:20260421T074615
CREATED:20251117T183359Z
LAST-MODIFIED:20251117T183359Z
UID:71345-1772884800-1772892000@visitpikeville.com
SUMMARY:Baseball vs Spartanburg Methodist College
DESCRIPTION:Game Day!
URL:https://visitpikeville.com/event/baseball-vs-spartanburg-methodist-college-2/
LOCATION:Johnnie LeMaster Field\, 118 W River Dr\,\, Pikeville\, KY\, 41501\, United States
CATEGORIES:UPike
ATTACH;FMTTYPE=image/png:https://visitpikeville.com/wp-content/uploads/2025/11/Screenshot-2025-11-17-at-1.31.30-PM.png
END:VEVENT
BEGIN:VEVENT
DTSTART;TZID=America/Kentucky/Louisville:20260307T120000
DTEND;TZID=America/Kentucky/Louisville:20260307T160000
DTSTAMP:20260421T074615
CREATED:20260105T120509Z
LAST-MODIFIED:20260105T124758Z
UID:72139-1772884800-1772899200@visitpikeville.com
SUMMARY:Embodied Poetics
DESCRIPTION:February 16th – March 27th\, 2026\nMeets: Saturdays | 12:00 – 4:00pm\nInstructor: Mark Hatfield \nDiscover the power of devised theatre — a collaborative\, actor-driven approach to creating original performance. In this six-week Saturday course\, you’ll learn how to build theatre from the ground up using improvisation\, physical exploration\, storytelling\, and ensemble techniques. No prior experience with devising is needed: you’ll gain practical acting skills such as presence\, imagination\, adaptability\, and embodied expression while contributing to the creation of a brand-new piece. The course culminates in a final showing of the work developed together\, giving you hands-on experience in the creative process from first spark to performance.
URL:https://visitpikeville.com/event/embodied-poetics/
LOCATION:Appalachian Center for the Arts\, 218 2nd St\,\, Pikeville\, Ky\, 41501
CATEGORIES:The Appalachian Center for the Arts
ATTACH;FMTTYPE=image/jpeg:https://visitpikeville.com/wp-content/uploads/2026/01/embodied.jpg
END:VEVENT
BEGIN:VEVENT
DTSTART;TZID=America/Kentucky/Louisville:20260307T130000
DTEND;TZID=America/Kentucky/Louisville:20260307T150000
DTSTAMP:20260421T074615
CREATED:20260302T160716Z
LAST-MODIFIED:20260302T160716Z
UID:73450-1772888400-1772895600@visitpikeville.com
SUMMARY:FAMILY PAINT
DESCRIPTION:Join us Saturday\, March 7th at 1:00 PM for a FUN & COLORFUL Family Paint Class at 2 Broke Art Teachers – Pikeville\, Kentucky!\n\n\n Kids & Adults\n 11×14 Canvas\n Just $20\n\n\nPick your favorite design (A–F) From bunnies and mushrooms to sunshine and magical owls — there’s something for everyone!
URL:https://visitpikeville.com/event/family-paint-2/
LOCATION:2 Broke Art Teachers\, 4505 Weddington Square\,\, Pikeville\, KY\, 41501\, United States
CATEGORIES:Other
ATTACH;FMTTYPE=image/jpeg:https://visitpikeville.com/wp-content/uploads/2026/03/family-paint-7.jpg
END:VEVENT
BEGIN:VEVENT
DTSTART;TZID=America/Kentucky/Louisville:20260307T150000
DTEND;TZID=America/Kentucky/Louisville:20260307T170000
DTSTAMP:20260421T074615
CREATED:20251117T183436Z
LAST-MODIFIED:20251117T183436Z
UID:71347-1772895600-1772902800@visitpikeville.com
SUMMARY:Baseball vs Spartanburg Methodist College
DESCRIPTION:Game Day!
URL:https://visitpikeville.com/event/baseball-vs-spartanburg-methodist-college-2-2/
LOCATION:Johnnie LeMaster Field\, 118 W River Dr\,\, Pikeville\, KY\, 41501\, United States
CATEGORIES:UPike
ATTACH;FMTTYPE=image/png:https://visitpikeville.com/wp-content/uploads/2025/11/Screenshot-2025-11-17-at-1.31.30-PM.png
END:VEVENT
BEGIN:VEVENT
DTSTART;TZID=America/Kentucky/Louisville:20260307T170000
DTEND;TZID=America/Kentucky/Louisville:20260307T183000
DTSTAMP:20260421T074615
CREATED:20260302T125723Z
LAST-MODIFIED:20260302T125723Z
UID:73292-1772902800-1772908200@visitpikeville.com
SUMMARY:15th Region Basketball Tournament
DESCRIPTION:Game Day!!
URL:https://visitpikeville.com/event/15th-region-basketball-tournament-7-2-2-2-2-2-2-2-2-2-2/
LOCATION:Appalachian Wireless Arena\, 126 Main Street\, Pikeville\, Ky\, 41501
CATEGORIES:Appalachian Wireless Arena
ATTACH;FMTTYPE=image/jpeg:https://visitpikeville.com/wp-content/uploads/2026/03/15region.jpg
END:VEVENT
BEGIN:VEVENT
DTSTART;TZID=America/Kentucky/Louisville:20260307T170000
DTEND;TZID=America/Kentucky/Louisville:20260307T190000
DTSTAMP:20260421T074615
CREATED:20260302T160845Z
LAST-MODIFIED:20260302T160845Z
UID:73453-1772902800-1772910000@visitpikeville.com
SUMMARY:Coal Country\, Let’s Paint!
DESCRIPTION:Our Coal Miner Paint Class is coming up and this one hits close to home here in Pikeville! \n\n\nJoin us as we paint this powerful silhouette step-by-step — glowing headlamp and all!  It’s bold\, meaningful\, and beginner friendly!\n\n\n Saturday\, March 7th at 5:00 PM\n Tuesday\, March 10th at 6:00 PM\n $25 per painter\n\n\nWhether you’re painting in honor of a miner you love or just proud of our Appalachian roots\, this one is special. \n\n\nSeats are limited and these coal miner classes always fill fast!
URL:https://visitpikeville.com/event/coal-country-lets-paint/
LOCATION:2 Broke Art Teachers\, 4505 Weddington Square\,\, Pikeville\, KY\, 41501\, United States
CATEGORIES:Other
ATTACH;FMTTYPE=image/jpeg:https://visitpikeville.com/wp-content/uploads/2026/03/coal-miner.jpg
END:VEVENT
BEGIN:VEVENT
DTSTART;TZID=America/Kentucky/Louisville:20260307T191500
DTEND;TZID=America/Kentucky/Louisville:20260307T203000
DTSTAMP:20260421T074615
CREATED:20260302T125846Z
LAST-MODIFIED:20260302T125846Z
UID:73294-1772910900-1772915400@visitpikeville.com
SUMMARY:15th Region Basketball Tournament
DESCRIPTION:Game Day!!
URL:https://visitpikeville.com/event/15th-region-basketball-tournament-7-2-2-2-2-2-2-2-2-2-2-2/
LOCATION:Appalachian Wireless Arena\, 126 Main Street\, Pikeville\, Ky\, 41501
CATEGORIES:Appalachian Wireless Arena
ATTACH;FMTTYPE=image/jpeg:https://visitpikeville.com/wp-content/uploads/2026/03/15region.jpg
END:VEVENT
BEGIN:VEVENT
DTSTART;TZID=America/Kentucky/Louisville:20260307T193000
DTEND;TZID=America/Kentucky/Louisville:20260307T213000
DTSTAMP:20260421T074615
CREATED:20260119T153811Z
LAST-MODIFIED:20260119T153811Z
UID:72614-1772911800-1772919000@visitpikeville.com
SUMMARY:Little Women
DESCRIPTION:The ticket link is LIVE! Make plans now to see Little Women in the auditorium of Pikeville High School beginning February 20th through March 8th. Friday and Saturday nights at 7:30p.m. and Sunday afternoons at 3p.m. Reserve your $12 tickets now by following the link below!https://checkout.square.site/…/B7VUBBA4JABWNQMPY4N5VBKY
URL:https://visitpikeville.com/event/little-women-2-2-2-2/
LOCATION:Pikeville High School\, 120 Championship Dr\,\, Pikeville\, KY\, 41501\, United States
CATEGORIES:Artists Collaborative Theatre
ATTACH;FMTTYPE=image/jpeg:https://visitpikeville.com/wp-content/uploads/2026/01/little-women.jpg
END:VEVENT
BEGIN:VEVENT
DTSTART;TZID=America/Kentucky/Louisville:20260307T204500
DTEND;TZID=America/Kentucky/Louisville:20260307T221500
DTSTAMP:20260421T074615
CREATED:20260302T130036Z
LAST-MODIFIED:20260302T130036Z
UID:73296-1772916300-1772921700@visitpikeville.com
SUMMARY:15th Region Basketball Tournament
DESCRIPTION:Game Day!!
URL:https://visitpikeville.com/event/15th-region-basketball-tournament-7-2-2-2-2-2-2-2-2-2-2-2-2/
LOCATION:Appalachian Wireless Arena\, 126 Main Street\, Pikeville\, Ky\, 41501
CATEGORIES:Appalachian Wireless Arena
ATTACH;FMTTYPE=image/jpeg:https://visitpikeville.com/wp-content/uploads/2026/03/15region.jpg
END:VEVENT
END:VCALENDAR