BEGIN:VCALENDAR
VERSION:2.0
PRODID:-//Visit Pikeville - ECPv6.15.20//NONSGML v1.0//EN
CALSCALE:GREGORIAN
METHOD:PUBLISH
X-ORIGINAL-URL:https://visitpikeville.com
X-WR-CALDESC:Events for Visit Pikeville
REFRESH-INTERVAL;VALUE=DURATION:PT1H
X-Robots-Tag:noindex
X-PUBLISHED-TTL:PT1H
BEGIN:VTIMEZONE
TZID:America/Kentucky/Louisville
BEGIN:DAYLIGHT
TZOFFSETFROM:-0500
TZOFFSETTO:-0400
TZNAME:EDT
DTSTART:20250309T070000
END:DAYLIGHT
BEGIN:STANDARD
TZOFFSETFROM:-0400
TZOFFSETTO:-0500
TZNAME:EST
DTSTART:20251102T060000
END:STANDARD
BEGIN:DAYLIGHT
TZOFFSETFROM:-0500
TZOFFSETTO:-0400
TZNAME:EDT
DTSTART:20260308T070000
END:DAYLIGHT
BEGIN:STANDARD
TZOFFSETFROM:-0400
TZOFFSETTO:-0500
TZNAME:EST
DTSTART:20261101T060000
END:STANDARD
BEGIN:DAYLIGHT
TZOFFSETFROM:-0500
TZOFFSETTO:-0400
TZNAME:EDT
DTSTART:20270314T070000
END:DAYLIGHT
BEGIN:STANDARD
TZOFFSETFROM:-0400
TZOFFSETTO:-0500
TZNAME:EST
DTSTART:20271107T060000
END:STANDARD
END:VTIMEZONE
BEGIN:VEVENT
DTSTART;TZID=America/Kentucky/Louisville:20260302T170000
DTEND;TZID=America/Kentucky/Louisville:20260331T180000
DTSTAMP:20260421T102218
CREATED:20260223T160147Z
LAST-MODIFIED:20260223T160147Z
UID:73189-1772470800-1774980000@visitpikeville.com
SUMMARY:Basic Tumblers
DESCRIPTION:Basic Gymnastics for children ages 7\,8\,9 years of age.
URL:https://visitpikeville.com/event/basic-tumblers/
LOCATION:Pikeville YMCA\, 424 Bob Amos Dr\,\, Pikeville\, Ky\, 41501
CATEGORIES:Pikeville YMCA
ATTACH;FMTTYPE=image/jpeg:https://visitpikeville.com/wp-content/uploads/2026/02/tumbling.jpg
END:VEVENT
BEGIN:VEVENT
DTSTART;TZID=America/Kentucky/Louisville:20260302T170000
DTEND;TZID=America/Kentucky/Louisville:20260331T180000
DTSTAMP:20260421T102218
CREATED:20260223T160351Z
LAST-MODIFIED:20260223T160351Z
UID:73192-1772470800-1774980000@visitpikeville.com
SUMMARY:Gymnastics Tiny Tots
DESCRIPTION:Basic Gymnastics for children ages 3-4 years of age.
URL:https://visitpikeville.com/event/gymnastics-tiny-tots/
LOCATION:Pikeville YMCA\, 424 Bob Amos Dr\,\, Pikeville\, Ky\, 41501
CATEGORIES:Pikeville YMCA
ATTACH;FMTTYPE=image/jpeg:https://visitpikeville.com/wp-content/uploads/2026/02/tumbling.jpg
END:VEVENT
BEGIN:VEVENT
DTSTART;TZID=America/Kentucky/Louisville:20260302T180000
DTEND;TZID=America/Kentucky/Louisville:20260331T190000
DTSTAMP:20260421T102218
CREATED:20260223T160522Z
LAST-MODIFIED:20260223T160522Z
UID:73195-1772474400-1774983600@visitpikeville.com
SUMMARY:Gymnastics Tumble Tots
DESCRIPTION:Basic Gymnastics for children ages 5-6 years of age.
URL:https://visitpikeville.com/event/gymnastics-tumble-tots/
LOCATION:Pikeville YMCA\, 424 Bob Amos Dr\,\, Pikeville\, Ky\, 41501
CATEGORIES:Pikeville YMCA
ATTACH;FMTTYPE=image/jpeg:https://visitpikeville.com/wp-content/uploads/2026/02/tumbling.jpg
END:VEVENT
BEGIN:VEVENT
DTSTART;TZID=America/Kentucky/Louisville:20260305T110000
DTEND;TZID=America/Kentucky/Louisville:20260305T120000
DTSTAMP:20260421T102218
CREATED:20260302T150654Z
LAST-MODIFIED:20260302T150654Z
UID:73386-1772708400-1772712000@visitpikeville.com
SUMMARY:Story Time
DESCRIPTION:Story Time is for children ages 5 and under and features books\, action/movement\, songs\, and a craft. Story Time is held Thursdays at 11:00 and 2:00 and Saturdays at 11:00. \n\n\n\n\n\n\n  \nBesides being fun\, Story Time also helps develop early literacy and school readiness skills through reading\, singing\, listening\, playing\, and social interaction. This program lasts approximately 30 minutes\, and caregivers and children are encouraged to linger in the library afterwards to further socialize and choose books to take home. \n  \nStory Time begins the first week of September and ends the first week of May.
URL:https://visitpikeville.com/event/story-time-2-2-2-2-2-2-2-2-2-2-2-2-2-2-2-2-2-2-2-2-2-2-2-2-2-2-2-2-2-2-2-2-2-2-2-2-2-2-2-2-2-2-2-2-2-2-2-2-2-2-2-2-2-2-2-3-2-2-2-2-2-2-2-2-2-2-2-2-2-2-2-2-2-2-2-2-2-2-2-2-2-2-2-2-2-2-2-2-2-2-2-2-2-54/
LOCATION:Pike County Public Library\, 126 Lee Avenue\, Pikeville\, KY\, 41501\, United States
CATEGORIES:Pike County Public Library
ATTACH;FMTTYPE=image/png:https://visitpikeville.com/wp-content/uploads/2025/10/Story_Time_Schedule_25.png
END:VEVENT
BEGIN:VEVENT
DTSTART;TZID=America/Kentucky/Louisville:20260305T140000
DTEND;TZID=America/Kentucky/Louisville:20260305T150000
DTSTAMP:20260421T102218
CREATED:20260302T150736Z
LAST-MODIFIED:20260302T150736Z
UID:73388-1772719200-1772722800@visitpikeville.com
SUMMARY:Story Time
DESCRIPTION:Story Time is for children ages 5 and under and features books\, action/movement\, songs\, and a craft. Story Time is held Thursdays at 11:00 and 2:00 and Saturdays at 11:00. \n\n\n\n\n\n\n  \nBesides being fun\, Story Time also helps develop early literacy and school readiness skills through reading\, singing\, listening\, playing\, and social interaction. This program lasts approximately 30 minutes\, and caregivers and children are encouraged to linger in the library afterwards to further socialize and choose books to take home. \n  \nStory Time begins the first week of September and ends the first week of May.
URL:https://visitpikeville.com/event/story-time-2-2-2-2-2-2-2-2-2-2-2-2-2-2-2-2-2-2-2-2-2-2-2-2-2-2-2-2-2-2-2-2-2-2-2-2-2-2-2-2-2-2-2-2-2-2-2-2-2-2-2-2-2-2-2-3-2-2-2-2-2-2-2-2-2-2-2-2-2-2-2-2-2-2-2-2-2-2-2-2-2-2-2-2-2-2-2-2-2-2-2-2-2-55/
LOCATION:Pike County Public Library\, 126 Lee Avenue\, Pikeville\, KY\, 41501\, United States
CATEGORIES:Pike County Public Library
ATTACH;FMTTYPE=image/png:https://visitpikeville.com/wp-content/uploads/2025/10/Story_Time_Schedule_25.png
END:VEVENT
BEGIN:VEVENT
DTSTART;TZID=America/Kentucky/Louisville:20260305T140000
DTEND;TZID=America/Kentucky/Louisville:20260305T160000
DTSTAMP:20260421T102218
CREATED:20260119T120352Z
LAST-MODIFIED:20260119T120352Z
UID:72547-1772719200-1772726400@visitpikeville.com
SUMMARY:Men's Tennis vs Truett McConnell University
DESCRIPTION:Game Day!
URL:https://visitpikeville.com/event/mens-tennis-vs-truett-mcconnell-university-2/
LOCATION:Bob Amos Park\, 424 Bob Amos Dr\, Pikeville\, Ky\, 41501
CATEGORIES:UPike
ATTACH;FMTTYPE=image/png:https://visitpikeville.com/wp-content/uploads/2026/01/Screenshot-2026-01-19-at-7.01.40-AM.png
END:VEVENT
BEGIN:VEVENT
DTSTART;TZID=America/Kentucky/Louisville:20260305T140000
DTEND;TZID=America/Kentucky/Louisville:20260305T160000
DTSTAMP:20260421T102218
CREATED:20260119T120526Z
LAST-MODIFIED:20260119T120526Z
UID:72550-1772719200-1772726400@visitpikeville.com
SUMMARY:Women's Tennis vs Truett McConnell University
DESCRIPTION:Game Day!
URL:https://visitpikeville.com/event/womens-tennis-vs-truett-mcconnell-university-2/
LOCATION:Bob Amos Park\, 424 Bob Amos Dr\, Pikeville\, Ky\, 41501
CATEGORIES:UPike
ATTACH;FMTTYPE=image/png:https://visitpikeville.com/wp-content/uploads/2026/01/Screenshot-2026-01-19-at-7.04.01-AM.png
END:VEVENT
BEGIN:VEVENT
DTSTART;TZID=America/Kentucky/Louisville:20260305T160000
DTEND;TZID=America/Kentucky/Louisville:20260305T170000
DTSTAMP:20260421T102218
CREATED:20260302T145744Z
LAST-MODIFIED:20260302T145744Z
UID:73370-1772726400-1772730000@visitpikeville.com
SUMMARY:Teen Guitar Class 2
DESCRIPTION:Beginner guitar lessons for patrons ages 13-17. This class meets weekly on Thursdays at 4:00. Please bring your own instrument. Registration required.
URL:https://visitpikeville.com/event/teen-guitar-class-2-3-2-2-2-2-2-2/
LOCATION:Pike County Public Library\, 126 Lee Avenue\, Pikeville\, KY\, 41501\, United States
CATEGORIES:Pike County Public Library
ATTACH;FMTTYPE=image/png:https://visitpikeville.com/wp-content/uploads/2026/01/music.png
END:VEVENT
BEGIN:VEVENT
DTSTART;TZID=America/Kentucky/Louisville:20260305T170000
DTEND;TZID=America/Kentucky/Louisville:20260305T180000
DTSTAMP:20260421T102218
CREATED:20260105T122335Z
LAST-MODIFIED:20260105T122335Z
UID:72163-1772730000-1772733600@visitpikeville.com
SUMMARY:From the Page to the Stage
DESCRIPTION:February 17th-March 27th\, 2026\nMeets: Tuesday / Thursday | 5:00 – 6:00pm\nCommunity Sharing: March 27th\, 2026\nInstructor: Crockett J. Ward \nThis class is perfect for those individuals who want MORE out of a script. In this class\, actors\, writers\, directors\, literary enthusiasts\, all will learn how to dissect a script to the core and build a world full of life. Whether your desire is to be a better actor\, or you just want something to investigate\, we have space for you. The purpose will be developing their own method for analysis through the work of Michael Shurtleff and the 12 guideposts. There will be a performance-based aspect to this class. Community sharing is March 27th\, 2026.
URL:https://visitpikeville.com/event/from-the-page-to-the-stage-2-2-2-2-2/
LOCATION:Appalachian Center for the Arts\, 218 2nd St\,\, Pikeville\, Ky\, 41501
CATEGORIES:The Appalachian Center for the Arts
ATTACH;FMTTYPE=image/jpeg:https://visitpikeville.com/wp-content/uploads/2026/01/page.jpg
END:VEVENT
BEGIN:VEVENT
DTSTART;TZID=America/Kentucky/Louisville:20260305T170000
DTEND;TZID=America/Kentucky/Louisville:20260305T180000
DTSTAMP:20260421T102218
CREATED:20260302T150236Z
LAST-MODIFIED:20260302T150236Z
UID:73378-1772730000-1772733600@visitpikeville.com
SUMMARY:Music Theory Lecture
DESCRIPTION:Understanding how music works will give you the tools you need to write riffs\, songs\, and solos\, and learn to improvise in a friendly hands-on environment.
URL:https://visitpikeville.com/event/music-theory-lecture-2-2-2-2-2-2-2/
LOCATION:Pike County Public Library\, 126 Lee Avenue\, Pikeville\, KY\, 41501\, United States
CATEGORIES:Pike County Public Library
ATTACH;FMTTYPE=image/png:https://visitpikeville.com/wp-content/uploads/2026/01/music.png
END:VEVENT
BEGIN:VEVENT
DTSTART;TZID=America/Kentucky/Louisville:20260305T180000
DTEND;TZID=America/Kentucky/Louisville:20260305T190000
DTSTAMP:20260421T102218
CREATED:20260302T134451Z
LAST-MODIFIED:20260302T134451Z
UID:73328-1772733600-1772737200@visitpikeville.com
SUMMARY:Tax Credit Program
DESCRIPTION:Attention Downtown Property Owners!\n\n\nWe wanted to share an important opportunity coming up. The Kentucky Heritage Council (KHC) is hosting a FREE\, virtual webinar about Kentucky’s Historic Rehabilitation TAX Credit Program on Thursday\, March 5\, 2026\, from 6:00–7:00 PM ET. It’s designed especially for those who OWN property in the Downtown Historic District.\n\n\nThis session is open to the public for FREE and will give an easy-to-understand overview of how historic tax credits work\, who qualifies\, and how these incentives can support rehabilitation and preservation projects. If you’ve ever considered improvements to your historic property\, this webinar could be incredibly valuable!\n\n\n Date: March 5\n Time: 6:00–7:00 PM\n Format: Online Webinar\n\n\nYou may register for this webinar at:\nhttps://bit.ly/3ZnrbsK\n\n\nPLEASE help spread the word and share with other property owners who may benefit.\n\n\nLet’s continue investing in the future—and history—of our downtown!
URL:https://visitpikeville.com/event/tax-credit-program/
LOCATION:Online Event\, Pikeville\, KY\, 41501\, United States
CATEGORIES:Pikeville Main Street
ATTACH;FMTTYPE=image/jpeg:https://visitpikeville.com/wp-content/uploads/2026/03/tax-credit.jpg
END:VEVENT
BEGIN:VEVENT
DTSTART;TZID=America/Kentucky/Louisville:20260305T181500
DTEND;TZID=America/Kentucky/Louisville:20260305T201500
DTSTAMP:20260421T102218
CREATED:20260302T132432Z
LAST-MODIFIED:20260302T132432Z
UID:73306-1772734500-1772741700@visitpikeville.com
SUMMARY:Line Dancing
DESCRIPTION:No Sign-Up Required
URL:https://visitpikeville.com/event/line-dancing-7/
LOCATION:Pike Co. Extension Community Arts\, 148 Trivette Dr\, Pikeville\, KY\, United States
CATEGORIES:Pike County Extension Community Arts
ATTACH;FMTTYPE=image/jpeg:https://visitpikeville.com/wp-content/uploads/2026/03/line-dancing.jpg
END:VEVENT
BEGIN:VEVENT
DTSTART;TZID=America/Kentucky/Louisville:20260305T183000
DTEND;TZID=America/Kentucky/Louisville:20260305T200000
DTSTAMP:20260421T102218
CREATED:20260105T132552Z
LAST-MODIFIED:20260105T132552Z
UID:72226-1772735400-1772740800@visitpikeville.com
SUMMARY:Classical Scene Study
DESCRIPTION:February 17th-March 27th\, 2026\nMeets: Tuesday / Thursday | 6:30 – 8:00pm\nCommunity Sharing: March 27th\, 2026\nInstructor: Crockett J. Ward \nDive into the classics\, from Shakespeare to Lorraine Hansberry with some Arthur Miller thrown in. This class will revolve around exploring a variety of classical texts with the intention of truthful\, period appropriate responses and performance. If you can learn to cook pasta\, or pay rent\, you can learn how to approach classical texts with grace and supported actions. There will be a performance-based aspect to this class. Community sharing is March 27th\, 2026.
URL:https://visitpikeville.com/event/classical-scene-study-2-2-2-2-2/
LOCATION:Appalachian Center for the Arts\, 218 2nd St\,\, Pikeville\, Ky\, 41501
CATEGORIES:The Appalachian Center for the Arts
ATTACH;FMTTYPE=image/jpeg:https://visitpikeville.com/wp-content/uploads/2026/01/classical.jpg
END:VEVENT
BEGIN:VEVENT
DTSTART;TZID=America/Kentucky/Louisville:20260305T183000
DTEND;TZID=America/Kentucky/Louisville:20260305T200000
DTSTAMP:20260421T102218
CREATED:20260302T125208Z
LAST-MODIFIED:20260302T125208Z
UID:73284-1772735400-1772740800@visitpikeville.com
SUMMARY:15th Region Basketball Tournament
DESCRIPTION:Game Day!!
URL:https://visitpikeville.com/event/15th-region-basketball-tournament-7-2-2-2-2-2-2/
LOCATION:Appalachian Wireless Arena\, 126 Main Street\, Pikeville\, Ky\, 41501
CATEGORIES:Appalachian Wireless Arena
ATTACH;FMTTYPE=image/jpeg:https://visitpikeville.com/wp-content/uploads/2026/03/15region.jpg
END:VEVENT
BEGIN:VEVENT
DTSTART;TZID=America/Kentucky/Louisville:20260305T201500
DTEND;TZID=America/Kentucky/Louisville:20260305T220000
DTSTAMP:20260421T102218
CREATED:20260302T125309Z
LAST-MODIFIED:20260302T125309Z
UID:73286-1772741700-1772748000@visitpikeville.com
SUMMARY:15th Region Basketball Tournament
DESCRIPTION:Game Day!!
URL:https://visitpikeville.com/event/15th-region-basketball-tournament-7-2-2-2-2-2-2-2/
LOCATION:Appalachian Wireless Arena\, 126 Main Street\, Pikeville\, Ky\, 41501
CATEGORIES:Appalachian Wireless Arena
ATTACH;FMTTYPE=image/jpeg:https://visitpikeville.com/wp-content/uploads/2026/03/15region.jpg
END:VEVENT
END:VCALENDAR