BEGIN:VCALENDAR
VERSION:2.0
PRODID:-//Visit Pikeville - ECPv6.15.20//NONSGML v1.0//EN
CALSCALE:GREGORIAN
METHOD:PUBLISH
X-ORIGINAL-URL:https://visitpikeville.com
X-WR-CALDESC:Events for Visit Pikeville
REFRESH-INTERVAL;VALUE=DURATION:PT1H
X-Robots-Tag:noindex
X-PUBLISHED-TTL:PT1H
BEGIN:VTIMEZONE
TZID:America/Kentucky/Louisville
BEGIN:DAYLIGHT
TZOFFSETFROM:-0500
TZOFFSETTO:-0400
TZNAME:EDT
DTSTART:20250309T070000
END:DAYLIGHT
BEGIN:STANDARD
TZOFFSETFROM:-0400
TZOFFSETTO:-0500
TZNAME:EST
DTSTART:20251102T060000
END:STANDARD
BEGIN:DAYLIGHT
TZOFFSETFROM:-0500
TZOFFSETTO:-0400
TZNAME:EDT
DTSTART:20260308T070000
END:DAYLIGHT
BEGIN:STANDARD
TZOFFSETFROM:-0400
TZOFFSETTO:-0500
TZNAME:EST
DTSTART:20261101T060000
END:STANDARD
BEGIN:DAYLIGHT
TZOFFSETFROM:-0500
TZOFFSETTO:-0400
TZNAME:EDT
DTSTART:20270314T070000
END:DAYLIGHT
BEGIN:STANDARD
TZOFFSETFROM:-0400
TZOFFSETTO:-0500
TZNAME:EST
DTSTART:20271107T060000
END:STANDARD
END:VTIMEZONE
BEGIN:VEVENT
DTSTART;VALUE=DATE:20260302
DTEND;VALUE=DATE:20260303
DTSTAMP:20260421T132941
CREATED:20260119T120744Z
LAST-MODIFIED:20260119T120744Z
UID:72553-1772409600-1772495999@visitpikeville.com
SUMMARY:Men's Tennis vs King University (Tenn.)
DESCRIPTION:Game Day!
URL:https://visitpikeville.com/event/mens-tennis-vs-king-university-tenn/
LOCATION:Bob Amos Park\, 424 Bob Amos Dr\, Pikeville\, Ky\, 41501
CATEGORIES:UPike
ATTACH;FMTTYPE=image/png:https://visitpikeville.com/wp-content/uploads/2026/01/Screenshot-2026-01-19-at-7.06.16-AM.png
END:VEVENT
BEGIN:VEVENT
DTSTART;TZID=America/Kentucky/Louisville:20260302T051500
DTEND;TZID=America/Kentucky/Louisville:20260302T184500
DTSTAMP:20260421T132941
CREATED:20260105T123540Z
LAST-MODIFIED:20260105T124025Z
UID:72186-1772428500-1772477100@visitpikeville.com
SUMMARY:Scene Study Techniques
DESCRIPTION:February 16th – March 27th\, 2026\nMeets: Mondays / Fridays | 5:15 – 6:45pm\nPerformance: March 27th\, 2026\nInstructor: Audrey Kuykendall \nThis class will emphasize immediate connection to material and scene partners using cold reads from published works\, Sanford Meisner’s Repetition Exercise\, and Uta Hagen’s “Respect for Acting.” With engaging exercises\, any student can improve their listening\, observation\, empathy\, and deductive reasoning skills. A scene will be performed in an evening of sharing open to the community March 27th\, 2026.
URL:https://visitpikeville.com/event/scene-study-techniques-2-2-2-2/
LOCATION:Appalachian Center for the Arts\, 218 2nd St\,\, Pikeville\, Ky\, 41501
CATEGORIES:The Appalachian Center for the Arts
ATTACH;FMTTYPE=image/jpeg:https://visitpikeville.com/wp-content/uploads/2026/01/scene.jpg
END:VEVENT
BEGIN:VEVENT
DTSTART;TZID=America/Kentucky/Louisville:20260302T140000
DTEND;TZID=America/Kentucky/Louisville:20260302T150000
DTSTAMP:20260421T132941
CREATED:20260302T141144Z
LAST-MODIFIED:20260302T141144Z
UID:73334-1772460000-1772463600@visitpikeville.com
SUMMARY:Music Theory Class
DESCRIPTION:Understanding how music works will give you the tools you need to write riffs\, songs\, and solos\, and learn to improvise in a friendly hands-on environment. \n\n\n\n\n\n\n  \nClass is held every Monday at the Pike County Public Library (Lee Ave) at 2:00. \nNo previous knowledge of music theory or reading music is necessary\, but this class is for students who already know how to play a little bit.
URL:https://visitpikeville.com/event/music-theory-class-2-2-2-2/
LOCATION:Pike County Public Library\, 126 Lee Avenue\, Pikeville\, KY\, 41501\, United States
CATEGORIES:Pike County Public Library
ATTACH;FMTTYPE=image/png:https://visitpikeville.com/wp-content/uploads/2026/01/music.png
END:VEVENT
BEGIN:VEVENT
DTSTART;TZID=America/Kentucky/Louisville:20260302T163000
DTEND;TZID=America/Kentucky/Louisville:20260302T173000
DTSTAMP:20260421T132941
CREATED:20260302T144453Z
LAST-MODIFIED:20260302T144453Z
UID:73344-1772469000-1772472600@visitpikeville.com
SUMMARY:Adult Guitar Class 1
DESCRIPTION:Beginner guitar lessons for patrons ages 18+. This class meets weekly on Mondays at 4:30. Please bring your own instrument.
URL:https://visitpikeville.com/event/adult-guitar-class-4-2-2-2-2-2-2-2-2-2-2-2-2-2-3-3-2-2-2-2-2-2-2-2-2-2-2-2-2-2-2-2/
LOCATION:Pike County Public Library\, 126 Lee Avenue\, Pikeville\, KY\, 41501\, United States
CATEGORIES:Pike County Public Library
ATTACH;FMTTYPE=image/png:https://visitpikeville.com/wp-content/uploads/2025/05/theory.png
END:VEVENT
BEGIN:VEVENT
DTSTART;TZID=America/Kentucky/Louisville:20260302T170000
DTEND;TZID=America/Kentucky/Louisville:20260302T180000
DTSTAMP:20260421T132941
CREATED:20260302T151722Z
LAST-MODIFIED:20260302T151722Z
UID:73410-1772470800-1772474400@visitpikeville.com
SUMMARY:Alibis at The Book Club
DESCRIPTION:Alibis at The Book Club meets every other Monday at the Pike County Public Library (Lee Avenue). Join us for mystery\, thrills\, and lively discussion!
URL:https://visitpikeville.com/event/alibis-at-the-book-club-3-2-2-2/
LOCATION:Pike County Public Library\, 126 Lee Avenue\, Pikeville\, KY\, 41501\, United States
CATEGORIES:Pike County Public Library
ATTACH;FMTTYPE=image/png:https://visitpikeville.com/wp-content/uploads/2025/12/Alibis_at_The_Book_Club.png
END:VEVENT
BEGIN:VEVENT
DTSTART;TZID=America/Kentucky/Louisville:20260302T170000
DTEND;TZID=America/Kentucky/Louisville:20260331T180000
DTSTAMP:20260421T132941
CREATED:20260223T160147Z
LAST-MODIFIED:20260223T160147Z
UID:73189-1772470800-1774980000@visitpikeville.com
SUMMARY:Basic Tumblers
DESCRIPTION:Basic Gymnastics for children ages 7\,8\,9 years of age.
URL:https://visitpikeville.com/event/basic-tumblers/
LOCATION:Pikeville YMCA\, 424 Bob Amos Dr\,\, Pikeville\, Ky\, 41501
CATEGORIES:Pikeville YMCA
ATTACH;FMTTYPE=image/jpeg:https://visitpikeville.com/wp-content/uploads/2026/02/tumbling.jpg
END:VEVENT
BEGIN:VEVENT
DTSTART;TZID=America/Kentucky/Louisville:20260302T170000
DTEND;TZID=America/Kentucky/Louisville:20260331T180000
DTSTAMP:20260421T132941
CREATED:20260223T160351Z
LAST-MODIFIED:20260223T160351Z
UID:73192-1772470800-1774980000@visitpikeville.com
SUMMARY:Gymnastics Tiny Tots
DESCRIPTION:Basic Gymnastics for children ages 3-4 years of age.
URL:https://visitpikeville.com/event/gymnastics-tiny-tots/
LOCATION:Pikeville YMCA\, 424 Bob Amos Dr\,\, Pikeville\, Ky\, 41501
CATEGORIES:Pikeville YMCA
ATTACH;FMTTYPE=image/jpeg:https://visitpikeville.com/wp-content/uploads/2026/02/tumbling.jpg
END:VEVENT
BEGIN:VEVENT
DTSTART;TZID=America/Kentucky/Louisville:20260302T180000
DTEND;TZID=America/Kentucky/Louisville:20260331T190000
DTSTAMP:20260421T132942
CREATED:20260223T160522Z
LAST-MODIFIED:20260223T160522Z
UID:73195-1772474400-1774983600@visitpikeville.com
SUMMARY:Gymnastics Tumble Tots
DESCRIPTION:Basic Gymnastics for children ages 5-6 years of age.
URL:https://visitpikeville.com/event/gymnastics-tumble-tots/
LOCATION:Pikeville YMCA\, 424 Bob Amos Dr\,\, Pikeville\, Ky\, 41501
CATEGORIES:Pikeville YMCA
ATTACH;FMTTYPE=image/jpeg:https://visitpikeville.com/wp-content/uploads/2026/02/tumbling.jpg
END:VEVENT
BEGIN:VEVENT
DTSTART;TZID=America/Kentucky/Louisville:20260302T183000
DTEND;TZID=America/Kentucky/Louisville:20260302T200000
DTSTAMP:20260421T132942
CREATED:20260302T123355Z
LAST-MODIFIED:20260302T123355Z
UID:73271-1772476200-1772481600@visitpikeville.com
SUMMARY:15th Region Basketball Tournament
DESCRIPTION:Game Day!!
URL:https://visitpikeville.com/event/15th-region-basketball-tournament-7/
LOCATION:Appalachian Wireless Arena\, 126 Main Street\, Pikeville\, Ky\, 41501
CATEGORIES:Appalachian Wireless Arena
ATTACH;FMTTYPE=image/jpeg:https://visitpikeville.com/wp-content/uploads/2026/03/15region.jpg
END:VEVENT
BEGIN:VEVENT
DTSTART;TZID=America/Kentucky/Louisville:20260302T190000
DTEND;TZID=America/Kentucky/Louisville:20260302T200000
DTSTAMP:20260421T132942
CREATED:20260105T143034Z
LAST-MODIFIED:20260105T143034Z
UID:72261-1772478000-1772481600@visitpikeville.com
SUMMARY:Teen Improv (ages 12-18)
DESCRIPTION:February 16th – March 27th\, 2026\nMeets: Monday / Friday | 7:00 – 8:00pm\nCommunity Sharing: March 27th\, 2026\nInstructor: Crockett J. Ward \nThis class is dedicated to forming the foundation of improvisation. Whether you are an experienced actor or just looking to grow out of your comfort zone\, you will fit in. We will be covering a number of games and experiences to better hone the ideas of “yes\, and”\, “never no”\, and a host of other intricacies. The culmination of this class is an improv competition between the Teen Improvisers and the Adult Improvisers. If you are looking to have fun and make lifelong friends\, you have found the right class! There will be a performance-based aspect to this class. Community sharing is March 27th\, 2026.
URL:https://visitpikeville.com/event/teen-improv-ages-12-18-2-2-2-2/
LOCATION:Appalachian Center for the Arts\, 218 2nd St\,\, Pikeville\, Ky\, 41501
CATEGORIES:The Appalachian Center for the Arts
ATTACH;FMTTYPE=image/jpeg:https://visitpikeville.com/wp-content/uploads/2026/01/teen-improv.jpg
END:VEVENT
BEGIN:VEVENT
DTSTART;TZID=America/Kentucky/Louisville:20260302T201500
DTEND;TZID=America/Kentucky/Louisville:20260302T213000
DTSTAMP:20260421T132942
CREATED:20260105T144839Z
LAST-MODIFIED:20260105T144839Z
UID:72286-1772482500-1772487000@visitpikeville.com
SUMMARY:Adult Improv (ages 18+)
DESCRIPTION:February 16th – March 27th\, 2026\nMeets: Monday / Friday | 8:15 – 9:30pm\nCommunity Sharing: March 27th\, 2026\nInstructor: Crockett J. Ward \nThis improv class offers a unique opportunity to combine creativity\, spontaneity\, and performance in a thrilling\, interactive environment. By the end of the class\, you’ll not only have an array of new improvisation techniques\, but you’ll also have the thrilling experience of performing in a fun\, high-energy improv competition — a night of nonsense\, laughter\, and unforgettable moments. Whether you’re a seasoned performer or new to improv\, this class is designed for all skill levels who are ready to embrace the thrill of improvised competition. There will be a performance-based aspect to this class. Community sharing is March 27th\, 2026.
URL:https://visitpikeville.com/event/adult-improv-ages-18-6-2-2-2-2/
LOCATION:Appalachian Center for the Arts\, 218 2nd St\,\, Pikeville\, Ky\, 41501
CATEGORIES:The Appalachian Center for the Arts
ATTACH;FMTTYPE=image/jpeg:https://visitpikeville.com/wp-content/uploads/2026/01/adult-improv.jpg
END:VEVENT
BEGIN:VEVENT
DTSTART;TZID=America/Kentucky/Louisville:20260302T201500
DTEND;TZID=America/Kentucky/Louisville:20260302T220000
DTSTAMP:20260421T132942
CREATED:20260302T124446Z
LAST-MODIFIED:20260302T124446Z
UID:73274-1772482500-1772488800@visitpikeville.com
SUMMARY:15th Region Basketball Tournament
DESCRIPTION:Game Day!!
URL:https://visitpikeville.com/event/15th-region-basketball-tournament-7-2/
LOCATION:Appalachian Wireless Arena\, 126 Main Street\, Pikeville\, Ky\, 41501
CATEGORIES:Appalachian Wireless Arena
ATTACH;FMTTYPE=image/jpeg:https://visitpikeville.com/wp-content/uploads/2026/03/15region.jpg
END:VEVENT
END:VCALENDAR