BEGIN:VCALENDAR
VERSION:2.0
PRODID:-//Visit Pikeville - ECPv6.15.20//NONSGML v1.0//EN
CALSCALE:GREGORIAN
METHOD:PUBLISH
X-ORIGINAL-URL:https://visitpikeville.com
X-WR-CALDESC:Events for Visit Pikeville
REFRESH-INTERVAL;VALUE=DURATION:PT1H
X-Robots-Tag:noindex
X-PUBLISHED-TTL:PT1H
BEGIN:VTIMEZONE
TZID:America/Kentucky/Louisville
BEGIN:DAYLIGHT
TZOFFSETFROM:-0500
TZOFFSETTO:-0400
TZNAME:EDT
DTSTART:20250309T070000
END:DAYLIGHT
BEGIN:STANDARD
TZOFFSETFROM:-0400
TZOFFSETTO:-0500
TZNAME:EST
DTSTART:20251102T060000
END:STANDARD
BEGIN:DAYLIGHT
TZOFFSETFROM:-0500
TZOFFSETTO:-0400
TZNAME:EDT
DTSTART:20260308T070000
END:DAYLIGHT
BEGIN:STANDARD
TZOFFSETFROM:-0400
TZOFFSETTO:-0500
TZNAME:EST
DTSTART:20261101T060000
END:STANDARD
BEGIN:DAYLIGHT
TZOFFSETFROM:-0500
TZOFFSETTO:-0400
TZNAME:EDT
DTSTART:20270314T070000
END:DAYLIGHT
BEGIN:STANDARD
TZOFFSETFROM:-0400
TZOFFSETTO:-0500
TZNAME:EST
DTSTART:20271107T060000
END:STANDARD
END:VTIMEZONE
BEGIN:VEVENT
DTSTART;TZID=America/Kentucky/Louisville:20260226T110000
DTEND;TZID=America/Kentucky/Louisville:20260226T120000
DTSTAMP:20260421T162620
CREATED:20260209T183845Z
LAST-MODIFIED:20260209T183845Z
UID:72997-1772103600-1772107200@visitpikeville.com
SUMMARY:Story Time
DESCRIPTION:Story Time is for children ages 5 and under and features books\, action/movement\, songs\, and a craft. Story Time is held Thursdays at 11:00 and 2:00 and Saturdays at 11:00. \n\n\n\n\n\n\n  \nBesides being fun\, Story Time also helps develop early literacy and school readiness skills through reading\, singing\, listening\, playing\, and social interaction. This program lasts approximately 30 minutes\, and caregivers and children are encouraged to linger in the library afterwards to further socialize and choose books to take home. \n  \nStory Time begins the first week of September and ends the first week of May.
URL:https://visitpikeville.com/event/story-time-2-2-2-2-2-2-2-2-2-2-2-2-2-2-2-2-2-2-2-2-2-2-2-2-2-2-2-2-2-2-2-2-2-2-2-2-2-2-2-2-2-2-2-2-2-2-2-2-2-2-2-2-2-2-2-3-2-2-2-2-2-2-2-2-2-2-2-2-2-2-2-2-2-2-2-2-2-2-2-2-2-2-2-2-2-2-2-2-2-2-2-2-2-51/
LOCATION:Pike County Public Library\, 126 Lee Avenue\, Pikeville\, KY\, 41501\, United States
CATEGORIES:Pike County Public Library
ATTACH;FMTTYPE=image/png:https://visitpikeville.com/wp-content/uploads/2025/10/Story_Time_Schedule_25.png
END:VEVENT
BEGIN:VEVENT
DTSTART;TZID=America/Kentucky/Louisville:20260226T130000
DTEND;TZID=America/Kentucky/Louisville:20260226T150000
DTSTAMP:20260421T162620
CREATED:20260119T115742Z
LAST-MODIFIED:20260119T115742Z
UID:72541-1772110800-1772118000@visitpikeville.com
SUMMARY:Men's Tennis vs Midway University (Ky.)
DESCRIPTION:Game Day!
URL:https://visitpikeville.com/event/mens-tennis-vs-midway-university-ky-2/
LOCATION:Bob Amos Park\, 424 Bob Amos Dr\, Pikeville\, Ky\, 41501
CATEGORIES:UPike
ATTACH;FMTTYPE=image/png:https://visitpikeville.com/wp-content/uploads/2026/01/Screenshot-2026-01-19-at-6.55.39-AM.png
END:VEVENT
BEGIN:VEVENT
DTSTART;TZID=America/Kentucky/Louisville:20260226T130000
DTEND;TZID=America/Kentucky/Louisville:20260226T150000
DTSTAMP:20260421T162620
CREATED:20260119T115950Z
LAST-MODIFIED:20260119T115950Z
UID:72544-1772110800-1772118000@visitpikeville.com
SUMMARY:Women's Tennis vs Midway University (Ky.)
DESCRIPTION:Game Day!
URL:https://visitpikeville.com/event/womens-tennis-vs-midway-university-ky-2/
LOCATION:Bob Amos Park\, 424 Bob Amos Dr\, Pikeville\, Ky\, 41501
CATEGORIES:UPike
ATTACH;FMTTYPE=image/png:https://visitpikeville.com/wp-content/uploads/2026/01/Screenshot-2026-01-19-at-6.58.01-AM.png
END:VEVENT
BEGIN:VEVENT
DTSTART;TZID=America/Kentucky/Louisville:20260226T140000
DTEND;TZID=America/Kentucky/Louisville:20260226T150000
DTSTAMP:20260421T162620
CREATED:20260209T183939Z
LAST-MODIFIED:20260209T183939Z
UID:72999-1772114400-1772118000@visitpikeville.com
SUMMARY:Story Time
DESCRIPTION:Story Time is for children ages 5 and under and features books\, action/movement\, songs\, and a craft. Story Time is held Thursdays at 11:00 and 2:00 and Saturdays at 11:00. \n\n\n\n\n\n\n  \nBesides being fun\, Story Time also helps develop early literacy and school readiness skills through reading\, singing\, listening\, playing\, and social interaction. This program lasts approximately 30 minutes\, and caregivers and children are encouraged to linger in the library afterwards to further socialize and choose books to take home. \n  \nStory Time begins the first week of September and ends the first week of May.
URL:https://visitpikeville.com/event/story-time-2-2-2-2-2-2-2-2-2-2-2-2-2-2-2-2-2-2-2-2-2-2-2-2-2-2-2-2-2-2-2-2-2-2-2-2-2-2-2-2-2-2-2-2-2-2-2-2-2-2-2-2-2-2-2-3-2-2-2-2-2-2-2-2-2-2-2-2-2-2-2-2-2-2-2-2-2-2-2-2-2-2-2-2-2-2-2-2-2-2-2-2-2-52/
LOCATION:Pike County Public Library\, 126 Lee Avenue\, Pikeville\, KY\, 41501\, United States
CATEGORIES:Pike County Public Library
ATTACH;FMTTYPE=image/png:https://visitpikeville.com/wp-content/uploads/2025/10/Story_Time_Schedule_25.png
END:VEVENT
BEGIN:VEVENT
DTSTART;TZID=America/Kentucky/Louisville:20260226T160000
DTEND;TZID=America/Kentucky/Louisville:20260226T170000
DTSTAMP:20260421T162620
CREATED:20260209T181603Z
LAST-MODIFIED:20260209T181603Z
UID:72975-1772121600-1772125200@visitpikeville.com
SUMMARY:Teen Guitar Class 2
DESCRIPTION:Beginner guitar lessons for patrons ages 13-17. This class meets weekly on Thursdays at 4:00. Please bring your own instrument. Registration required.
URL:https://visitpikeville.com/event/teen-guitar-class-2-3-2-2-2-2-2/
LOCATION:Pike County Public Library\, 126 Lee Avenue\, Pikeville\, KY\, 41501\, United States
CATEGORIES:Pike County Public Library
ATTACH;FMTTYPE=image/png:https://visitpikeville.com/wp-content/uploads/2026/01/music.png
END:VEVENT
BEGIN:VEVENT
DTSTART;TZID=America/Kentucky/Louisville:20260226T170000
DTEND;TZID=America/Kentucky/Louisville:20260226T180000
DTSTAMP:20260421T162620
CREATED:20260105T122155Z
LAST-MODIFIED:20260105T122155Z
UID:72159-1772125200-1772128800@visitpikeville.com
SUMMARY:From the Page to the Stage
DESCRIPTION:February 17th-March 27th\, 2026\nMeets: Tuesday / Thursday | 5:00 – 6:00pm\nCommunity Sharing: March 27th\, 2026\nInstructor: Crockett J. Ward \nThis class is perfect for those individuals who want MORE out of a script. In this class\, actors\, writers\, directors\, literary enthusiasts\, all will learn how to dissect a script to the core and build a world full of life. Whether your desire is to be a better actor\, or you just want something to investigate\, we have space for you. The purpose will be developing their own method for analysis through the work of Michael Shurtleff and the 12 guideposts. There will be a performance-based aspect to this class. Community sharing is March 27th\, 2026.
URL:https://visitpikeville.com/event/from-the-page-to-the-stage-2-2-2/
LOCATION:Appalachian Center for the Arts\, 218 2nd St\,\, Pikeville\, Ky\, 41501
CATEGORIES:The Appalachian Center for the Arts
ATTACH;FMTTYPE=image/jpeg:https://visitpikeville.com/wp-content/uploads/2026/01/page.jpg
END:VEVENT
BEGIN:VEVENT
DTSTART;TZID=America/Kentucky/Louisville:20260226T170000
DTEND;TZID=America/Kentucky/Louisville:20260226T180000
DTSTAMP:20260421T162620
CREATED:20260209T182417Z
LAST-MODIFIED:20260209T182417Z
UID:72983-1772125200-1772128800@visitpikeville.com
SUMMARY:Music Theory Lecture
DESCRIPTION:Understanding how music works will give you the tools you need to write riffs\, songs\, and solos\, and learn to improvise in a friendly hands-on environment.
URL:https://visitpikeville.com/event/music-theory-lecture-2-2-2-2-2-2/
LOCATION:Pike County Public Library\, 126 Lee Avenue\, Pikeville\, KY\, 41501\, United States
CATEGORIES:Pike County Public Library
ATTACH;FMTTYPE=image/png:https://visitpikeville.com/wp-content/uploads/2026/01/music.png
END:VEVENT
BEGIN:VEVENT
DTSTART;TZID=America/Kentucky/Louisville:20260226T170000
DTEND;TZID=America/Kentucky/Louisville:20260226T184500
DTSTAMP:20260421T162620
CREATED:20260209T204005Z
LAST-MODIFIED:20260209T204005Z
UID:73017-1772125200-1772131500@visitpikeville.com
SUMMARY:Dungeons and Dragons
DESCRIPTION:Dungeons and Dragons Group meets every other Thursday at 5:00 at the Pike County Public Library (Lee Avenue). Beginners and experienced players alike are welcome. \n\n\n\n\n\n\n  \nDungeons and Dragons is a role playing game (RPG) where a single player plays as the Dungeon Master\, creating a world that the players interact with. Players act as a group of adventurers working together to complete quests\, slay monsters\, and achieve their own personal goals. The game uses a series of dice to help simulate how successful characters and monsters are at achieving their various goals.
URL:https://visitpikeville.com/event/dungeons-and-dragons-7-2-2-2-2-2-2-2-2-2-2-2-2-2-2-2/
LOCATION:Pike County Public Library\, 126 Lee Avenue\, Pikeville\, KY\, 41501\, United States
CATEGORIES:Pike County Public Library
ATTACH;FMTTYPE=image/png:https://visitpikeville.com/wp-content/uploads/2025/06/D_D_Group.png
END:VEVENT
BEGIN:VEVENT
DTSTART;TZID=America/Kentucky/Louisville:20260226T170000
DTEND;TZID=America/Kentucky/Louisville:20260226T210000
DTSTAMP:20260421T162620
CREATED:20260209T161054Z
LAST-MODIFIED:20260209T161054Z
UID:72921-1772125200-1772139600@visitpikeville.com
SUMMARY:Sit N Sew Beginners
DESCRIPTION:Come and Join Us
URL:https://visitpikeville.com/event/beginners-sewing-2-2-2-2-2-2-2-2-2-2-2-2-2-2-2-2-2-2-2-2-2-2-2-2-2-2-2-2-2-2-2-2-2-2-2-2-2-2-2-2-3-2-2-2-2-2-2-2-2-2-2-2-2/
LOCATION:Bridgett’s Quilting and Fabric Shop\, 237 2nd St\,\, Pikeville\, KY\, 41501\, United States
CATEGORIES:Pikeville Main Street
ATTACH;FMTTYPE=image/jpeg:https://visitpikeville.com/wp-content/uploads/2023/10/bridgetts.jpeg
END:VEVENT
BEGIN:VEVENT
DTSTART;TZID=America/Kentucky/Louisville:20260226T181500
DTEND;TZID=America/Kentucky/Louisville:20260226T201500
DTSTAMP:20260421T162620
CREATED:20260126T124431Z
LAST-MODIFIED:20260126T124431Z
UID:72682-1772129700-1772136900@visitpikeville.com
SUMMARY:Line Dancing
DESCRIPTION:No sign-up required
URL:https://visitpikeville.com/event/line-dancing-6-2-2-2/
LOCATION:Pike County Extension Office\, 148 Trivette Dr\, Pikeville\, KY\, 41501\, United States
CATEGORIES:Pike County Extension Community Arts
ATTACH;FMTTYPE=image/jpeg:https://visitpikeville.com/wp-content/uploads/2026/01/line-dancing-1.jpg
END:VEVENT
BEGIN:VEVENT
DTSTART;TZID=America/Kentucky/Louisville:20260226T183000
DTEND;TZID=America/Kentucky/Louisville:20260226T200000
DTSTAMP:20260421T162620
CREATED:20260105T132316Z
LAST-MODIFIED:20260105T132316Z
UID:72222-1772130600-1772136000@visitpikeville.com
SUMMARY:Classical Scene Study
DESCRIPTION:February 17th-March 27th\, 2026\nMeets: Tuesday / Thursday | 6:30 – 8:00pm\nCommunity Sharing: March 27th\, 2026\nInstructor: Crockett J. Ward \nDive into the classics\, from Shakespeare to Lorraine Hansberry with some Arthur Miller thrown in. This class will revolve around exploring a variety of classical texts with the intention of truthful\, period appropriate responses and performance. If you can learn to cook pasta\, or pay rent\, you can learn how to approach classical texts with grace and supported actions. There will be a performance-based aspect to this class. Community sharing is March 27th\, 2026.
URL:https://visitpikeville.com/event/classical-scene-study-2-2-2/
LOCATION:Appalachian Center for the Arts\, 218 2nd St\,\, Pikeville\, Ky\, 41501
CATEGORIES:The Appalachian Center for the Arts
ATTACH;FMTTYPE=image/jpeg:https://visitpikeville.com/wp-content/uploads/2026/01/classical.jpg
END:VEVENT
BEGIN:VEVENT
DTSTART;TZID=America/Kentucky/Louisville:20260226T200000
DTEND;TZID=America/Kentucky/Louisville:20260226T220000
DTSTAMP:20260421T162620
CREATED:20251110T142011Z
LAST-MODIFIED:20251110T142011Z
UID:71102-1772136000-1772143200@visitpikeville.com
SUMMARY:Aaron Lewis
DESCRIPTION:2026 American Tour\nAaron Lewis and the Stateliners\nFebruary 26\n8pm\nTickets are $39\, $59\, $79\, $99\nVisit the Community Trust Bank Box Office or Ticketmaster.com\n\n\nhttps://www.ticketmaster.com/event/1600635C2AB98B77…
URL:https://visitpikeville.com/event/aaron-lewis-2/
LOCATION:Appalachian Wireless Arena\, 126 Main Street\, Pikeville\, Ky\, 41501
CATEGORIES:Appalachian Wireless Arena
ATTACH;FMTTYPE=image/jpeg:https://visitpikeville.com/wp-content/uploads/2025/11/aaron.jpg
END:VEVENT
END:VCALENDAR