BEGIN:VCALENDAR
VERSION:2.0
PRODID:-//Visit Pikeville - ECPv6.15.20//NONSGML v1.0//EN
CALSCALE:GREGORIAN
METHOD:PUBLISH
X-WR-CALNAME:Visit Pikeville
X-ORIGINAL-URL:https://visitpikeville.com
X-WR-CALDESC:Events for Visit Pikeville
REFRESH-INTERVAL;VALUE=DURATION:PT1H
X-Robots-Tag:noindex
X-PUBLISHED-TTL:PT1H
BEGIN:VTIMEZONE
TZID:America/Kentucky/Louisville
BEGIN:DAYLIGHT
TZOFFSETFROM:-0500
TZOFFSETTO:-0400
TZNAME:EDT
DTSTART:20250309T070000
END:DAYLIGHT
BEGIN:STANDARD
TZOFFSETFROM:-0400
TZOFFSETTO:-0500
TZNAME:EST
DTSTART:20251102T060000
END:STANDARD
BEGIN:DAYLIGHT
TZOFFSETFROM:-0500
TZOFFSETTO:-0400
TZNAME:EDT
DTSTART:20260308T070000
END:DAYLIGHT
BEGIN:STANDARD
TZOFFSETFROM:-0400
TZOFFSETTO:-0500
TZNAME:EST
DTSTART:20261101T060000
END:STANDARD
BEGIN:DAYLIGHT
TZOFFSETFROM:-0500
TZOFFSETTO:-0400
TZNAME:EDT
DTSTART:20270314T070000
END:DAYLIGHT
BEGIN:STANDARD
TZOFFSETFROM:-0400
TZOFFSETTO:-0500
TZNAME:EST
DTSTART:20271107T060000
END:STANDARD
END:VTIMEZONE
BEGIN:VEVENT
DTSTART;TZID=America/Kentucky/Louisville:20260223T051500
DTEND;TZID=America/Kentucky/Louisville:20260223T184500
DTSTAMP:20260421T234758
CREATED:20260105T123331Z
LAST-MODIFIED:20260105T123858Z
UID:72182-1771823700-1771872300@visitpikeville.com
SUMMARY:Scene Study Techniques
DESCRIPTION:February 16th – March 27th\, 2026\nMeets: Mondays / Fridays | 5:15 – 6:45pm\nPerformance: March 27th\, 2026\nInstructor: Audrey Kuykendall \nThis class will emphasize immediate connection to material and scene partners using cold reads from published works\, Sanford Meisner’s Repetition Exercise\, and Uta Hagen’s “Respect for Acting.” With engaging exercises\, any student can improve their listening\, observation\, empathy\, and deductive reasoning skills. A scene will be performed in an evening of sharing open to the community March 27th\, 2026.
URL:https://visitpikeville.com/event/scene-study-techniques-2-2/
LOCATION:Appalachian Center for the Arts\, 218 2nd St\,\, Pikeville\, Ky\, 41501
CATEGORIES:The Appalachian Center for the Arts
ATTACH;FMTTYPE=image/jpeg:https://visitpikeville.com/wp-content/uploads/2026/01/scene.jpg
END:VEVENT
BEGIN:VEVENT
DTSTART;TZID=America/Kentucky/Louisville:20260223T140000
DTEND;TZID=America/Kentucky/Louisville:20260223T150000
DTSTAMP:20260421T234758
CREATED:20260209T175939Z
LAST-MODIFIED:20260209T175939Z
UID:72950-1771855200-1771858800@visitpikeville.com
SUMMARY:Music Theory Class
DESCRIPTION:Understanding how music works will give you the tools you need to write riffs\, songs\, and solos\, and learn to improvise in a friendly hands-on environment. \n\n\n\n\n\n\n  \nClass is held every Monday at the Pike County Public Library (Lee Ave) at 2:00. \nNo previous knowledge of music theory or reading music is necessary\, but this class is for students who already know how to play a little bit.
URL:https://visitpikeville.com/event/music-theory-class-2-2-2/
LOCATION:Pike County Public Library\, 126 Lee Avenue\, Pikeville\, KY\, 41501\, United States
CATEGORIES:Pike County Public Library
ATTACH;FMTTYPE=image/png:https://visitpikeville.com/wp-content/uploads/2026/01/music.png
END:VEVENT
BEGIN:VEVENT
DTSTART;TZID=America/Kentucky/Louisville:20260223T160000
DTEND;TZID=America/Kentucky/Louisville:20260223T170000
DTSTAMP:20260421T234758
CREATED:20260209T203127Z
LAST-MODIFIED:20260209T203127Z
UID:73009-1771862400-1771866000@visitpikeville.com
SUMMARY:Teen Time
DESCRIPTION:Teens ages 13-17 are invited to hang out\, get creative\, and have fun at Teen Time\, meeting alternating Mondays at 4:00. \n\n\n\n\n\n\n  \nJoin us in the Teen Room for a mix of crafts\, games\, video game tournaments\, snacks\, and more. It’s a great chance to relax\, meet new friends\, and try something new each week. No registration needed.
URL:https://visitpikeville.com/event/teen-time-4-2-2-2/
LOCATION:Pike County Public Library\, 126 Lee Avenue\, Pikeville\, KY\, 41501\, United States
CATEGORIES:Pike County Public Library
ATTACH;FMTTYPE=image/png:https://visitpikeville.com/wp-content/uploads/2026/01/Teen_Time_updated.png
END:VEVENT
BEGIN:VEVENT
DTSTART;TZID=America/Kentucky/Louisville:20260223T160000
DTEND;TZID=America/Kentucky/Louisville:20260223T170000
DTSTAMP:20260421T234758
CREATED:20260223T153806Z
LAST-MODIFIED:20260223T153806Z
UID:73174-1771862400-1771866000@visitpikeville.com
SUMMARY:Diabetes Support Group
DESCRIPTION:The Diabetes Support Group generally meets on the last Monday of each month\, 4-5pm in Café room #3 on the 11th floor of the hospital.\nPikeville Medical Center offers comprehensive diabetes education programs that cover a wide range of topics for people with diabetes and their families. Diabetes is one of the most prominent health issues affecting the people in our region and education is a major component of our diabetic care. With the proper knowledge\, people with diabetes and their families can learn to aggressively manage the disease and greatly reduce the negative\, long-term effects.
URL:https://visitpikeville.com/event/diabetes-support-group-4/
LOCATION:Pikeville Medical Center\, 911 S Bypass Rd\,\, Pikeville\, KY\, 41501\, United States
CATEGORIES:Pikeville Medical Center
ATTACH;FMTTYPE=image/jpeg:https://visitpikeville.com/wp-content/uploads/2026/02/diabetes.jpg
END:VEVENT
BEGIN:VEVENT
DTSTART;TZID=America/Kentucky/Louisville:20260223T163000
DTEND;TZID=America/Kentucky/Louisville:20260223T173000
DTSTAMP:20260421T234758
CREATED:20260209T180509Z
LAST-MODIFIED:20260209T180509Z
UID:72957-1771864200-1771867800@visitpikeville.com
SUMMARY:Adult Guitar Class 1
DESCRIPTION:Beginner guitar lessons for patrons ages 18+. This class meets weekly on Mondays at 4:30. Please bring your own instrument.
URL:https://visitpikeville.com/event/adult-guitar-class-4-2-2-2-2-2-2-2-2-2-2-2-2-2-3-3-2-2-2-2-2-2-2-2-2-2-2-2-2-2-2/
LOCATION:Pike County Public Library\, 126 Lee Avenue\, Pikeville\, KY\, 41501\, United States
CATEGORIES:Pike County Public Library
ATTACH;FMTTYPE=image/png:https://visitpikeville.com/wp-content/uploads/2025/05/theory.png
END:VEVENT
BEGIN:VEVENT
DTSTART;TZID=America/Kentucky/Louisville:20260223T180000
DTEND;TZID=America/Kentucky/Louisville:20260223T190000
DTSTAMP:20260421T234758
CREATED:20260209T160736Z
LAST-MODIFIED:20260209T160736Z
UID:72915-1771869600-1771873200@visitpikeville.com
SUMMARY:City Commission Meeting
DESCRIPTION:6pm @ City Hall
URL:https://visitpikeville.com/event/city-commission-meeting-2-2-2-2-2-2-2-2-2-2-2-2-2-2-2-2-2-2-2-2-2-2-2-2-2-2-2-2-2-2-2-2-2-2-2-2-2-2-2-2-2-2-2-2-2-2-2-2-2-2/
LOCATION:Pikeville City Hall\, 243 Main St #1786\,\, Pikeville\, KY\, 41501\, United States
CATEGORIES:City of Pikeville
ATTACH;FMTTYPE=image/png:https://visitpikeville.com/wp-content/uploads/2023/09/image001.png
END:VEVENT
BEGIN:VEVENT
DTSTART;TZID=America/Kentucky/Louisville:20260223T190000
DTEND;TZID=America/Kentucky/Louisville:20260223T200000
DTSTAMP:20260421T234758
CREATED:20260105T142823Z
LAST-MODIFIED:20260105T142823Z
UID:72257-1771873200-1771876800@visitpikeville.com
SUMMARY:Teen Improv (ages 12-18)
DESCRIPTION:February 16th – March 27th\, 2026\nMeets: Monday / Friday | 7:00 – 8:00pm\nCommunity Sharing: March 27th\, 2026\nInstructor: Crockett J. Ward \nThis class is dedicated to forming the foundation of improvisation. Whether you are an experienced actor or just looking to grow out of your comfort zone\, you will fit in. We will be covering a number of games and experiences to better hone the ideas of “yes\, and”\, “never no”\, and a host of other intricacies. The culmination of this class is an improv competition between the Teen Improvisers and the Adult Improvisers. If you are looking to have fun and make lifelong friends\, you have found the right class! There will be a performance-based aspect to this class. Community sharing is March 27th\, 2026.
URL:https://visitpikeville.com/event/teen-improv-ages-12-18-2-2/
LOCATION:Appalachian Center for the Arts\, 218 2nd St\,\, Pikeville\, Ky\, 41501
CATEGORIES:The Appalachian Center for the Arts
ATTACH;FMTTYPE=image/jpeg:https://visitpikeville.com/wp-content/uploads/2026/01/teen-improv.jpg
END:VEVENT
BEGIN:VEVENT
DTSTART;TZID=America/Kentucky/Louisville:20260223T200000
DTEND;TZID=America/Kentucky/Louisville:20260223T220000
DTSTAMP:20260421T234758
CREATED:20260203T132946Z
LAST-MODIFIED:20260203T132946Z
UID:72738-1771876800-1771884000@visitpikeville.com
SUMMARY:Esports vs Cleveland State University
DESCRIPTION:League of Legends
URL:https://visitpikeville.com/event/esports-vs-cleveland-state-university/
LOCATION:University Of Pikeville\, 147 Sycamore St\,\, Pikeville\, KY\, 41501\, United States
CATEGORIES:UPike
ATTACH;FMTTYPE=image/png:https://visitpikeville.com/wp-content/uploads/2026/02/Screenshot-2026-02-03-at-8.28.42-AM.png
END:VEVENT
BEGIN:VEVENT
DTSTART;TZID=America/Kentucky/Louisville:20260223T201500
DTEND;TZID=America/Kentucky/Louisville:20260223T213000
DTSTAMP:20260421T234758
CREATED:20260105T144631Z
LAST-MODIFIED:20260105T144631Z
UID:72282-1771877700-1771882200@visitpikeville.com
SUMMARY:Adult Improv (ages 18+)
DESCRIPTION:February 16th – March 27th\, 2026\nMeets: Monday / Friday | 8:15 – 9:30pm\nCommunity Sharing: March 27th\, 2026\nInstructor: Crockett J. Ward \nThis improv class offers a unique opportunity to combine creativity\, spontaneity\, and performance in a thrilling\, interactive environment. By the end of the class\, you’ll not only have an array of new improvisation techniques\, but you’ll also have the thrilling experience of performing in a fun\, high-energy improv competition — a night of nonsense\, laughter\, and unforgettable moments. Whether you’re a seasoned performer or new to improv\, this class is designed for all skill levels who are ready to embrace the thrill of improvised competition. There will be a performance-based aspect to this class. Community sharing is March 27th\, 2026.
URL:https://visitpikeville.com/event/adult-improv-ages-18-6-2-2/
LOCATION:Appalachian Center for the Arts\, 218 2nd St\,\, Pikeville\, Ky\, 41501
CATEGORIES:The Appalachian Center for the Arts
ATTACH;FMTTYPE=image/jpeg:https://visitpikeville.com/wp-content/uploads/2026/01/adult-improv.jpg
END:VEVENT
END:VCALENDAR