BEGIN:VCALENDAR
VERSION:2.0
PRODID:-//Visit Pikeville - ECPv6.15.20//NONSGML v1.0//EN
CALSCALE:GREGORIAN
METHOD:PUBLISH
X-ORIGINAL-URL:https://visitpikeville.com
X-WR-CALDESC:Events for Visit Pikeville
REFRESH-INTERVAL;VALUE=DURATION:PT1H
X-Robots-Tag:noindex
X-PUBLISHED-TTL:PT1H
BEGIN:VTIMEZONE
TZID:America/Kentucky/Louisville
BEGIN:DAYLIGHT
TZOFFSETFROM:-0500
TZOFFSETTO:-0400
TZNAME:EDT
DTSTART:20250309T070000
END:DAYLIGHT
BEGIN:STANDARD
TZOFFSETFROM:-0400
TZOFFSETTO:-0500
TZNAME:EST
DTSTART:20251102T060000
END:STANDARD
BEGIN:DAYLIGHT
TZOFFSETFROM:-0500
TZOFFSETTO:-0400
TZNAME:EDT
DTSTART:20260308T070000
END:DAYLIGHT
BEGIN:STANDARD
TZOFFSETFROM:-0400
TZOFFSETTO:-0500
TZNAME:EST
DTSTART:20261101T060000
END:STANDARD
BEGIN:DAYLIGHT
TZOFFSETFROM:-0500
TZOFFSETTO:-0400
TZNAME:EDT
DTSTART:20270314T070000
END:DAYLIGHT
BEGIN:STANDARD
TZOFFSETFROM:-0400
TZOFFSETTO:-0500
TZNAME:EST
DTSTART:20271107T060000
END:STANDARD
END:VTIMEZONE
BEGIN:VEVENT
DTSTART;TZID=America/Kentucky/Louisville:20260220T051500
DTEND;TZID=America/Kentucky/Louisville:20260220T184500
DTSTAMP:20260422T072858
CREATED:20260105T123219Z
LAST-MODIFIED:20260105T123819Z
UID:72180-1771564500-1771613100@visitpikeville.com
SUMMARY:Scene Study Techniques
DESCRIPTION:February 16th – March 27th\, 2026\nMeets: Mondays / Fridays | 5:15 – 6:45pm\nPerformance: March 27th\, 2026\nInstructor: Audrey Kuykendall \nThis class will emphasize immediate connection to material and scene partners using cold reads from published works\, Sanford Meisner’s Repetition Exercise\, and Uta Hagen’s “Respect for Acting.” With engaging exercises\, any student can improve their listening\, observation\, empathy\, and deductive reasoning skills. A scene will be performed in an evening of sharing open to the community March 27th\, 2026.
URL:https://visitpikeville.com/event/scene-study-techniques-2/
LOCATION:Appalachian Center for the Arts\, 218 2nd St\,\, Pikeville\, Ky\, 41501
CATEGORIES:The Appalachian Center for the Arts
ATTACH;FMTTYPE=image/jpeg:https://visitpikeville.com/wp-content/uploads/2026/01/scene.jpg
END:VEVENT
BEGIN:VEVENT
DTSTART;TZID=America/Kentucky/Louisville:20260220T150000
DTEND;TZID=America/Kentucky/Louisville:20260220T170000
DTSTAMP:20260422T072858
CREATED:20251117T182158Z
LAST-MODIFIED:20251117T182158Z
UID:71328-1771599600-1771606800@visitpikeville.com
SUMMARY:Baseball vs Union Commonwealth University (Ky.)
DESCRIPTION:Game Day!
URL:https://visitpikeville.com/event/baseball-vs-union-commonwealth-university-ky-3/
LOCATION:Johnnie LeMaster Field\, 118 W River Dr\,\, Pikeville\, KY\, 41501\, United States
CATEGORIES:UPike
ATTACH;FMTTYPE=image/png:https://visitpikeville.com/wp-content/uploads/2025/11/Screenshot-2025-11-17-at-1.20.21-PM.png
END:VEVENT
BEGIN:VEVENT
DTSTART;TZID=America/Kentucky/Louisville:20260220T173000
DTEND;TZID=America/Kentucky/Louisville:20260220T193000
DTSTAMP:20260422T072858
CREATED:20260216T131600Z
LAST-MODIFIED:20260216T131600Z
UID:73077-1771608600-1771615800@visitpikeville.com
SUMMARY:FRIDAY NIGHT PAINT CLASS
DESCRIPTION:Join us for a fun\, creative night out! Choose your favorite design (A–H) and let’s paint together!\n\n\n $25 per painter\n 16×20 canvas\n\n\n Design G (Lego Couple) can be painted TWO ways:\n•  On one canvas for $25 (perfect for a single painter)\n•  On two separate canvases for $50 (2 painters) — when placed together they create the full picture! How fun for couples\, besties\, or parent & child!\n\n\nGrab your friends\, plan a date night\, or come solo and relax with us! \n\n\nSeats are limited — private message to reserve your spot!
URL:https://visitpikeville.com/event/friday-night-paint-class-2/
LOCATION:2 Broke Art Teachers\, 4505 Weddington Square\,\, Pikeville\, KY\, 41501\, United States
CATEGORIES:Other
ATTACH;FMTTYPE=image/jpeg:https://visitpikeville.com/wp-content/uploads/2026/02/friday-paint-class-feb20.jpg
END:VEVENT
BEGIN:VEVENT
DTSTART;TZID=America/Kentucky/Louisville:20260220T190000
DTEND;TZID=America/Kentucky/Louisville:20260220T200000
DTSTAMP:20260422T072858
CREATED:20260105T142739Z
LAST-MODIFIED:20260105T142739Z
UID:72255-1771614000-1771617600@visitpikeville.com
SUMMARY:Teen Improv (ages 12-18)
DESCRIPTION:February 16th – March 27th\, 2026\nMeets: Monday / Friday | 7:00 – 8:00pm\nCommunity Sharing: March 27th\, 2026\nInstructor: Crockett J. Ward \nThis class is dedicated to forming the foundation of improvisation. Whether you are an experienced actor or just looking to grow out of your comfort zone\, you will fit in. We will be covering a number of games and experiences to better hone the ideas of “yes\, and”\, “never no”\, and a host of other intricacies. The culmination of this class is an improv competition between the Teen Improvisers and the Adult Improvisers. If you are looking to have fun and make lifelong friends\, you have found the right class! There will be a performance-based aspect to this class. Community sharing is March 27th\, 2026.
URL:https://visitpikeville.com/event/teen-improv-ages-12-18-2/
LOCATION:Appalachian Center for the Arts\, 218 2nd St\,\, Pikeville\, Ky\, 41501
CATEGORIES:The Appalachian Center for the Arts
ATTACH;FMTTYPE=image/jpeg:https://visitpikeville.com/wp-content/uploads/2026/01/teen-improv.jpg
END:VEVENT
BEGIN:VEVENT
DTSTART;TZID=America/Kentucky/Louisville:20260220T193000
DTEND;TZID=America/Kentucky/Louisville:20260220T213000
DTSTAMP:20260422T072858
CREATED:20260119T153144Z
LAST-MODIFIED:20260119T153200Z
UID:72605-1771615800-1771623000@visitpikeville.com
SUMMARY:Little Women
DESCRIPTION:The ticket link is LIVE! Make plans now to see Little Women in the auditorium of Pikeville High School beginning February 20th through March 8th. Friday and Saturday nights at 7:30p.m. and Sunday afternoons at 3p.m. Reserve your $12 tickets now by following the link below!https://checkout.square.site/…/B7VUBBA4JABWNQMPY4N5VBKY
URL:https://visitpikeville.com/event/little-women/
LOCATION:Pikeville High School\, 120 Championship Dr\,\, Pikeville\, KY\, 41501\, United States
CATEGORIES:Artists Collaborative Theatre
ATTACH;FMTTYPE=image/jpeg:https://visitpikeville.com/wp-content/uploads/2026/01/little-women.jpg
END:VEVENT
BEGIN:VEVENT
DTSTART;TZID=America/Kentucky/Louisville:20260220T201500
DTEND;TZID=America/Kentucky/Louisville:20260220T213000
DTSTAMP:20260422T072858
CREATED:20260105T143951Z
LAST-MODIFIED:20260105T143951Z
UID:72280-1771618500-1771623000@visitpikeville.com
SUMMARY:Adult Improv (ages 18+)
DESCRIPTION:February 16th – March 27th\, 2026\nMeets: Monday / Friday | 8:15 – 9:30pm\nCommunity Sharing: March 27th\, 2026\nInstructor: Crockett J. Ward \nThis improv class offers a unique opportunity to combine creativity\, spontaneity\, and performance in a thrilling\, interactive environment. By the end of the class\, you’ll not only have an array of new improvisation techniques\, but you’ll also have the thrilling experience of performing in a fun\, high-energy improv competition — a night of nonsense\, laughter\, and unforgettable moments. Whether you’re a seasoned performer or new to improv\, this class is designed for all skill levels who are ready to embrace the thrill of improvised competition. There will be a performance-based aspect to this class. Community sharing is March 27th\, 2026.
URL:https://visitpikeville.com/event/adult-improv-ages-18-6-2/
LOCATION:Appalachian Center for the Arts\, 218 2nd St\,\, Pikeville\, Ky\, 41501
CATEGORIES:The Appalachian Center for the Arts
ATTACH;FMTTYPE=image/jpeg:https://visitpikeville.com/wp-content/uploads/2026/01/adult-improv.jpg
END:VEVENT
END:VCALENDAR