BEGIN:VCALENDAR
VERSION:2.0
PRODID:-//Visit Pikeville - ECPv6.15.20//NONSGML v1.0//EN
CALSCALE:GREGORIAN
METHOD:PUBLISH
X-ORIGINAL-URL:https://visitpikeville.com
X-WR-CALDESC:Events for Visit Pikeville
REFRESH-INTERVAL;VALUE=DURATION:PT1H
X-Robots-Tag:noindex
X-PUBLISHED-TTL:PT1H
BEGIN:VTIMEZONE
TZID:America/Kentucky/Louisville
BEGIN:DAYLIGHT
TZOFFSETFROM:-0500
TZOFFSETTO:-0400
TZNAME:EDT
DTSTART:20250309T070000
END:DAYLIGHT
BEGIN:STANDARD
TZOFFSETFROM:-0400
TZOFFSETTO:-0500
TZNAME:EST
DTSTART:20251102T060000
END:STANDARD
BEGIN:DAYLIGHT
TZOFFSETFROM:-0500
TZOFFSETTO:-0400
TZNAME:EDT
DTSTART:20260308T070000
END:DAYLIGHT
BEGIN:STANDARD
TZOFFSETFROM:-0400
TZOFFSETTO:-0500
TZNAME:EST
DTSTART:20261101T060000
END:STANDARD
BEGIN:DAYLIGHT
TZOFFSETFROM:-0500
TZOFFSETTO:-0400
TZNAME:EDT
DTSTART:20270314T070000
END:DAYLIGHT
BEGIN:STANDARD
TZOFFSETFROM:-0400
TZOFFSETTO:-0500
TZNAME:EST
DTSTART:20271107T060000
END:STANDARD
END:VTIMEZONE
BEGIN:VEVENT
DTSTART;TZID=America/Kentucky/Louisville:20260216T051500
DTEND;TZID=America/Kentucky/Louisville:20260216T184500
DTSTAMP:20260423T104943
CREATED:20260105T123105Z
LAST-MODIFIED:20260105T123740Z
UID:72177-1771218900-1771267500@visitpikeville.com
SUMMARY:Scene Study Techniques
DESCRIPTION:February 16th – March 27th\, 2026\nMeets: Mondays / Fridays | 5:15 – 6:45pm\nPerformance: March 27th\, 2026\nInstructor: Audrey Kuykendall \nThis class will emphasize immediate connection to material and scene partners using cold reads from published works\, Sanford Meisner’s Repetition Exercise\, and Uta Hagen’s “Respect for Acting.” With engaging exercises\, any student can improve their listening\, observation\, empathy\, and deductive reasoning skills. A scene will be performed in an evening of sharing open to the community March 27th\, 2026.
URL:https://visitpikeville.com/event/scene-study-techniques/
LOCATION:Appalachian Center for the Arts\, 218 2nd St\,\, Pikeville\, Ky\, 41501
CATEGORIES:The Appalachian Center for the Arts
ATTACH;FMTTYPE=image/jpeg:https://visitpikeville.com/wp-content/uploads/2026/01/scene.jpg
END:VEVENT
BEGIN:VEVENT
DTSTART;TZID=America/Kentucky/Louisville:20260216T140000
DTEND;TZID=America/Kentucky/Louisville:20260216T150000
DTSTAMP:20260423T104943
CREATED:20260209T175847Z
LAST-MODIFIED:20260209T175847Z
UID:72948-1771250400-1771254000@visitpikeville.com
SUMMARY:Music Theory Class
DESCRIPTION:Understanding how music works will give you the tools you need to write riffs\, songs\, and solos\, and learn to improvise in a friendly hands-on environment. \n\n\n\n\n\n\n  \nClass is held every Monday at the Pike County Public Library (Lee Ave) at 2:00. \nNo previous knowledge of music theory or reading music is necessary\, but this class is for students who already know how to play a little bit.
URL:https://visitpikeville.com/event/music-theory-class-2-2/
LOCATION:Pike County Public Library\, 126 Lee Avenue\, Pikeville\, KY\, 41501\, United States
CATEGORIES:Pike County Public Library
ATTACH;FMTTYPE=image/png:https://visitpikeville.com/wp-content/uploads/2026/01/music.png
END:VEVENT
BEGIN:VEVENT
DTSTART;TZID=America/Kentucky/Louisville:20260216T163000
DTEND;TZID=America/Kentucky/Louisville:20260216T173000
DTSTAMP:20260423T104943
CREATED:20260209T180351Z
LAST-MODIFIED:20260209T180351Z
UID:72954-1771259400-1771263000@visitpikeville.com
SUMMARY:Adult Guitar Class 1
DESCRIPTION:Beginner guitar lessons for patrons ages 18+. This class meets weekly on Mondays at 4:30. Please bring your own instrument.
URL:https://visitpikeville.com/event/adult-guitar-class-4-2-2-2-2-2-2-2-2-2-2-2-2-2-3-3-2-2-2-2-2-2-2-2-2-2-2-2-2-2/
LOCATION:Pike County Public Library\, 126 Lee Avenue\, Pikeville\, KY\, 41501\, United States
CATEGORIES:Pike County Public Library
ATTACH;FMTTYPE=image/png:https://visitpikeville.com/wp-content/uploads/2025/05/theory.png
END:VEVENT
BEGIN:VEVENT
DTSTART;TZID=America/Kentucky/Louisville:20260216T170000
DTEND;TZID=America/Kentucky/Louisville:20260216T180000
DTSTAMP:20260423T104943
CREATED:20260209T184409Z
LAST-MODIFIED:20260209T184409Z
UID:73003-1771261200-1771264800@visitpikeville.com
SUMMARY:Alibis at The Book Club
DESCRIPTION:Alibis at The Book Club meets every other Monday at the Pike County Public Library (Lee Avenue). Join us for mystery\, thrills\, and lively discussion!
URL:https://visitpikeville.com/event/alibis-at-the-book-club-3-2-2/
LOCATION:Pike County Public Library\, 126 Lee Avenue\, Pikeville\, KY\, 41501\, United States
CATEGORIES:Pike County Public Library
ATTACH;FMTTYPE=image/png:https://visitpikeville.com/wp-content/uploads/2025/12/Alibis_at_The_Book_Club.png
END:VEVENT
BEGIN:VEVENT
DTSTART;TZID=America/Kentucky/Louisville:20260216T173000
DTEND;TZID=America/Kentucky/Louisville:20260216T183000
DTSTAMP:20260423T104943
CREATED:20260216T121649Z
LAST-MODIFIED:20260216T121649Z
UID:73065-1771263000-1771266600@visitpikeville.com
SUMMARY:Women's Basketball vs Spartanburg Methodist College
DESCRIPTION:Game Day!
URL:https://visitpikeville.com/event/womens-basketball-vs-spartanburg-methodist-college-2/
LOCATION:Appalachian Wireless Arena\, 126 Main Street\, Pikeville\, Ky\, 41501
CATEGORIES:UPike
ATTACH;FMTTYPE=image/png:https://visitpikeville.com/wp-content/uploads/2026/02/Screenshot-2026-02-16-at-7.16.15-AM.png
END:VEVENT
BEGIN:VEVENT
DTSTART;TZID=America/Kentucky/Louisville:20260216T190000
DTEND;TZID=America/Kentucky/Louisville:20260216T200000
DTSTAMP:20260423T104943
CREATED:20260105T142647Z
LAST-MODIFIED:20260105T142647Z
UID:72252-1771268400-1771272000@visitpikeville.com
SUMMARY:Teen Improv (ages 12-18)
DESCRIPTION:February 16th – March 27th\, 2026\nMeets: Monday / Friday | 7:00 – 8:00pm\nCommunity Sharing: March 27th\, 2026\nInstructor: Crockett J. Ward \nThis class is dedicated to forming the foundation of improvisation. Whether you are an experienced actor or just looking to grow out of your comfort zone\, you will fit in. We will be covering a number of games and experiences to better hone the ideas of “yes\, and”\, “never no”\, and a host of other intricacies. The culmination of this class is an improv competition between the Teen Improvisers and the Adult Improvisers. If you are looking to have fun and make lifelong friends\, you have found the right class! There will be a performance-based aspect to this class. Community sharing is March 27th\, 2026.
URL:https://visitpikeville.com/event/teen-improv-ages-12-18/
LOCATION:Appalachian Center for the Arts\, 218 2nd St\,\, Pikeville\, Ky\, 41501
CATEGORIES:The Appalachian Center for the Arts
ATTACH;FMTTYPE=image/jpeg:https://visitpikeville.com/wp-content/uploads/2026/01/teen-improv.jpg
END:VEVENT
BEGIN:VEVENT
DTSTART;TZID=America/Kentucky/Louisville:20260216T193000
DTEND;TZID=America/Kentucky/Louisville:20260216T203000
DTSTAMP:20260423T104943
CREATED:20260216T121827Z
LAST-MODIFIED:20260216T121827Z
UID:73068-1771270200-1771273800@visitpikeville.com
SUMMARY:Men's Basketball vs Spartanburg Methodist College
DESCRIPTION:Game Day!
URL:https://visitpikeville.com/event/mens-basketball-vs-spartanburg-methodist-college-2/
LOCATION:Appalachian Wireless Arena\, 126 Main Street\, Pikeville\, Ky\, 41501
CATEGORIES:UPike
ATTACH;FMTTYPE=image/png:https://visitpikeville.com/wp-content/uploads/2026/02/Screenshot-2026-02-16-at-7.18.05-AM.png
END:VEVENT
BEGIN:VEVENT
DTSTART;TZID=America/Kentucky/Louisville:20260216T201500
DTEND;TZID=America/Kentucky/Louisville:20260216T213000
DTSTAMP:20260423T104943
CREATED:20260105T143855Z
LAST-MODIFIED:20260105T143855Z
UID:72277-1771272900-1771277400@visitpikeville.com
SUMMARY:Adult Improv (ages 18+)
DESCRIPTION:February 16th – March 27th\, 2026\nMeets: Monday / Friday | 8:15 – 9:30pm\nCommunity Sharing: March 27th\, 2026\nInstructor: Crockett J. Ward \nThis improv class offers a unique opportunity to combine creativity\, spontaneity\, and performance in a thrilling\, interactive environment. By the end of the class\, you’ll not only have an array of new improvisation techniques\, but you’ll also have the thrilling experience of performing in a fun\, high-energy improv competition — a night of nonsense\, laughter\, and unforgettable moments. Whether you’re a seasoned performer or new to improv\, this class is designed for all skill levels who are ready to embrace the thrill of improvised competition. There will be a performance-based aspect to this class. Community sharing is March 27th\, 2026.
URL:https://visitpikeville.com/event/adult-improv-ages-18-6/
LOCATION:Appalachian Center for the Arts\, 218 2nd St\,\, Pikeville\, Ky\, 41501
CATEGORIES:The Appalachian Center for the Arts
ATTACH;FMTTYPE=image/jpeg:https://visitpikeville.com/wp-content/uploads/2026/01/adult-improv.jpg
END:VEVENT
END:VCALENDAR