BEGIN:VCALENDAR
VERSION:2.0
PRODID:-//Visit Pikeville - ECPv6.15.20//NONSGML v1.0//EN
CALSCALE:GREGORIAN
METHOD:PUBLISH
X-WR-CALNAME:Visit Pikeville
X-ORIGINAL-URL:https://visitpikeville.com
X-WR-CALDESC:Events for Visit Pikeville
REFRESH-INTERVAL;VALUE=DURATION:PT1H
X-Robots-Tag:noindex
X-PUBLISHED-TTL:PT1H
BEGIN:VTIMEZONE
TZID:America/Kentucky/Louisville
BEGIN:DAYLIGHT
TZOFFSETFROM:-0500
TZOFFSETTO:-0400
TZNAME:EDT
DTSTART:20250309T070000
END:DAYLIGHT
BEGIN:STANDARD
TZOFFSETFROM:-0400
TZOFFSETTO:-0500
TZNAME:EST
DTSTART:20251102T060000
END:STANDARD
BEGIN:DAYLIGHT
TZOFFSETFROM:-0500
TZOFFSETTO:-0400
TZNAME:EDT
DTSTART:20260308T070000
END:DAYLIGHT
BEGIN:STANDARD
TZOFFSETFROM:-0400
TZOFFSETTO:-0500
TZNAME:EST
DTSTART:20261101T060000
END:STANDARD
BEGIN:DAYLIGHT
TZOFFSETFROM:-0500
TZOFFSETTO:-0400
TZNAME:EDT
DTSTART:20270314T070000
END:DAYLIGHT
BEGIN:STANDARD
TZOFFSETFROM:-0400
TZOFFSETTO:-0500
TZNAME:EST
DTSTART:20271107T060000
END:STANDARD
END:VTIMEZONE
BEGIN:VEVENT
DTSTART;TZID=America/Kentucky/Louisville:20260120T190000
DTEND;TZID=America/Kentucky/Louisville:20260130T213000
DTSTAMP:20260423T112048
CREATED:20260105T120234Z
LAST-MODIFIED:20260105T120234Z
UID:72136-1768935600-1769808600@visitpikeville.com
SUMMARY:Unarmed Combat: Level 1 - Certification Class
DESCRIPTION:January 20th-30th\, 2026 | 7:00 – 9:30pm\nClass Performance: January 30th\, 2026\nTaught by Crockett James Ward \nThis ten-day stage combat training course offers an immersive experience into Unarmed Stage Combat. Over the course of ten days\, you learn fundamental techniques\, safety protocols\, and active storytelling. Through a combination of theory\, demonstration\, and practical exercises\, you will develop the skills necessary to perform safe\, effective\, and efficient stories with (staged) violence. At the end of the course\, there will be a Skills Test/General Sharing of combat/scenes for the community. Completion of this course and filming of Skills Test Fight will be submitted to Dueling Arts International for adjudication and certification.
URL:https://visitpikeville.com/event/unarmed-combat-level-1-certification-class/
LOCATION:Appalachian Center for the Arts\, 218 2nd St\,\, Pikeville\, Ky\, 41501
CATEGORIES:The Appalachian Center for the Arts
ATTACH;FMTTYPE=image/jpeg:https://visitpikeville.com/wp-content/uploads/2026/01/unarmed-combat.jpg
END:VEVENT
BEGIN:VEVENT
DTSTART;TZID=America/Kentucky/Louisville:20260130T160000
DTEND;TZID=America/Kentucky/Louisville:20260130T170000
DTSTAMP:20260423T112048
CREATED:20260112T172611Z
LAST-MODIFIED:20260112T172611Z
UID:72518-1769788800-1769792400@visitpikeville.com
SUMMARY:Chess Club: Intermediate Theory
DESCRIPTION:Continue learning the basics of the game in a fun\, intermediate setting! We’ll cover simple tactics\, and opening strategies to help you build a strong foundation.
URL:https://visitpikeville.com/event/chess-club-intermediate-theory-2/
LOCATION:Pike County Public Library\, 126 Lee Avenue\, Pikeville\, KY\, 41501\, United States
CATEGORIES:Pike County Public Library
ATTACH;FMTTYPE=image/png:https://visitpikeville.com/wp-content/uploads/2026/01/Chess_Club_General.png
END:VEVENT
BEGIN:VEVENT
DTSTART;TZID=America/Kentucky/Louisville:20260130T173000
DTEND;TZID=America/Kentucky/Louisville:20260130T193000
DTSTAMP:20260423T112048
CREATED:20260126T132833Z
LAST-MODIFIED:20260126T132833Z
UID:72699-1769794200-1769801400@visitpikeville.com
SUMMARY:House Divided Paint Class
DESCRIPTION:Love lives here… even when teams don’t \nPlease like and share !\nJoin us for our House Divided Paint Night and paint your favorite rivalry\, teams\, or themes on one canvas!\n\n\n What you’ll paint:\nA whimsical split house design with:\n• One side for your team\n• One side for their team\n• Flags\, doors\, shutters\, and details customized in your colors\n• Options for college\, local\, pro teams — or even fun themes like Cats vs Cards\, Panthers vs Hawks\, or custom colors!\n\n\n Friday\, January 30\n 5:30 PM\n $25 per person\n 2 Broke Art Teachers – Pikeville\n\n\n Why you’ll love it:\n• No experience needed\n• Pre-drawn canvas\n• Paint your rivalry YOUR way\n• Couples\, friends\, families & sports fans welcome!\n\n\n How to reserve:\n Private message us with:\n• Your name\n• How many seats\n• What teams/colors you want on your house\n\n\n Limited spots available!
URL:https://visitpikeville.com/event/house-divided-paint-class/
LOCATION:2 Broke Art Teachers\, 4505 Weddington Square\,\, Pikeville\, KY\, 41501\, United States
CATEGORIES:Other
ATTACH;FMTTYPE=image/jpeg:https://visitpikeville.com/wp-content/uploads/2026/01/house.jpg
END:VEVENT
END:VCALENDAR