BEGIN:VCALENDAR
VERSION:2.0
PRODID:-//Visit Pikeville - ECPv6.15.20//NONSGML v1.0//EN
CALSCALE:GREGORIAN
METHOD:PUBLISH
X-WR-CALNAME:Visit Pikeville
X-ORIGINAL-URL:https://visitpikeville.com
X-WR-CALDESC:Events for Visit Pikeville
REFRESH-INTERVAL;VALUE=DURATION:PT1H
X-Robots-Tag:noindex
X-PUBLISHED-TTL:PT1H
BEGIN:VTIMEZONE
TZID:America/Kentucky/Louisville
BEGIN:DAYLIGHT
TZOFFSETFROM:-0500
TZOFFSETTO:-0400
TZNAME:EDT
DTSTART:20250309T070000
END:DAYLIGHT
BEGIN:STANDARD
TZOFFSETFROM:-0400
TZOFFSETTO:-0500
TZNAME:EST
DTSTART:20251102T060000
END:STANDARD
BEGIN:DAYLIGHT
TZOFFSETFROM:-0500
TZOFFSETTO:-0400
TZNAME:EDT
DTSTART:20260308T070000
END:DAYLIGHT
BEGIN:STANDARD
TZOFFSETFROM:-0400
TZOFFSETTO:-0500
TZNAME:EST
DTSTART:20261101T060000
END:STANDARD
BEGIN:DAYLIGHT
TZOFFSETFROM:-0500
TZOFFSETTO:-0400
TZNAME:EDT
DTSTART:20270314T070000
END:DAYLIGHT
BEGIN:STANDARD
TZOFFSETFROM:-0400
TZOFFSETTO:-0500
TZNAME:EST
DTSTART:20271107T060000
END:STANDARD
END:VTIMEZONE
BEGIN:VEVENT
DTSTART;TZID=America/Kentucky/Louisville:20260120T190000
DTEND;TZID=America/Kentucky/Louisville:20260130T213000
DTSTAMP:20260423T112052
CREATED:20260105T120234Z
LAST-MODIFIED:20260105T120234Z
UID:72136-1768935600-1769808600@visitpikeville.com
SUMMARY:Unarmed Combat: Level 1 - Certification Class
DESCRIPTION:January 20th-30th\, 2026 | 7:00 – 9:30pm\nClass Performance: January 30th\, 2026\nTaught by Crockett James Ward \nThis ten-day stage combat training course offers an immersive experience into Unarmed Stage Combat. Over the course of ten days\, you learn fundamental techniques\, safety protocols\, and active storytelling. Through a combination of theory\, demonstration\, and practical exercises\, you will develop the skills necessary to perform safe\, effective\, and efficient stories with (staged) violence. At the end of the course\, there will be a Skills Test/General Sharing of combat/scenes for the community. Completion of this course and filming of Skills Test Fight will be submitted to Dueling Arts International for adjudication and certification.
URL:https://visitpikeville.com/event/unarmed-combat-level-1-certification-class/
LOCATION:Appalachian Center for the Arts\, 218 2nd St\,\, Pikeville\, Ky\, 41501
CATEGORIES:The Appalachian Center for the Arts
ATTACH;FMTTYPE=image/jpeg:https://visitpikeville.com/wp-content/uploads/2026/01/unarmed-combat.jpg
END:VEVENT
BEGIN:VEVENT
DTSTART;TZID=America/Kentucky/Louisville:20260122T110000
DTEND;TZID=America/Kentucky/Louisville:20260122T120000
DTSTAMP:20260423T112052
CREATED:20260112T163518Z
LAST-MODIFIED:20260112T163518Z
UID:72483-1769079600-1769083200@visitpikeville.com
SUMMARY:Story Time
DESCRIPTION:Story Time is for children ages 5 and under and features books\, action/movement\, songs\, and a craft. Story Time is held Thursdays at 11:00 and 2:00 and Saturdays at 11:00. \n\n\n\n\n\n\n  \nBesides being fun\, Story Time also helps develop early literacy and school readiness skills through reading\, singing\, listening\, playing\, and social interaction. This program lasts approximately 30 minutes\, and caregivers and children are encouraged to linger in the library afterwards to further socialize and choose books to take home. \n  \nStory Time begins the first week of September and ends the first week of May.
URL:https://visitpikeville.com/event/story-time-2-2-2-2-2-2-2-2-2-2-2-2-2-2-2-2-2-2-2-2-2-2-2-2-2-2-2-2-2-2-2-2-2-2-2-2-2-2-2-2-2-2-2-2-2-2-2-2-2-2-2-2-2-2-2-3-2-2-2-2-2-2-2-2-2-2-2-2-2-2-2-2-2-2-2-2-2-2-2-2-2-2-2-2-2-2-2-2-2-2-2-2-2-47/
LOCATION:Pike County Public Library\, 126 Lee Avenue\, Pikeville\, KY\, 41501\, United States
CATEGORIES:Pike County Public Library
ATTACH;FMTTYPE=image/png:https://visitpikeville.com/wp-content/uploads/2025/10/Story_Time_Schedule_25.png
END:VEVENT
BEGIN:VEVENT
DTSTART;TZID=America/Kentucky/Louisville:20260122T140000
DTEND;TZID=America/Kentucky/Louisville:20260122T150000
DTSTAMP:20260423T112052
CREATED:20260112T163604Z
LAST-MODIFIED:20260112T163604Z
UID:72485-1769090400-1769094000@visitpikeville.com
SUMMARY:Story Time
DESCRIPTION:Story Time is for children ages 5 and under and features books\, action/movement\, songs\, and a craft. Story Time is held Thursdays at 11:00 and 2:00 and Saturdays at 11:00. \n\n\n\n\n\n\n  \nBesides being fun\, Story Time also helps develop early literacy and school readiness skills through reading\, singing\, listening\, playing\, and social interaction. This program lasts approximately 30 minutes\, and caregivers and children are encouraged to linger in the library afterwards to further socialize and choose books to take home. \n  \nStory Time begins the first week of September and ends the first week of May.
URL:https://visitpikeville.com/event/story-time-2-2-2-2-2-2-2-2-2-2-2-2-2-2-2-2-2-2-2-2-2-2-2-2-2-2-2-2-2-2-2-2-2-2-2-2-2-2-2-2-2-2-2-2-2-2-2-2-2-2-2-2-2-2-2-3-2-2-2-2-2-2-2-2-2-2-2-2-2-2-2-2-2-2-2-2-2-2-2-2-2-2-2-2-2-2-2-2-2-2-2-2-2-48/
LOCATION:Pike County Public Library\, 126 Lee Avenue\, Pikeville\, KY\, 41501\, United States
CATEGORIES:Pike County Public Library
ATTACH;FMTTYPE=image/png:https://visitpikeville.com/wp-content/uploads/2025/10/Story_Time_Schedule_25.png
END:VEVENT
BEGIN:VEVENT
DTSTART;TZID=America/Kentucky/Louisville:20260122T160000
DTEND;TZID=America/Kentucky/Louisville:20260122T170000
DTSTAMP:20260423T112052
CREATED:20260112T163650Z
LAST-MODIFIED:20260112T163650Z
UID:72487-1769097600-1769101200@visitpikeville.com
SUMMARY:Teen Guitar Class 2
DESCRIPTION:Beginner guitar lessons for patrons ages 13-17. This class meets weekly on Thursdays at 4:00. Please bring your own instrument. Registration required.
URL:https://visitpikeville.com/event/teen-guitar-class-2-3-2/
LOCATION:Pike County Public Library\, 126 Lee Avenue\, Pikeville\, KY\, 41501\, United States
CATEGORIES:Pike County Public Library
ATTACH;FMTTYPE=image/png:https://visitpikeville.com/wp-content/uploads/2026/01/music.png
END:VEVENT
BEGIN:VEVENT
DTSTART;TZID=America/Kentucky/Louisville:20260122T170000
DTEND;TZID=America/Kentucky/Louisville:20260122T180000
DTSTAMP:20260423T112052
CREATED:20260112T163812Z
LAST-MODIFIED:20260112T163812Z
UID:72489-1769101200-1769104800@visitpikeville.com
SUMMARY:Music Theory Lecture
DESCRIPTION:Understanding how music works will give you the tools you need to write riffs\, songs\, and solos\, and learn to improvise in a friendly hands-on environment.
URL:https://visitpikeville.com/event/music-theory-lecture-2/
LOCATION:Pike County Public Library\, 126 Lee Avenue\, Pikeville\, KY\, 41501\, United States
CATEGORIES:Pike County Public Library
ATTACH;FMTTYPE=image/png:https://visitpikeville.com/wp-content/uploads/2026/01/music.png
END:VEVENT
BEGIN:VEVENT
DTSTART;TZID=America/Kentucky/Louisville:20260122T170000
DTEND;TZID=America/Kentucky/Louisville:20260122T210000
DTSTAMP:20260423T112052
CREATED:20260106T183109Z
LAST-MODIFIED:20260106T183109Z
UID:72369-1769101200-1769115600@visitpikeville.com
SUMMARY:Sit N Sew Beginners
DESCRIPTION:Come and Join Us
URL:https://visitpikeville.com/event/beginners-sewing-2-2-2-2-2-2-2-2-2-2-2-2-2-2-2-2-2-2-2-2-2-2-2-2-2-2-2-2-2-2-2-2-2-2-2-2-2-2-2-2-3-2-2-2-2-2-2-2-2/
LOCATION:Bridgett’s Quilting and Fabric Shop\, 237 2nd St\,\, Pikeville\, KY\, 41501\, United States
CATEGORIES:Pikeville Main Street
ATTACH;FMTTYPE=image/jpeg:https://visitpikeville.com/wp-content/uploads/2023/10/bridgetts.jpeg
END:VEVENT
BEGIN:VEVENT
DTSTART;TZID=America/Kentucky/Louisville:20260122T173000
DTEND;TZID=America/Kentucky/Louisville:20260122T193000
DTSTAMP:20260423T112052
CREATED:20260119T160318Z
LAST-MODIFIED:20260119T160318Z
UID:72635-1769103000-1769110200@visitpikeville.com
SUMMARY:THURSDAY PAINT CLASS
DESCRIPTION:THURSDAY PAINT CLASS — JANUARY 22 @ 5:30 PM \nWe’re painting this dreamy “Springtime in Paris” scene with soft cherry blossoms\, the Eiffel Tower\, and a sweet umbrella stroll! \n\n\n Beginner-friendly + step-by-step instruction\n Pre-drawn canvas (no drawing required!)\n Come paint with friends or make it a cute date night!\n\n\n 2 Broke Art Teachers (Pikeville)\n Thursday\, January 22 • 5:30 PM\n Private message to reserve your seat (limited spots!)
URL:https://visitpikeville.com/event/thursday-paint-class/
LOCATION:KY
CATEGORIES:Other
ATTACH;FMTTYPE=image/jpeg:https://visitpikeville.com/wp-content/uploads/2026/01/springtime.jpg
END:VEVENT
END:VCALENDAR