BEGIN:VCALENDAR
VERSION:2.0
PRODID:-//Visit Pikeville - ECPv6.15.20//NONSGML v1.0//EN
CALSCALE:GREGORIAN
METHOD:PUBLISH
X-WR-CALNAME:Visit Pikeville
X-ORIGINAL-URL:https://visitpikeville.com
X-WR-CALDESC:Events for Visit Pikeville
REFRESH-INTERVAL;VALUE=DURATION:PT1H
X-Robots-Tag:noindex
X-PUBLISHED-TTL:PT1H
BEGIN:VTIMEZONE
TZID:America/Kentucky/Louisville
BEGIN:DAYLIGHT
TZOFFSETFROM:-0500
TZOFFSETTO:-0400
TZNAME:EDT
DTSTART:20240310T070000
END:DAYLIGHT
BEGIN:STANDARD
TZOFFSETFROM:-0400
TZOFFSETTO:-0500
TZNAME:EST
DTSTART:20241103T060000
END:STANDARD
BEGIN:DAYLIGHT
TZOFFSETFROM:-0500
TZOFFSETTO:-0400
TZNAME:EDT
DTSTART:20250309T070000
END:DAYLIGHT
BEGIN:STANDARD
TZOFFSETFROM:-0400
TZOFFSETTO:-0500
TZNAME:EST
DTSTART:20251102T060000
END:STANDARD
BEGIN:DAYLIGHT
TZOFFSETFROM:-0500
TZOFFSETTO:-0400
TZNAME:EDT
DTSTART:20260308T070000
END:DAYLIGHT
BEGIN:STANDARD
TZOFFSETFROM:-0400
TZOFFSETTO:-0500
TZNAME:EST
DTSTART:20261101T060000
END:STANDARD
END:VTIMEZONE
BEGIN:VEVENT
DTSTART;TZID=America/Kentucky/Louisville:20251215T140000
DTEND;TZID=America/Kentucky/Louisville:20251215T150000
DTSTAMP:20260423T130014
CREATED:20251201T143807Z
LAST-MODIFIED:20251201T143807Z
UID:71768-1765807200-1765810800@visitpikeville.com
SUMMARY:Music Theory for Homeschoolers
DESCRIPTION:Understanding how music works will give you the tools you need to write riffs\, songs\, and solos\, and learn to improvise in a friendly hands-on environment. \n\n\n\n\n\n\n  \nClass is held every Monday at the Pike County Public Library (Lee Ave) at 2:00. \nNo previous knowledge of music theory or reading music is necessary\, but this class is for students who already know how to play a little bit.
URL:https://visitpikeville.com/event/basic-computer-skills-5-2-2-2-2-2-2-2-2-2-2-2-2-2-2-2-2-2-2-2-2-2/
LOCATION:Pike County Public Library\, 126 Lee Avenue\, Pikeville\, KY\, 41501\, United States
CATEGORIES:Pike County Public Library
ATTACH;FMTTYPE=image/png:https://visitpikeville.com/wp-content/uploads/2025/07/GuitarEmblem.png
END:VEVENT
BEGIN:VEVENT
DTSTART;TZID=America/Kentucky/Louisville:20251215T160000
DTEND;TZID=America/Kentucky/Louisville:20251215T170000
DTSTAMP:20260423T130014
CREATED:20251201T155159Z
LAST-MODIFIED:20251201T155159Z
UID:71848-1765814400-1765818000@visitpikeville.com
SUMMARY:Teen Time
DESCRIPTION:Teens ages 13-17 are invited to hang out\, get creative\, and have fun at Teen Time\, meeting alternating Mondays at 4:00. \n\n\n\n\n\n\n  \nJoin us in the Teen Room for a mix of crafts\, games\, video game tournaments\, snacks\, and more. It’s a great chance to relax\, meet new friends\, and try something new each week. No registration needed.
URL:https://visitpikeville.com/event/teen-time-3-2-2-2-2/
LOCATION:Pike County Public Library\, 126 Lee Avenue\, Pikeville\, KY\, 41501\, United States
CATEGORIES:Pike County Public Library
ATTACH;FMTTYPE=image/png:https://visitpikeville.com/wp-content/uploads/2025/10/Teen_Time_updated.png
END:VEVENT
BEGIN:VEVENT
DTSTART;TZID=America/Kentucky/Louisville:20251215T170000
DTEND;TZID=America/Kentucky/Louisville:20251215T180000
DTSTAMP:20260423T130014
CREATED:20250929T133829Z
LAST-MODIFIED:20250929T133829Z
UID:69005-1765818000-1765821600@visitpikeville.com
SUMMARY:Pike County 4-H Teen Council
DESCRIPTION:Are you a teen looking to grow as a leader and make a difference? The Pike County 4-H Teen Council is the perfect place to: Create and lead community service projects Assist with school fairs and local events Earn opportunities to attend State 4-H trips and conferences Build friendships and develop leadership skills that last a lifetimeWe want YOU to be part of this exciting journey! Come see what 4-H Teen Council is all about — your voice matters!
URL:https://visitpikeville.com/event/pike-county-4-h-teen-council-2/
LOCATION:Pike County Extension Office\, 148 Trivette Dr\, Pikeville\, KY\, 41501\, United States
CATEGORIES:Pike County Cooperative Extension Office
ATTACH;FMTTYPE=image/jpeg:https://visitpikeville.com/wp-content/uploads/2025/09/teen.jpg
END:VEVENT
BEGIN:VEVENT
DTSTART;TZID=America/Kentucky/Louisville:20251215T170000
DTEND;TZID=America/Kentucky/Louisville:20251215T180000
DTSTAMP:20260423T130014
CREATED:20251103T124108Z
LAST-MODIFIED:20251103T124108Z
UID:70686-1765818000-1765821600@visitpikeville.com
SUMMARY:Pike County 4-H Teen Council
DESCRIPTION:Are you a teen looking to grow as a leader and make a difference? The Pike County 4-H Teen Council is the perfect place to: Create and lead community service projects Assist with school fairs and local events Earn opportunities to attend State 4-H trips and conferences Build friendships and develop leadership skills that last a lifetimeWe want YOU to be part of this exciting journey! Come see what 4-H Teen Council is all about — your voice matters!
URL:https://visitpikeville.com/event/pike-county-4-h-teen-council-3/
LOCATION:Pike County Extension Office\, 148 Trivette Dr\, Pikeville\, KY\, 41501\, United States
CATEGORIES:Pike County Cooperative Extension Office
ATTACH;FMTTYPE=image/jpeg:https://visitpikeville.com/wp-content/uploads/2025/11/teen-council.jpg
END:VEVENT
END:VCALENDAR