BEGIN:VCALENDAR
VERSION:2.0
PRODID:-//Visit Pikeville - ECPv6.15.20//NONSGML v1.0//EN
CALSCALE:GREGORIAN
METHOD:PUBLISH
X-WR-CALNAME:Visit Pikeville
X-ORIGINAL-URL:https://visitpikeville.com
X-WR-CALDESC:Events for Visit Pikeville
REFRESH-INTERVAL;VALUE=DURATION:PT1H
X-Robots-Tag:noindex
X-PUBLISHED-TTL:PT1H
BEGIN:VTIMEZONE
TZID:America/Kentucky/Louisville
BEGIN:DAYLIGHT
TZOFFSETFROM:-0500
TZOFFSETTO:-0400
TZNAME:EDT
DTSTART:20240310T070000
END:DAYLIGHT
BEGIN:STANDARD
TZOFFSETFROM:-0400
TZOFFSETTO:-0500
TZNAME:EST
DTSTART:20241103T060000
END:STANDARD
BEGIN:DAYLIGHT
TZOFFSETFROM:-0500
TZOFFSETTO:-0400
TZNAME:EDT
DTSTART:20250309T070000
END:DAYLIGHT
BEGIN:STANDARD
TZOFFSETFROM:-0400
TZOFFSETTO:-0500
TZNAME:EST
DTSTART:20251102T060000
END:STANDARD
BEGIN:DAYLIGHT
TZOFFSETFROM:-0500
TZOFFSETTO:-0400
TZNAME:EDT
DTSTART:20260308T070000
END:DAYLIGHT
BEGIN:STANDARD
TZOFFSETFROM:-0400
TZOFFSETTO:-0500
TZNAME:EST
DTSTART:20261101T060000
END:STANDARD
END:VTIMEZONE
BEGIN:VEVENT
DTSTART;TZID=America/Kentucky/Louisville:20251212T090000
DTEND;TZID=America/Kentucky/Louisville:20251213T180000
DTSTAMP:20260423T130014
CREATED:20251211T121648Z
LAST-MODIFIED:20251211T121648Z
UID:72042-1765530000-1765648800@visitpikeville.com
SUMMARY:Bluegrass Knife and Arms Show
DESCRIPTION:This Friday and Saturday!
URL:https://visitpikeville.com/event/bluegrass-knife-and-arms-show/
LOCATION:Appalachian Wireless Arena\, 126 Main Street\, Pikeville\, Ky\, 41501
CATEGORIES:Appalachian Wireless Arena
ATTACH;FMTTYPE=image/jpeg:https://visitpikeville.com/wp-content/uploads/2025/12/KNIFE-SHOW.jpg
END:VEVENT
BEGIN:VEVENT
DTSTART;TZID=America/Kentucky/Louisville:20251213T100000
DTEND;TZID=America/Kentucky/Louisville:20251213T110000
DTSTAMP:20260423T130014
CREATED:20250922T133235Z
LAST-MODIFIED:20250922T133235Z
UID:68744-1765620000-1765623600@visitpikeville.com
SUMMARY:Pint Sized Pianist
DESCRIPTION:Ms. Beth is back for an encore! Explore the piano in this Music Appreciation class for ages 6 and under! Meets the second Saturday of the month at 10:00\, October-December. No registration required.
URL:https://visitpikeville.com/event/pint-sized-pianist-2-2/
LOCATION:Pike County Public Library\, 126 Lee Avenue\, Pikeville\, KY\, 41501\, United States
CATEGORIES:Pike County Public Library
ATTACH;FMTTYPE=image/jpeg:https://visitpikeville.com/wp-content/uploads/2025/09/pianist.jpg
END:VEVENT
BEGIN:VEVENT
DTSTART;TZID=America/Kentucky/Louisville:20251213T110000
DTEND;TZID=America/Kentucky/Louisville:20251213T120000
DTSTAMP:20260423T130014
CREATED:20251201T154637Z
LAST-MODIFIED:20251201T154637Z
UID:71840-1765623600-1765627200@visitpikeville.com
SUMMARY:Story Time
DESCRIPTION:Story Time is for children ages 5 and under and features books\, action/movement\, songs\, and a craft. Story Time is held Thursdays at 11:00 and 2:00 and Saturdays at 11:00. \n\n\n\n\n\n\n  \nBesides being fun\, Story Time also helps develop early literacy and school readiness skills through reading\, singing\, listening\, playing\, and social interaction. This program lasts approximately 30 minutes\, and caregivers and children are encouraged to linger in the library afterwards to further socialize and choose books to take home. \n  \nStory Time begins the first week of September and ends the first week of May.
URL:https://visitpikeville.com/event/story-time-2-2-2-2-2-2-2-2-2-2-2-2-2-2-2-2-2-2-2-2-2-2-2-2-2-2-2-2-2-2-2-2-2-2-2-2-2-2-2-2-2-2-2-2-2-2-2-2-2-2-2-2-2-2-2-3-2-2-2-2-2-2-2-2-2-2-2-2-2-2-2-2-2-2-2-2-2-2-2-2-2-2-2-2-2-2-2-2-2-2-2-2-2-41/
LOCATION:Pike County Public Library\, 126 Lee Avenue\, Pikeville\, KY\, 41501\, United States
CATEGORIES:Pike County Public Library
ATTACH;FMTTYPE=image/png:https://visitpikeville.com/wp-content/uploads/2025/10/Story_Time_Schedule_25.png
END:VEVENT
BEGIN:VEVENT
DTSTART;TZID=America/Kentucky/Louisville:20251213T110000
DTEND;TZID=America/Kentucky/Louisville:20251213T220000
DTSTAMP:20260423T130014
CREATED:20251124T142009Z
LAST-MODIFIED:20251124T142009Z
UID:71634-1765623600-1765663200@visitpikeville.com
SUMMARY:Ice Skating Rink
DESCRIPTION:Get ready to glide into the holidays!  The Winterfest Simulated Ice Skating Rink is OPENING SOON at Pikeville City Park!Lace up those skates and make some magical memories with the whole family. Whether you’re a seasoned skater or trying it for the first time\, join us for some festive fun! Dates: November 29 – December 31  Location: Pikeville City ParkHours Opening Weekend:Saturday: 11 AM – 10 PMSunday: 2 PM – 6 PM Admission (includes skate rental!):Adults: $10/hrChildren 6 & Under: $6/hrPLUS! Look out for Carriage Rides and the Whitewater Shrine Mini-Train Rides on select dates!Come create your perfect winter moment in Pikeville! We can’t wait to see you there!
URL:https://visitpikeville.com/event/ice-skating-rink-3-2-2-2-2-2-2/
LOCATION:Pikeville City Park\, 101 Cumberland Ct\,\, Pikeville\, KY\, 41501
CATEGORIES:City of Pikeville,Pikeville Tourism
ATTACH;FMTTYPE=image/jpeg:https://visitpikeville.com/wp-content/uploads/2025/11/ice-skating.jpg
END:VEVENT
BEGIN:VEVENT
DTSTART;TZID=America/Kentucky/Louisville:20251213T130000
DTEND;TZID=America/Kentucky/Louisville:20251213T150000
DTSTAMP:20260423T130014
CREATED:20251208T153131Z
LAST-MODIFIED:20251208T153131Z
UID:72030-1765630800-1765638000@visitpikeville.com
SUMMARY:FAMILY PAINT CLASS
DESCRIPTION:Saturday\, December 13\, 2025\n 1:00 PM\n $20 per painter\n\n\nPick your favorite painting from the options shown and join us for a fun\, family-friendly afternoon of creativity! \n All supplies included\n Perfect for kids & adults\n No experience needed\n\n\n Paint a snowman\, polar bear\, angel\, Grinch\, ornament\, reindeer & more!
URL:https://visitpikeville.com/event/family-paint-class-13/
LOCATION:2 Broke Art Teachers\, 4505 Weddington Square\,\, Pikeville\, KY\, 41501\, United States
CATEGORIES:Other
ATTACH;FMTTYPE=image/jpeg:https://visitpikeville.com/wp-content/uploads/2025/12/family-dec-13.jpg
END:VEVENT
BEGIN:VEVENT
DTSTART;TZID=America/Kentucky/Louisville:20251213T150000
DTEND;TZID=America/Kentucky/Louisville:20251213T170000
DTSTAMP:20260423T130014
CREATED:20251208T140807Z
LAST-MODIFIED:20251208T140807Z
UID:71986-1765638000-1765645200@visitpikeville.com
SUMMARY:A BLUEGRASS CHRISTMAS CAROL
DESCRIPTION:The ticket link is LIVE!! Reserve your tickets now to see ‘A BLUEGRASS CHRISTMAS CAROL’ running December 5th through 21st! Friday and Saturday nights at 7:30p.m.\, and Sunday matinees at 3p.m. All shows at the Pikeville High School Auditorium. Tickets are only $12. If purchasing through the link\, you can pick your tickets up at the door the night/day of the show! We can’t wait to celebrate the holiday season with you! https://checkout.square.site/…/OI4BN4RWHBWRGPP6MMJ44FDE…
URL:https://visitpikeville.com/event/a-bluegrass-christmas-carol-2-2-2/
LOCATION:Pikeville High School\, 120 Championship Dr\,\, Pikeville\, KY\, 41501\, United States
CATEGORIES:Other
ATTACH;FMTTYPE=image/jpeg:https://visitpikeville.com/wp-content/uploads/2025/12/CHRISTMAS-CAROL.jpg
END:VEVENT
BEGIN:VEVENT
DTSTART;TZID=America/Kentucky/Louisville:20251213T160000
DTEND;TZID=America/Kentucky/Louisville:20251213T190000
DTSTAMP:20260423T130014
CREATED:20251117T195128Z
LAST-MODIFIED:20251117T195128Z
UID:71412-1765641600-1765652400@visitpikeville.com
SUMMARY:Meet And Greet
DESCRIPTION:Amy Slaton from the TLC Show 1000lb Sisters
URL:https://visitpikeville.com/event/meet-and-greet/
LOCATION:Fazoli’s of Pikeville\, 1302 South Mayo Trail\,\, Pikeville\, KY\, 41501\, United States
CATEGORIES:Other
ATTACH;FMTTYPE=image/jpeg:https://visitpikeville.com/wp-content/uploads/2025/11/amy-slaton.jpg
END:VEVENT
BEGIN:VEVENT
DTSTART;TZID=America/Kentucky/Louisville:20251213T160000
DTEND;TZID=America/Kentucky/Louisville:20251213T200000
DTSTAMP:20260423T130014
CREATED:20251124T143708Z
LAST-MODIFIED:20251124T143708Z
UID:71664-1765641600-1765656000@visitpikeville.com
SUMMARY:Carriage Rides
DESCRIPTION:We are pleased to announce that carriage rides will be offered this Friday and Saturday from 4-8.Guests can enjoy a relaxing\, scenic ride for $15 per person.This is a wonderful opportunity for families\, couples\, and individuals to experience a charming and traditional carriage outing.We look forward to providing you with a memorable and enjoyable experience.Call and book with us at 606-794-9881
URL:https://visitpikeville.com/event/carriage-rides-7-2-2-2-2-2/
LOCATION:Downtown Pikeville\, Pikeville\, Ky\, 41501
CATEGORIES:Pikeville Main Street,Pikeville Tourism
ATTACH;FMTTYPE=image/jpeg:https://visitpikeville.com/wp-content/uploads/2025/11/carriage.jpg
END:VEVENT
BEGIN:VEVENT
DTSTART;TZID=America/Kentucky/Louisville:20251213T170000
DTEND;TZID=America/Kentucky/Louisville:20251213T190000
DTSTAMP:20260423T130014
CREATED:20251208T152815Z
LAST-MODIFIED:20251208T152815Z
UID:72028-1765645200-1765652400@visitpikeville.com
SUMMARY:Paint Class – Pick Your Favorite
DESCRIPTION:Choose from 9 festive designs and paint with us for a fun holiday night out!\n\n\n Friday\, Dec. 12 at 5:30\n Saturday\, Dec. 13 at 5:00\n $25 per painter\n\n\n No experience neededa\n All supplies included
URL:https://visitpikeville.com/event/paint-class-pick-your-favorite-2/
LOCATION:2 Broke Art Teachers\, 4505 Weddington Square\,\, Pikeville\, KY\, 41501\, United States
CATEGORIES:Other
ATTACH;FMTTYPE=image/jpeg:https://visitpikeville.com/wp-content/uploads/2025/12/paint-class-favorite.jpg
END:VEVENT
BEGIN:VEVENT
DTSTART;TZID=America/Kentucky/Louisville:20251213T193000
DTEND;TZID=America/Kentucky/Louisville:20251213T213000
DTSTAMP:20260423T130014
CREATED:20250217T153240Z
LAST-MODIFIED:20250217T153240Z
UID:62937-1765654200-1765661400@visitpikeville.com
SUMMARY:Annie The Musical
DESCRIPTION:With equal measures of luck and positivity\, little orphan Annie charms everyone’s hearts despite a next-to-nothing start in 1930s New York City. She is determined to find the parents who abandoned her years ago on the doorstep of a New York City Orphanage that is run by the cruel\, embittered Miss Hannigan. \nWith the help of the other girls in the Orphanage\, Annie escapes to the wondrous world of NYC. In adventure after fun-filled adventure\, Annie foils Miss Hannigan’s evil machinations… and even befriends President Franklin Delano Roosevelt! \nShe finds a new home and family in billionaire\, Oliver Warbucks\, his personal secretary\, Grace Farrell\, and a lovable mutt named Sandy. \nTickets:\nIn Advance: Adult: $20 | Kids (up to 18) | Seniors (65+) $13\nAt Door: Adult: $22 | Kids (up to 18) | Seniors (65+) $15
URL:https://visitpikeville.com/event/annie-the-musical-2-3-2/
LOCATION:Appalachian Center for the Arts\, 218 2nd St\,\, Pikeville\, Ky\, 41501
CATEGORIES:The Appalachian Center for the Arts
ATTACH;FMTTYPE=image/jpeg:https://visitpikeville.com/wp-content/uploads/2025/02/annie.jpg
END:VEVENT
BEGIN:VEVENT
DTSTART;TZID=America/Kentucky/Louisville:20251213T193000
DTEND;TZID=America/Kentucky/Louisville:20251213T223000
DTSTAMP:20260423T130014
CREATED:20251208T144106Z
LAST-MODIFIED:20251208T144106Z
UID:72006-1765654200-1765665000@visitpikeville.com
SUMMARY:Live Music at Bank 253
DESCRIPTION:Jayden Wright \n7:30 – 10:30 pm
URL:https://visitpikeville.com/event/live-music-at-bank-253-3-2-2-2-2-2-2-2-2-2-2-2-2-2-2-2-2-2-2-2-2-2-2-2-2-2-2-2-2-2-2-2-2-2-3-2-2-2-2-2-2-3/
LOCATION:Bank 253\, 253 2nd St\,\, Pikeville\, KY\, 41501\, United States
CATEGORIES:Other
ATTACH;FMTTYPE=image/jpeg:https://visitpikeville.com/wp-content/uploads/2025/09/BANK-253.jpg
END:VEVENT
END:VCALENDAR