BEGIN:VCALENDAR
VERSION:2.0
PRODID:-//Visit Pikeville - ECPv6.15.20//NONSGML v1.0//EN
CALSCALE:GREGORIAN
METHOD:PUBLISH
X-WR-CALNAME:Visit Pikeville
X-ORIGINAL-URL:https://visitpikeville.com
X-WR-CALDESC:Events for Visit Pikeville
REFRESH-INTERVAL;VALUE=DURATION:PT1H
X-Robots-Tag:noindex
X-PUBLISHED-TTL:PT1H
BEGIN:VTIMEZONE
TZID:America/Kentucky/Louisville
BEGIN:DAYLIGHT
TZOFFSETFROM:-0500
TZOFFSETTO:-0400
TZNAME:EDT
DTSTART:20240310T070000
END:DAYLIGHT
BEGIN:STANDARD
TZOFFSETFROM:-0400
TZOFFSETTO:-0500
TZNAME:EST
DTSTART:20241103T060000
END:STANDARD
BEGIN:DAYLIGHT
TZOFFSETFROM:-0500
TZOFFSETTO:-0400
TZNAME:EDT
DTSTART:20250309T070000
END:DAYLIGHT
BEGIN:STANDARD
TZOFFSETFROM:-0400
TZOFFSETTO:-0500
TZNAME:EST
DTSTART:20251102T060000
END:STANDARD
BEGIN:DAYLIGHT
TZOFFSETFROM:-0500
TZOFFSETTO:-0400
TZNAME:EDT
DTSTART:20260308T070000
END:DAYLIGHT
BEGIN:STANDARD
TZOFFSETFROM:-0400
TZOFFSETTO:-0500
TZNAME:EST
DTSTART:20261101T060000
END:STANDARD
END:VTIMEZONE
BEGIN:VEVENT
DTSTART;VALUE=DATE:20251211
DTEND;VALUE=DATE:20251212
DTSTAMP:20260423T140434
CREATED:20251006T121222Z
LAST-MODIFIED:20251006T121222Z
UID:69281-1765411200-1765497599@visitpikeville.com
SUMMARY:Men's Swimming vs Shawnee State University (Ohio)
DESCRIPTION:Men’s Swim
URL:https://visitpikeville.com/event/mens-swimming-vs-shawnee-state-university-ohio/
LOCATION:Pikeville YMCA\, 424 Bob Amos Dr\,\, Pikeville\, Ky\, 41501
CATEGORIES:UPike
ATTACH;FMTTYPE=image/png:https://visitpikeville.com/wp-content/uploads/2025/10/Screenshot-2025-10-06-at-7.49.44-AM.png
END:VEVENT
BEGIN:VEVENT
DTSTART;TZID=America/Kentucky/Louisville:20251211T110000
DTEND;TZID=America/Kentucky/Louisville:20251211T120000
DTSTAMP:20260423T140434
CREATED:20251201T153910Z
LAST-MODIFIED:20251201T153910Z
UID:71824-1765450800-1765454400@visitpikeville.com
SUMMARY:Story Time
DESCRIPTION:Story Time is for children ages 5 and under and features books\, action/movement\, songs\, and a craft. Story Time is held Thursdays at 11:00 and 2:00 and Saturdays at 11:00. \n\n\n\n\n\n\n  \nBesides being fun\, Story Time also helps develop early literacy and school readiness skills through reading\, singing\, listening\, playing\, and social interaction. This program lasts approximately 30 minutes\, and caregivers and children are encouraged to linger in the library afterwards to further socialize and choose books to take home. \n  \nStory Time begins the first week of September and ends the first week of May.
URL:https://visitpikeville.com/event/story-time-2-2-2-2-2-2-2-2-2-2-2-2-2-2-2-2-2-2-2-2-2-2-2-2-2-2-2-2-2-2-2-2-2-2-2-2-2-2-2-2-2-2-2-2-2-2-2-2-2-2-2-2-2-2-2-3-2-2-2-2-2-2-2-2-2-2-2-2-2-2-2-2-2-2-2-2-2-2-2-2-2-2-2-2-2-2-2-2-2-2-2-2-2-4-2/
LOCATION:Pike County Public Library\, 126 Lee Avenue\, Pikeville\, KY\, 41501\, United States
CATEGORIES:Pike County Public Library
ATTACH;FMTTYPE=image/png:https://visitpikeville.com/wp-content/uploads/2025/10/Story_Time_Schedule_25.png
END:VEVENT
BEGIN:VEVENT
DTSTART;TZID=America/Kentucky/Louisville:20251211T140000
DTEND;TZID=America/Kentucky/Louisville:20251211T150000
DTSTAMP:20260423T140434
CREATED:20251201T154358Z
LAST-MODIFIED:20251201T154358Z
UID:71832-1765461600-1765465200@visitpikeville.com
SUMMARY:Story Time
DESCRIPTION:Story Time is for children ages 5 and under and features books\, action/movement\, songs\, and a craft. Story Time is held Thursdays at 11:00 and 2:00 and Saturdays at 11:00. \n\n\n\n\n\n\n  \nBesides being fun\, Story Time also helps develop early literacy and school readiness skills through reading\, singing\, listening\, playing\, and social interaction. This program lasts approximately 30 minutes\, and caregivers and children are encouraged to linger in the library afterwards to further socialize and choose books to take home. \n  \nStory Time begins the first week of September and ends the first week of May.
URL:https://visitpikeville.com/event/story-time-2-2-2-2-2-2-2-2-2-2-2-2-2-2-2-2-2-2-2-2-2-2-2-2-2-2-2-2-2-2-2-2-2-2-2-2-2-2-2-2-2-2-2-2-2-2-2-2-2-2-2-2-2-2-2-3-2-2-2-2-2-2-2-2-2-2-2-2-2-2-2-2-2-2-2-2-2-2-2-2-2-2-2-2-2-2-2-2-2-2-2-2-2-4-6/
LOCATION:Pike County Public Library\, 126 Lee Avenue\, Pikeville\, KY\, 41501\, United States
CATEGORIES:Pike County Public Library
ATTACH;FMTTYPE=image/png:https://visitpikeville.com/wp-content/uploads/2025/10/Story_Time_Schedule_25.png
END:VEVENT
BEGIN:VEVENT
DTSTART;TZID=America/Kentucky/Louisville:20251211T140000
DTEND;TZID=America/Kentucky/Louisville:20251211T180000
DTSTAMP:20260423T140434
CREATED:20251208T135842Z
LAST-MODIFIED:20251208T135842Z
UID:71978-1765461600-1765476000@visitpikeville.com
SUMMARY:Take a Picture with Santa Claus
DESCRIPTION:@YMCA
URL:https://visitpikeville.com/event/take-a-picture-with-santa-claus/
LOCATION:Pikeville YMCA\, 424 Bob Amos Dr\,\, Pikeville\, Ky\, 41501
CATEGORIES:Pikeville YMCA
ATTACH;FMTTYPE=image/jpeg:https://visitpikeville.com/wp-content/uploads/2025/12/ymca-santa.jpg
END:VEVENT
BEGIN:VEVENT
DTSTART;TZID=America/Kentucky/Louisville:20251211T160000
DTEND;TZID=America/Kentucky/Louisville:20251211T170000
DTSTAMP:20260423T140434
CREATED:20251201T151717Z
LAST-MODIFIED:20251201T151717Z
UID:71806-1765468800-1765472400@visitpikeville.com
SUMMARY:Teen Guitar Class 2
DESCRIPTION:Beginner guitar lessons for patrons ages 13-17. This class meets weekly on Thursdays at 4:00. Please bring your own instrument. Registration required. \n\n\n\n\n\n\n  \nPlease call the library at 606-437-6001 to check availability.
URL:https://visitpikeville.com/event/teen-guitar-class-3-2-2-2-2-2-2-2-2-3-2-2-2-2-2-2-2-2-2-2-2-2-2-2-2-2-2-2-2/
LOCATION:Pike County Public Library\, 126 Lee Avenue\, Pikeville\, KY\, 41501\, United States
CATEGORIES:Pike County Public Library
ATTACH;FMTTYPE=image/png:https://visitpikeville.com/wp-content/uploads/2025/05/theory.png
END:VEVENT
BEGIN:VEVENT
DTSTART;TZID=America/Kentucky/Louisville:20251211T170000
DTEND;TZID=America/Kentucky/Louisville:20251211T180000
DTSTAMP:20260423T140434
CREATED:20251201T153005Z
LAST-MODIFIED:20251201T153005Z
UID:71814-1765472400-1765476000@visitpikeville.com
SUMMARY:Music Theory for Guitarists
DESCRIPTION:Understanding how music works will give you the tools you need to write riffs\, songs\, and solos\, and learn to improvise in a friendly hands-on environment. \n\n\n\n\n\n\nClass is held weekly at the Pike County Public Library (Lee Ave) every Thursday at 5:00. \nNo previous knowledge of music theory or reading music is necessary\, but this class is for adults and teens who already know how to play a little bit. \nRegistration required. Please call the library to check availability. 606-437-6001.
URL:https://visitpikeville.com/event/music-theory-for-guitarists-6-2-2-2-2-2-2-2-2-2-2-2-2-2-2-2-2-2/
LOCATION:Pike County Public Library\, 126 Lee Avenue\, Pikeville\, KY\, 41501\, United States
CATEGORIES:Pike County Public Library
ATTACH;FMTTYPE=image/png:https://visitpikeville.com/wp-content/uploads/2025/05/theory.png
END:VEVENT
BEGIN:VEVENT
DTSTART;TZID=America/Kentucky/Louisville:20251211T170000
DTEND;TZID=America/Kentucky/Louisville:20251211T180000
DTSTAMP:20260423T140434
CREATED:20251201T162823Z
LAST-MODIFIED:20251201T162823Z
UID:71884-1765472400-1765476000@visitpikeville.com
SUMMARY:Marbled Ornaments
DESCRIPTION:Create beautiful marbled ornaments using simple swirling techniques and bright colors! All supplies provided. A fun\, easy holiday craft perfect for decorating your tree or gifting to someone special. \n\n\n\n\n\n\n  \nThis program will be held Thursday\, December 11th at 5:00 at the Pike County Public Library. For teens and adults. Registration is required.
URL:https://visitpikeville.com/event/marbled-ornaments/
LOCATION:Pike County Public Library\, 126 Lee Avenue\, Pikeville\, KY\, 41501\, United States
CATEGORIES:Pike County Public Library
ATTACH;FMTTYPE=image/png:https://visitpikeville.com/wp-content/uploads/2025/12/Marbled_Ornaments.png
END:VEVENT
BEGIN:VEVENT
DTSTART;TZID=America/Kentucky/Louisville:20251211T170000
DTEND;TZID=America/Kentucky/Louisville:20251211T210000
DTSTAMP:20260423T140434
CREATED:20251203T175047Z
LAST-MODIFIED:20251203T175047Z
UID:71934-1765472400-1765486800@visitpikeville.com
SUMMARY:Sit N Sew Beginners
DESCRIPTION:Come and Join Us
URL:https://visitpikeville.com/event/beginners-sewing-2-2-2-2-2-2-2-2-2-2-2-2-2-2-2-2-2-2-2-2-2-2-2-2-2-2-2-2-2-2-2-2-2-2-2-2-2-2-2-2-3-2-2-2-2/
LOCATION:Bridgett’s Quilting and Fabric Shop\, 237 2nd St\,\, Pikeville\, KY\, 41501\, United States
CATEGORIES:Pikeville Main Street
ATTACH;FMTTYPE=image/jpeg:https://visitpikeville.com/wp-content/uploads/2023/10/bridgetts.jpeg
END:VEVENT
BEGIN:VEVENT
DTSTART;TZID=America/Kentucky/Louisville:20251211T193000
DTEND;TZID=America/Kentucky/Louisville:20251211T213000
DTSTAMP:20260423T140434
CREATED:20251208T140639Z
LAST-MODIFIED:20251208T140639Z
UID:71981-1765481400-1765488600@visitpikeville.com
SUMMARY:A BLUEGRASS CHRISTMAS CAROL
DESCRIPTION:The ticket link is LIVE!! Reserve your tickets now to see ‘A BLUEGRASS CHRISTMAS CAROL’ running December 5th through 21st! Friday and Saturday nights at 7:30p.m.\, and Sunday matinees at 3p.m. All shows at the Pikeville High School Auditorium. Tickets are only $12. If purchasing through the link\, you can pick your tickets up at the door the night/day of the show! We can’t wait to celebrate the holiday season with you! https://checkout.square.site/…/OI4BN4RWHBWRGPP6MMJ44FDE…
URL:https://visitpikeville.com/event/a-bluegrass-christmas-carol-2/
LOCATION:Pikeville High School\, 120 Championship Dr\,\, Pikeville\, KY\, 41501\, United States
CATEGORIES:Other
ATTACH;FMTTYPE=image/jpeg:https://visitpikeville.com/wp-content/uploads/2025/12/CHRISTMAS-CAROL.jpg
END:VEVENT
END:VCALENDAR