BEGIN:VCALENDAR
VERSION:2.0
PRODID:-//Visit Pikeville - ECPv6.15.20//NONSGML v1.0//EN
CALSCALE:GREGORIAN
METHOD:PUBLISH
X-WR-CALNAME:Visit Pikeville
X-ORIGINAL-URL:https://visitpikeville.com
X-WR-CALDESC:Events for Visit Pikeville
REFRESH-INTERVAL;VALUE=DURATION:PT1H
X-Robots-Tag:noindex
X-PUBLISHED-TTL:PT1H
BEGIN:VTIMEZONE
TZID:America/Kentucky/Louisville
BEGIN:DAYLIGHT
TZOFFSETFROM:-0500
TZOFFSETTO:-0400
TZNAME:EDT
DTSTART:20240310T070000
END:DAYLIGHT
BEGIN:STANDARD
TZOFFSETFROM:-0400
TZOFFSETTO:-0500
TZNAME:EST
DTSTART:20241103T060000
END:STANDARD
BEGIN:DAYLIGHT
TZOFFSETFROM:-0500
TZOFFSETTO:-0400
TZNAME:EDT
DTSTART:20250309T070000
END:DAYLIGHT
BEGIN:STANDARD
TZOFFSETFROM:-0400
TZOFFSETTO:-0500
TZNAME:EST
DTSTART:20251102T060000
END:STANDARD
BEGIN:DAYLIGHT
TZOFFSETFROM:-0500
TZOFFSETTO:-0400
TZNAME:EDT
DTSTART:20260308T070000
END:DAYLIGHT
BEGIN:STANDARD
TZOFFSETFROM:-0400
TZOFFSETTO:-0500
TZNAME:EST
DTSTART:20261101T060000
END:STANDARD
END:VTIMEZONE
BEGIN:VEVENT
DTSTART;TZID=America/Kentucky/Louisville:20251203T140000
DTEND;TZID=America/Kentucky/Louisville:20251203T150000
DTSTAMP:20260423T130014
CREATED:20251201T150346Z
LAST-MODIFIED:20251201T150346Z
UID:71786-1764770400-1764774000@visitpikeville.com
SUMMARY:Adult Guitar Class 2
DESCRIPTION:Beginner guitar lessons for patrons ages 18+. This class meets weekly on Wednesdays at 2:00. Please bring your own instrument. Registration required. \n\n\n\n\n\n\n  \nCall the library at 606-437-6001 to check availability.
URL:https://visitpikeville.com/event/adult-guitar-class-4-2-2-2-2-2-2-2-2-2-2-2-2-2-2-2-2-2-2-2-2-2-2-2-2-2-2-2-2-2-2-2-2/
LOCATION:Pike County Public Library\, 126 Lee Avenue\, Pikeville\, KY\, 41501\, United States
CATEGORIES:Pike County Public Library
ATTACH;FMTTYPE=image/png:https://visitpikeville.com/wp-content/uploads/2025/05/theory.png
END:VEVENT
BEGIN:VEVENT
DTSTART;TZID=America/Kentucky/Louisville:20251203T163000
DTEND;TZID=America/Kentucky/Louisville:20251203T173000
DTSTAMP:20260423T130014
CREATED:20251201T150850Z
LAST-MODIFIED:20251201T150850Z
UID:71794-1764779400-1764783000@visitpikeville.com
SUMMARY:Teen Guitar Class 1
DESCRIPTION:Beginner guitar lessons for patrons ages 13-17. This class meets weekly on Wednesdays at 4:30. Please bring your own instrument. Registration required. \n\n\n\n\n\n\n  \nPlease call the library at 606-437-6001 to check availability.
URL:https://visitpikeville.com/event/teen-guitar-class-3-2-2-2-2-2-2-2-2-2-2-2-2-2-2-2-2-2-2-2-2-2-2-2-2-2-2/
LOCATION:Pike County Public Library\, 126 Lee Avenue\, Pikeville\, KY\, 41501\, United States
CATEGORIES:Pike County Public Library
ATTACH;FMTTYPE=image/png:https://visitpikeville.com/wp-content/uploads/2025/05/theory.png
END:VEVENT
BEGIN:VEVENT
DTSTART;TZID=America/Kentucky/Louisville:20251203T170000
DTEND;TZID=America/Kentucky/Louisville:20251203T190000
DTSTAMP:20260423T130014
CREATED:20251124T144715Z
LAST-MODIFIED:20251124T144715Z
UID:71676-1764781200-1764788400@visitpikeville.com
SUMMARY:Photos with Santa
DESCRIPTION:Photos with Santa at the Pikeville-Pike County Tourism Welcome Center! \n\n\nBring the family—and your pets—for FREE photos with Pikeville Santa Wednesday\, December 3rd\, from 5–7 PM! Professional photos will be taken by Larry Epling.\n\n\n Pikeville-Pike County Tourism Welcome Center\n685 Hambley Blvd.\, Pikeville\, KY 41501\n3rd Floor (accessible by side elevator)\n\n\n Parking Options:\n• On-street parking\n• Baptist Church parking lot\n• Hardee’s lot across the street\n\n\nStop by\, get a great holiday photo\, and enjoy the festive atmosphere! Photos will be provided digitally.
URL:https://visitpikeville.com/event/photos-with-santa-3/
LOCATION:Pikeville-Pike County Tourism Welcome Center\, 685 Hambley Blvd\, KY\, 41501\, United States
CATEGORIES:Pikeville Tourism
ATTACH;FMTTYPE=image/jpeg:https://visitpikeville.com/wp-content/uploads/2025/11/photos.jpg
END:VEVENT
BEGIN:VEVENT
DTSTART;TZID=America/Kentucky/Louisville:20251203T180000
DTEND;TZID=America/Kentucky/Louisville:20251203T193000
DTSTAMP:20260423T130014
CREATED:20251203T174909Z
LAST-MODIFIED:20251203T174909Z
UID:71930-1764784800-1764790200@visitpikeville.com
SUMMARY:Free Fabric Ornament Making Class
DESCRIPTION:@FaithLife
URL:https://visitpikeville.com/event/free-fabric-ornament-making-class/
LOCATION:Faith Life Market\, 130 Division St\,\, Pikeville\, KY\, 41501\, United States
CATEGORIES:Other
ATTACH;FMTTYPE=image/jpeg:https://visitpikeville.com/wp-content/uploads/2025/07/faith.jpg
END:VEVENT
BEGIN:VEVENT
DTSTART;TZID=America/Kentucky/Louisville:20251203T180000
DTEND;TZID=America/Kentucky/Louisville:20251203T200000
DTSTAMP:20260423T130014
CREATED:20250630T122039Z
LAST-MODIFIED:20250630T122039Z
UID:65310-1764784800-1764792000@visitpikeville.com
SUMMARY:Sesame Street Live Elmo & Friends Say Hello
DESCRIPTION:Appalachian Wireless Arena\nPikeville\, KY\nWed\, Dec 3\, 2025\nDoors – 5:00pm\nShow – 6:00pm\nTickets start at $29\nOn sale Friday\, June 27th\nVisit the Community Trust Bank Box Office or Ticketmaster.com\nhttps://www.ticketmaster.com/event/160062D28FEE1A4E
URL:https://visitpikeville.com/event/sesame-street-live-elmo-friends-say-hello/
LOCATION:Appalachian Wireless Arena\, 126 Main Street\, Pikeville\, Ky\, 41501
CATEGORIES:Appalachian Wireless Arena
ATTACH;FMTTYPE=image/jpeg:https://visitpikeville.com/wp-content/uploads/2025/06/elmo.jpg
END:VEVENT
END:VCALENDAR