BEGIN:VCALENDAR
VERSION:2.0
PRODID:-//Visit Pikeville - ECPv6.15.20//NONSGML v1.0//EN
CALSCALE:GREGORIAN
METHOD:PUBLISH
X-WR-CALNAME:Visit Pikeville
X-ORIGINAL-URL:https://visitpikeville.com
X-WR-CALDESC:Events for Visit Pikeville
REFRESH-INTERVAL;VALUE=DURATION:PT1H
X-Robots-Tag:noindex
X-PUBLISHED-TTL:PT1H
BEGIN:VTIMEZONE
TZID:America/Kentucky/Louisville
BEGIN:DAYLIGHT
TZOFFSETFROM:-0500
TZOFFSETTO:-0400
TZNAME:EDT
DTSTART:20240310T070000
END:DAYLIGHT
BEGIN:STANDARD
TZOFFSETFROM:-0400
TZOFFSETTO:-0500
TZNAME:EST
DTSTART:20241103T060000
END:STANDARD
BEGIN:DAYLIGHT
TZOFFSETFROM:-0500
TZOFFSETTO:-0400
TZNAME:EDT
DTSTART:20250309T070000
END:DAYLIGHT
BEGIN:STANDARD
TZOFFSETFROM:-0400
TZOFFSETTO:-0500
TZNAME:EST
DTSTART:20251102T060000
END:STANDARD
BEGIN:DAYLIGHT
TZOFFSETFROM:-0500
TZOFFSETTO:-0400
TZNAME:EDT
DTSTART:20260308T070000
END:DAYLIGHT
BEGIN:STANDARD
TZOFFSETFROM:-0400
TZOFFSETTO:-0500
TZNAME:EST
DTSTART:20261101T060000
END:STANDARD
END:VTIMEZONE
BEGIN:VEVENT
DTSTART;TZID=America/Kentucky/Louisville:20251126T140000
DTEND;TZID=America/Kentucky/Louisville:20251126T150000
DTSTAMP:20260423T135613
CREATED:20251103T135155Z
LAST-MODIFIED:20251103T135155Z
UID:70751-1764165600-1764169200@visitpikeville.com
SUMMARY:Adult Guitar Class 2
DESCRIPTION:Beginner guitar lessons for patrons ages 18+. This class meets weekly on Wednesdays at 2:00. Please bring your own instrument. Registration required. \n\n\n\n\n\n\n  \nCall the library at 606-437-6001 to check availability.
URL:https://visitpikeville.com/event/adult-guitar-class-4-2-2-2-2-2-2-2-2-2-2-2-2-2-2-2-2-2-2-2-2-2-2-2-2-2-2-2-2-2-2/
LOCATION:Pike County Public Library\, 126 Lee Avenue\, Pikeville\, KY\, 41501\, United States
CATEGORIES:Pike County Public Library
ATTACH;FMTTYPE=image/png:https://visitpikeville.com/wp-content/uploads/2025/05/theory.png
END:VEVENT
BEGIN:VEVENT
DTSTART;TZID=America/Kentucky/Louisville:20251126T163000
DTEND;TZID=America/Kentucky/Louisville:20251126T173000
DTSTAMP:20260423T135613
CREATED:20251103T135552Z
LAST-MODIFIED:20251103T135552Z
UID:70759-1764174600-1764178200@visitpikeville.com
SUMMARY:Teen Guitar Class 1
DESCRIPTION:Beginner guitar lessons for patrons ages 13-17. This class meets weekly on Wednesdays at 4:30. Please bring your own instrument. Registration required. \n\n\n\n\n\n\n  \nPlease call the library at 606-437-6001 to check availability.
URL:https://visitpikeville.com/event/teen-guitar-class-3-2-2-2-2-2-2-2-2-2-2-2-2-2-2-2-2-2-2-2-2-2-2-2-2-2/
LOCATION:Pike County Public Library\, 126 Lee Avenue\, Pikeville\, KY\, 41501\, United States
CATEGORIES:Pike County Public Library
ATTACH;FMTTYPE=image/png:https://visitpikeville.com/wp-content/uploads/2025/05/theory.png
END:VEVENT
BEGIN:VEVENT
DTSTART;TZID=America/Kentucky/Louisville:20251126T180000
DTEND;TZID=America/Kentucky/Louisville:20251126T200000
DTSTAMP:20260423T135613
CREATED:20251031T202700Z
LAST-MODIFIED:20251031T202700Z
UID:70598-1764180000-1764187200@visitpikeville.com
SUMMARY:MTG Pauper Night
DESCRIPTION:@The Gaming Co.
URL:https://visitpikeville.com/event/mtg-pauper-night-2/
LOCATION:The Gaming Co.\, 265 Hambley Boulevard\,\, Pikeville\, KY\, 41501\, United States
CATEGORIES:Other
ATTACH;FMTTYPE=image/jpeg:https://visitpikeville.com/wp-content/uploads/2025/10/gaming-.jpg
END:VEVENT
BEGIN:VEVENT
DTSTART;TZID=America/Kentucky/Louisville:20251126T190000
DTEND;TZID=America/Kentucky/Louisville:20251126T210000
DTSTAMP:20260423T135613
CREATED:20251103T130648Z
LAST-MODIFIED:20251103T130648Z
UID:70717-1764183600-1764190800@visitpikeville.com
SUMMARY:Open Mic Night
DESCRIPTION:Open Mic Night in Pikeville\nCome join us this Wednesday from 7 to 9 PM upstairs at Dueling Barrels for another night of live talent and laid-back fun. Whether you sing\, play\, tell jokes\, read poetry\, or just want to listen and unwind\, the stage is open and the atmosphere is welcoming.\n\n\n Use the blue door entrance at 244 Second Street in downtown Pikeville.\n\n\nGrab a drink\, bring some friends\, and be part of a great midweek crowd.\nPlease drink responsibly.
URL:https://visitpikeville.com/event/open-mic-night-3-2-2-2-2-2-2-2/
LOCATION:Dueling Barrels\, 226 2nd Street\, Pikeville\, KY\, 41501\, United States
CATEGORIES:Other
ATTACH;FMTTYPE=image/jpeg:https://visitpikeville.com/wp-content/uploads/2025/10/open-mic.jpg
END:VEVENT
BEGIN:VEVENT
DTSTART;TZID=America/Kentucky/Louisville:20251126T193000
DTEND;TZID=America/Kentucky/Louisville:20251127T000000
DTSTAMP:20260423T135613
CREATED:20251110T134704Z
LAST-MODIFIED:20251110T134704Z
UID:71094-1764185400-1764201600@visitpikeville.com
SUMMARY:Brody Birchfield
DESCRIPTION:  \n@7:30pm – 12:00am
URL:https://visitpikeville.com/event/live-music-at-bank-253-3-2-2-2-2-2-2-2-2-2-2-2-2-2-2-2-2-2-2-2-2-2-2-2-2-2-2-2-2-2-2-2-2-2-2-2-2-2-3-3/
LOCATION:Bank 253\, 253 2nd St\,\, Pikeville\, KY\, 41501\, United States
CATEGORIES:Other
ATTACH;FMTTYPE=image/jpeg:https://visitpikeville.com/wp-content/uploads/2025/09/BANK-253.jpg
END:VEVENT
END:VCALENDAR