BEGIN:VCALENDAR
VERSION:2.0
PRODID:-//Visit Pikeville - ECPv6.15.20//NONSGML v1.0//EN
CALSCALE:GREGORIAN
METHOD:PUBLISH
X-ORIGINAL-URL:https://visitpikeville.com
X-WR-CALDESC:Events for Visit Pikeville
REFRESH-INTERVAL;VALUE=DURATION:PT1H
X-Robots-Tag:noindex
X-PUBLISHED-TTL:PT1H
BEGIN:VTIMEZONE
TZID:America/Kentucky/Louisville
BEGIN:DAYLIGHT
TZOFFSETFROM:-0500
TZOFFSETTO:-0400
TZNAME:EDT
DTSTART:20240310T070000
END:DAYLIGHT
BEGIN:STANDARD
TZOFFSETFROM:-0400
TZOFFSETTO:-0500
TZNAME:EST
DTSTART:20241103T060000
END:STANDARD
BEGIN:DAYLIGHT
TZOFFSETFROM:-0500
TZOFFSETTO:-0400
TZNAME:EDT
DTSTART:20250309T070000
END:DAYLIGHT
BEGIN:STANDARD
TZOFFSETFROM:-0400
TZOFFSETTO:-0500
TZNAME:EST
DTSTART:20251102T060000
END:STANDARD
BEGIN:DAYLIGHT
TZOFFSETFROM:-0500
TZOFFSETTO:-0400
TZNAME:EDT
DTSTART:20260308T070000
END:DAYLIGHT
BEGIN:STANDARD
TZOFFSETFROM:-0400
TZOFFSETTO:-0500
TZNAME:EST
DTSTART:20261101T060000
END:STANDARD
END:VTIMEZONE
BEGIN:VEVENT
DTSTART;TZID=America/Kentucky/Louisville:20251124T100000
DTEND;TZID=America/Kentucky/Louisville:20251124T110000
DTSTAMP:20260423T135707
CREATED:20251124T141001Z
LAST-MODIFIED:20251124T141001Z
UID:71618-1763978400-1763982000@visitpikeville.com
SUMMARY:Support Group
DESCRIPTION:New Support Group at Lawson Cancer Center at Pikeville Medical Center.Are you currently undergoing chemotherapy or radiation treatment and looking for ways to feel more confident and comfortable during your journey? Treatment Makeover Support Group is a monthly gathering designed to help patients learn beauty and self-care techniques that can help combat the cosmetic effects of treatment. Each month will feature a focused topic\, such as: How to fill in thinning eyebrows. Creative ways to tie head scarves. Tips for sensitive skin care and more!Supplies and refreshments are provided!First Session: Monday\, November 24\, 2025Time: 10:00 – 11:00 a.m.Location: Community Outreach Office\, 10th Floor of the Clinic at Lawson Cancer CenterSpace is limited! Please RSVP to reserve your spot: 606-430-8513 or 606-213-1961
URL:https://visitpikeville.com/event/support-group/
LOCATION:Pikeville Medical Center\, 911 S Bypass Rd\,\, Pikeville\, KY\, 41501\, United States
CATEGORIES:Pikeville Medical Center
ATTACH;FMTTYPE=image/jpeg:https://visitpikeville.com/wp-content/uploads/2025/11/support-group.jpg
END:VEVENT
BEGIN:VEVENT
DTSTART;TZID=America/Kentucky/Louisville:20251124T140000
DTEND;TZID=America/Kentucky/Louisville:20251124T150000
DTSTAMP:20260423T135707
CREATED:20251103T131557Z
LAST-MODIFIED:20251103T131557Z
UID:70725-1763992800-1763996400@visitpikeville.com
SUMMARY:Music Theory for Homeschoolers
DESCRIPTION:Understanding how music works will give you the tools you need to write riffs\, songs\, and solos\, and learn to improvise in a friendly hands-on environment. \n\n\n\n\n\n\n  \nClass is held every Monday at the Pike County Public Library (Lee Ave) at 2:00. \nNo previous knowledge of music theory or reading music is necessary\, but this class is for students who already know how to play a little bit.
URL:https://visitpikeville.com/event/basic-computer-skills-5-2-2-2-2-2-2-2-2-2-2-2-2-2-2-2-2-2-2/
LOCATION:Pike County Public Library\, 126 Lee Avenue\, Pikeville\, KY\, 41501\, United States
CATEGORIES:Pike County Public Library
ATTACH;FMTTYPE=image/png:https://visitpikeville.com/wp-content/uploads/2025/07/GuitarEmblem.png
END:VEVENT
BEGIN:VEVENT
DTSTART;TZID=America/Kentucky/Louisville:20251124T170000
DTEND;TZID=America/Kentucky/Louisville:20251124T180000
DTSTAMP:20260423T135707
CREATED:20251103T143404Z
LAST-MODIFIED:20251103T143404Z
UID:70825-1764003600-1764007200@visitpikeville.com
SUMMARY:Alibis at The Book Club
DESCRIPTION:Alibis at The Book Club meets every other Monday at the Pike County Public Library (Lee Avenue). Join us for mystery\, thrills\, and lively discussion!
URL:https://visitpikeville.com/event/alibis-at-the-book-club-2-2/
LOCATION:Pike County Public Library\, 126 Lee Avenue\, Pikeville\, KY\, 41501\, United States
CATEGORIES:Pike County Public Library
ATTACH;FMTTYPE=image/png:https://visitpikeville.com/wp-content/uploads/2025/11/Alibis_at_The_Book_Club.png
END:VEVENT
BEGIN:VEVENT
DTSTART;TZID=America/Kentucky/Louisville:20251124T170000
DTEND;TZID=America/Kentucky/Louisville:20251124T210000
DTSTAMP:20260423T135707
CREATED:20251031T201917Z
LAST-MODIFIED:20251031T201917Z
UID:70590-1764003600-1764018000@visitpikeville.com
SUMMARY:Pokemon VGC Tournament with Hailey and Noah
DESCRIPTION:@The Gaming Co.
URL:https://visitpikeville.com/event/pokemon-vgc-tournament-with-hailey-and-noah-2/
LOCATION:The Gaming Co.\, 265 Hambley Boulevard\,\, Pikeville\, KY\, 41501\, United States
CATEGORIES:Other
ATTACH;FMTTYPE=image/jpeg:https://visitpikeville.com/wp-content/uploads/2025/10/gaming-.jpg
END:VEVENT
BEGIN:VEVENT
DTSTART;TZID=America/Kentucky/Louisville:20251124T180000
DTEND;TZID=America/Kentucky/Louisville:20251124T190000
DTSTAMP:20260423T135707
CREATED:20251110T124308Z
LAST-MODIFIED:20251110T124308Z
UID:71053-1764007200-1764010800@visitpikeville.com
SUMMARY:City Commission Meeting
DESCRIPTION:6pm @ City Hall
URL:https://visitpikeville.com/event/city-commission-meeting-2-2-2-2-2-2-2-2-2-2-2-2-2-2-2-2-2-2-2-2-2-2-2-2-2-2-2-2-2-2-2-2-2-2-2-2-2-2-2-2-2-2-2-2/
LOCATION:Pikeville City Hall\, 243 Main St #1786\,\, Pikeville\, KY\, 41501\, United States
CATEGORIES:City of Pikeville
ATTACH;FMTTYPE=image/png:https://visitpikeville.com/wp-content/uploads/2023/09/image001.png
END:VEVENT
BEGIN:VEVENT
DTSTART;TZID=America/Kentucky/Louisville:20251124T180000
DTEND;TZID=America/Kentucky/Louisville:20251124T200000
DTSTAMP:20260423T135707
CREATED:20251031T202212Z
LAST-MODIFIED:20251031T202212Z
UID:70594-1764007200-1764014400@visitpikeville.com
SUMMARY:Chess Casual Night With Cody
DESCRIPTION:@The Gaming Co.
URL:https://visitpikeville.com/event/chess-casual-night-with-cody-2/
LOCATION:The Gaming Co.\, 265 Hambley Boulevard\,\, Pikeville\, KY\, 41501\, United States
CATEGORIES:Other
ATTACH;FMTTYPE=image/jpeg:https://visitpikeville.com/wp-content/uploads/2025/10/gaming-.jpg
END:VEVENT
END:VCALENDAR